PDS_VERSION_ID = PDS3
/* FILE DATA ELEMENTS */
RECORD_TYPE = STREAM
/* POINTERS TO DATA OBJECTS */
^COMPRESSED_FILE = "HI973_0000_S13.JP2"
/* IDENTIFICATION DATA ELEMENTS */
DATA_SET_ID = "MEX-M-HRSC-5-REFDR-MAPPROJECTED-V3.0"
DATA_SET_NAME = "MARS EXPRESS HRSC MAP PROJECTED REFDR V3.0"
DETECTOR_ID = MEX_HRSC_S1
EVENT_TYPE = "MARS-REGIONAL-MAPPING-Im-Gl-Pf"
INSTRUMENT_HOST_ID = MEX
INSTRUMENT_HOST_NAME = "MARS EXPRESS"
INSTRUMENT_ID = HRSC
INSTRUMENT_NAME = "HIGH RESOLUTION STEREO CAMERA"
MISSION_NAME = "MARS EXPRESS"
MISSION_PHASE_NAME = ME_Phase_39
PROCESSING_LEVEL_ID = 3
PRODUCT_CREATION_TIME = 2019-02-22T11:38:04.000Z
PRODUCT_ID = "HI973_0000_S13.JP2"
RELEASE_ID = 0143
REVISION_ID = 0000
/* QUALITY DATA ELEMENTS */
DATA_QUALITY_ID = 1
DATA_QUALITY_DESC = "Data calculated based on original SPICE kernels"
/* TIME DATA ELEMENTS */
SPACECRAFT_CLOCK_START_COUNT = "1/0494316307.25683"
SPACECRAFT_CLOCK_STOP_COUNT = "1/0494316498.24179"
START_TIME = 2018-12-31T06:06:32.951Z
STOP_TIME = 2018-12-31T06:08:48.193Z
/* ORBITAL DATA ELEMENTS */
ASCENDING_NODE_LONGITUDE = 218.27
MAXIMUM_RESOLUTION = 27.6
FOOTPRINT_POINT_LATITUDE = (-53.5489,-53.523,-53.4914,-53.5595, -53.3624,-53.1644,-52.9665,-52.769, -52.5699,-52.3722,-52.1742,-51.9775, -51.7808,-51.5838,-51.3866,-51.1918, -50.9949,-50.7984,-50.6015,-50.4062, -50.2092,-49.9151,-49.7182,-49.5213, -49.3262,-49.1321,-48.9355,-48.74, -48.5462,-48.351,-48.1562,-47.9608, -47.7662,-47.4745,-47.1831,-46.989, -46.6974,-46.5028,-46.3088,-46.0179, -45.824,-45.63,-45.4363,-45.2424, -44.9518,-44.7583,-44.4676,-44.2739, -43.9759,-43.7733,-43.8031,-43.8349, -43.8537,-44.0576,-44.2573,-44.4508, -44.7409,-44.9325,-45.1204,-45.3186, -45.5194,-45.7142,-45.908,-46.102, -46.2952,-46.4881,-46.684,-46.9769, -47.2692,-47.5635,-47.7586,-48.0507, -48.2453,-48.4407,-48.7331,-49.025, -49.2214,-49.4145,-49.6115,-49.8074, -50.0013,-50.199,-50.3959,-50.5937, -50.789,-50.9891,-51.2856,-51.4802, -51.6781,-51.8756,-52.0711,-52.2695, -52.469,-52.6683,-52.8662,-53.0656, -53.2614,-53.4602,-53.6589,-53.5489)
FOOTPRINT_POINT_LONGITUDE = (324.66,324.145,323.557,322.936,322.96, 322.985,323.009,323.033,323.057,323.08, 323.103,323.125,323.147,323.169,323.19, 323.21,323.23,323.25,323.271,323.289, 323.309,323.337,323.356,323.375,323.392 ,323.409,323.427,323.444,323.459, 323.476,323.491,323.507,323.523,323.545 ,323.567,323.581,323.602,323.616,323.63 ,323.65,323.663,323.675,323.688,323.7, 323.719,323.73,323.748,323.76,323.778, 323.792,324.283,324.9,325.286,325.377, 325.37,325.363,325.353,325.345,325.335, 325.33,325.326,325.319,325.312,325.304, 325.296,325.288,325.281,325.27,325.258, 325.246,325.238,325.225,325.216,325.208 ,325.194,325.18,325.171,325.161,325.152 ,325.143,325.132,325.123,325.113, 325.104,325.093,325.084,325.069,325.057 ,325.047,325.036,325.024,325.014, 325.003,324.992,324.98,324.969,324.956, 324.944,324.932,324.66)
ORBIT_NUMBER = 18973
ORBITAL_ECCENTRICITY = 0.577
ORBITAL_INCLINATION = 86.98
ORBITAL_SEMIMAJOR_AXIS = 8788.47
PERIAPSIS_ALTITUDE = 328.81
PERIAPSIS_ARGUMENT_ANGLE = 309.96
PERIAPSIS_TIME = 2018-12-31T06:06:56.000Z
SPACECRAFT_ORIENTATION = (0.0,1.0,0.0)
^MEX_ORIENTATION_DESC = "MEX_ORIENTATION_DESC.TXT"
SPACECRAFT_POINTING_MODE = INERT
^MEX_POINTING_DESC = "MEX_POINTING_DESC.TXT"
RIGHT_ASCENSION = 31.754
DECLINATION = 55.811
OFFSET_ANGLE = -1e+32
SPACECRAFT_SOLAR_DISTANCE = 2.17309e+08
TARGET_NAME = MARS
/* CAMERA DATA ELEMENTS */
DETECTOR_TEMPERATURE = 17.1471
FOCAL_PLANE_TEMPERATURE = 8.5833
INST_CMPRS_NAME = "DISCRETE COSINE TRANSFORMATION (DCT)"
INST_CMPRS_RATIO = 9.87378
INST_CMPRS_QUALITY = 0
INST_CMPRS_QUANTZ_TBL_ID = 0
INSTRUMENT_TEMPERATURE = 11.234
LENS_TEMPERATURE = 8.7872
MACROPIXEL_SIZE = 2
MISSING_FRAMES = 0
PIXEL_SUBSAMPLING_FLAG = N
SIGNAL_CHAIN_ID = 1
/* RADIOMETRIC DATA ELEMENTS */
BANDWIDTH = 180.0
CENTER_FILTER_WAVELENGTH = 677.0
RADIANCE_OFFSET = 6.03183
RADIANCE_SCALING_FACTOR = 0.0168167
REFLECTANCE_SCALING_FACTOR = 0.000414321
MEX:REFLECTANCE_OFFSET = 0.148609
/* IMAGE OBJECT DEFINITIONS */
OBJECT = IMAGE
  INTERCHANGE_FORMAT = BINARY
  LINES = 23357
  LINE_SAMPLES = 3953
  SAMPLE_TYPE = UNSIGNED_INTEGER
  SAMPLE_BITS = 8
  BANDS = 1
  BAND_STORAGE_TYPE = BAND_SEQUENTIAL
  MAXIMUM = 255
  MEAN = 136.894
  MINIMUM = 1
  STANDARD_DEVIATION = 44.0692
END_OBJECT = IMAGE
/* MAP OBJECT DEFINITIONS */
OBJECT = IMAGE_MAP_PROJECTION
  ^DATA_SET_MAP_PROJECTION_CATALOG= "DSMAP.CAT"
  A_AXIS_RADIUS = 3396.0
  B_AXIS_RADIUS = 3396.0
  C_AXIS_RADIUS = 3396.0
  CENTER_LATITUDE = 0.0
  CENTER_LONGITUDE = 324.0
  COORDINATE_SYSTEM_NAME = PLANETOGRAPHIC
  COORDINATE_SYSTEM_TYPE = "BODY-FIXED ROTATING"
  EASTERNMOST_LONGITUDE = 325.377
  FIRST_STANDARD_PARALLEL = "N/A"
  LINE_FIRST_PIXEL = 1
  LINE_LAST_PIXEL = 23357
  LINE_PROJECTION_OFFSET = -103812.75
  MAP_PROJECTION_ROTATION = 0.0
  MAP_PROJECTION_TYPE = SINUSOIDAL
  MAP_RESOLUTION = 2370.85521546667
  MAP_SCALE = 0.025
  MAXIMUM_LATITUDE = -43.7733
  MINIMUM_LATITUDE = -53.6589
  POSITIVE_LONGITUDE_DIRECTION = EAST
  REFERENCE_LATITUDE = "N/A"
  REFERENCE_LONGITUDE = "N/A"
  SAMPLE_FIRST_PIXEL = 1
  SAMPLE_LAST_PIXEL = 3953
  SAMPLE_PROJECTION_OFFSET = 1344.25
  SECOND_STANDARD_PARALLEL = "N/A"
  WESTERNMOST_LONGITUDE = 322.936
END_OBJECT = IMAGE_MAP_PROJECTION
/* The JPEG2000 image data file associated with this label. */
OBJECT = COMPRESSED_FILE
  FILE_NAME = "HI973_0000_S13.JP2"
  RECORD_TYPE = UNDEFINED
  FILE_RECORDS = UNK
  ENCODING_TYPE = "JP2"
  INTERCHANGE_FORMAT = BINARY
  UNCOMPRESSED_FILE_NAME = "HI973_0000_S13.IMG"
  REQUIRED_STORAGE_BYTES = "92353939"
  ^DESCRIPTION = "JP2INFO.TXT"
END_OBJECT = COMPRESSED_FILE
END
