PDS_VERSION_ID = PDS3
/* FILE DATA ELEMENTS */
RECORD_TYPE = STREAM
/* POINTERS TO DATA OBJECTS */
^COMPRESSED_FILE = "HH810_0000_P23.JP2"
/* IDENTIFICATION DATA ELEMENTS */
DATA_SET_ID = "MEX-M-HRSC-5-REFDR-MAPPROJECTED-V3.0"
DATA_SET_NAME = "MARS EXPRESS HRSC MAP PROJECTED REFDR V3.0"
DETECTOR_ID = MEX_HRSC_P2
EVENT_TYPE = "MARS-REGIONAL-STEREO-Vo-Mw"
INSTRUMENT_HOST_ID = MEX
INSTRUMENT_HOST_NAME = "MARS EXPRESS"
INSTRUMENT_ID = HRSC
INSTRUMENT_NAME = "HIGH RESOLUTION STEREO CAMERA"
MISSION_NAME = "MARS EXPRESS"
MISSION_PHASE_NAME = ME_Phase_38
PROCESSING_LEVEL_ID = 3
PRODUCT_CREATION_TIME = 2018-09-04T13:05:27.000Z
PRODUCT_ID = "HH810_0000_P23.JP2"
RELEASE_ID = 0140
REVISION_ID = 0000
/* QUALITY DATA ELEMENTS */
DATA_QUALITY_ID = 1
DATA_QUALITY_DESC = "Data calculated based on original SPICE kernels"
/* TIME DATA ELEMENTS */
SPACECRAFT_CLOCK_START_COUNT = "1/0465079964.57144"
SPACECRAFT_CLOCK_STOP_COUNT = "1/0465080120.11268"
START_TIME = 2018-01-26T20:53:50.532Z
STOP_TIME = 2018-01-26T20:54:43.059Z
/* ORBITAL DATA ELEMENTS */
ASCENDING_NODE_LONGITUDE = 239.75
MAXIMUM_RESOLUTION = 32
FOOTPRINT_POINT_LATITUDE = (19.6078,19.6083,19.6088,19.6091, 19.6095,19.61,19.6103,19.6107,19.6112, 19.6115,19.6119,19.6123,19.6127,19.6131 ,19.5708,19.5055,19.4404,19.3753, 19.2776,19.1798,19.1147,19.0171,18.9521 ,18.8546,18.757,18.6596,18.5947,18.5298 ,18.4325,18.3352,18.2379,18.173,18.0755 ,17.9783,17.9136,17.8489,17.7519, 17.6549,17.5903,17.4934,17.4288,17.3319 ,17.1701,17.009,16.9124,16.7511,16.59, 16.4932,16.3962,16.3693,16.3686,16.3684 ,16.3687,16.3664,16.366,16.3654,16.3646 ,16.3638,16.3631,16.3623,16.3617, 16.3606,16.3927,16.4894,16.586,16.7148, 16.8116,16.8762,16.9731,17.0702,17.1348 ,17.2319,17.3293,17.4262,17.4907, 17.5554,17.6525,17.7497,17.8145,17.9119 ,18.0095,18.1068,18.1717,18.269,18.3339 ,18.3988,18.4963,18.594,18.659,18.7567, 18.8218,18.9194,19.0173,19.115,19.2131, 19.2783,19.3759,19.4412,19.5392, 19.6078)
FOOTPRINT_POINT_LONGITUDE = (105.356,105.26,105.149,105.08,104.998, 104.887,104.805,104.694,104.584,104.515 ,104.405,104.295,104.184,104.046, 103.975,103.975,103.974,103.974,103.973 ,103.972,103.972,103.971,103.97,103.969 ,103.968,103.968,103.967,103.966, 103.965,103.964,103.963,103.963,103.962 ,103.961,103.96,103.96,103.958,103.957, 103.957,103.956,103.955,103.954,103.952 ,103.95,103.949,103.947,103.945,103.944 ,103.943,104.028,104.129,104.243, 104.343,104.473,104.559,104.673,104.788 ,104.917,105.017,105.117,105.189, 105.304,105.424,105.424,105.424,105.424 ,105.424,105.424,105.423,105.424, 105.423,105.424,105.424,105.424,105.423 ,105.423,105.423,105.423,105.423, 105.423,105.423,105.423,105.423,105.423 ,105.423,105.423,105.423,105.423, 105.423,105.423,105.423,105.423,105.423 ,105.423,105.423,105.423,105.423, 105.423,105.423,105.356)
ORBIT_NUMBER = 17810
ORBITAL_ECCENTRICITY = 0.575
ORBITAL_INCLINATION = 86.96
ORBITAL_SEMIMAJOR_AXIS = 8832.74
PERIAPSIS_ALTITUDE = 361.33
PERIAPSIS_ARGUMENT_ANGLE = 150.74
PERIAPSIS_TIME = 2018-01-26T20:50:58.000Z
SPACECRAFT_ORIENTATION = (0.0,-1.0,0.0)
^MEX_ORIENTATION_DESC = "MEX_ORIENTATION_DESC.TXT"
SPACECRAFT_POINTING_MODE = ACROSSTRACK
^MEX_POINTING_DESC = "MEX_POINTING_DESC.TXT"
RIGHT_ASCENSION = -1e+32
DECLINATION = -1e+32
OFFSET_ANGLE = -0.15
SPACECRAFT_SOLAR_DISTANCE = 2.40516e+08
TARGET_NAME = MARS
/* CAMERA DATA ELEMENTS */
DETECTOR_TEMPERATURE = 0.0
FOCAL_PLANE_TEMPERATURE = 0.0
INST_CMPRS_NAME = "DISCRETE COSINE TRANSFORMATION (DCT)"
INST_CMPRS_RATIO = 5.27696
INST_CMPRS_QUALITY = 0
INST_CMPRS_QUANTZ_TBL_ID = 0
INSTRUMENT_TEMPERATURE = 0.0
LENS_TEMPERATURE = 0.0
MACROPIXEL_SIZE = 2
MISSING_FRAMES = 0
PIXEL_SUBSAMPLING_FLAG = N
SIGNAL_CHAIN_ID = 3
/* RADIOMETRIC DATA ELEMENTS */
BANDWIDTH = 177.0
CENTER_FILTER_WAVELENGTH = 676.5
RADIANCE_OFFSET = 2.40457
RADIANCE_SCALING_FACTOR = 0.0106315
REFLECTANCE_SCALING_FACTOR = 0.000326093
MEX:REFLECTANCE_OFFSET = 0.0737536
/* IMAGE OBJECT DEFINITIONS */
OBJECT = IMAGE
  INTERCHANGE_FORMAT = BINARY
  LINES = 11421
  LINE_SAMPLES = 3505
  SAMPLE_TYPE = UNSIGNED_INTEGER
  SAMPLE_BITS = 8
  BANDS = 1
  BAND_STORAGE_TYPE = BAND_SEQUENTIAL
  MAXIMUM = 255
  MEAN = 118.737
  MINIMUM = 1
  STANDARD_DEVIATION = 14.093
END_OBJECT = IMAGE
/* MAP OBJECT DEFINITIONS */
OBJECT = IMAGE_MAP_PROJECTION
  ^DATA_SET_MAP_PROJECTION_CATALOG= "DSMAP.CAT"
  A_AXIS_RADIUS = 3396.0
  B_AXIS_RADIUS = 3396.0
  C_AXIS_RADIUS = 3396.0
  CENTER_LATITUDE = 0.0
  CENTER_LONGITUDE = 105.0
  COORDINATE_SYSTEM_NAME = PLANETOGRAPHIC
  COORDINATE_SYSTEM_TYPE = "BODY-FIXED ROTATING"
  EASTERNMOST_LONGITUDE = 105.424
  FIRST_STANDARD_PARALLEL = "N/A"
  LINE_FIRST_PIXEL = 1
  LINE_LAST_PIXEL = 11421
  LINE_PROJECTION_OFFSET = 46499.75
  MAP_PROJECTION_ROTATION = 0.0
  MAP_PROJECTION_TYPE = SINUSOIDAL
  MAP_RESOLUTION = 2370.85521546667
  MAP_SCALE = 0.025
  MAXIMUM_LATITUDE = 19.6131
  MINIMUM_LATITUDE = 16.3606
  POSITIVE_LONGITUDE_DIRECTION = EAST
  REFERENCE_LATITUDE = "N/A"
  REFERENCE_LONGITUDE = "N/A"
  SAMPLE_FIRST_PIXEL = 1
  SAMPLE_LAST_PIXEL = 3505
  SAMPLE_PROJECTION_OFFSET = 2499.75
  SECOND_STANDARD_PARALLEL = "N/A"
  WESTERNMOST_LONGITUDE = 103.943
END_OBJECT = IMAGE_MAP_PROJECTION
/* The JPEG2000 image data file associated with this label. */
OBJECT = COMPRESSED_FILE
  FILE_NAME = "HH810_0000_P23.JP2"
  RECORD_TYPE = UNDEFINED
  FILE_RECORDS = UNK
  ENCODING_TYPE = "JP2"
  INTERCHANGE_FORMAT = BINARY
  UNCOMPRESSED_FILE_NAME = "HH810_0000_P23.IMG"
  REQUIRED_STORAGE_BYTES = "40051635"
  ^DESCRIPTION = "JP2INFO.TXT"
END_OBJECT = COMPRESSED_FILE
END
