PDS_VERSION_ID = PDS3
/* FILE DATA ELEMENTS */
RECORD_TYPE = STREAM
/* POINTERS TO DATA OBJECTS */
^COMPRESSED_FILE = "HA522_0000_S13.JP2"
/* IDENTIFICATION DATA ELEMENTS */
DATA_SET_ID = "MEX-M-HRSC-5-REFDR-MAPPROJECTED-V3.0"
DATA_SET_NAME = "MARS EXPRESS HRSC MAP PROJECTED REFDR V3.0"
DETECTOR_ID = MEX_HRSC_S1
EVENT_TYPE = "MARS-REGIONAL-MAPPING-Vo-Eo"
INSTRUMENT_HOST_ID = MEX
INSTRUMENT_HOST_NAME = "MARS EXPRESS"
INSTRUMENT_ID = HRSC
INSTRUMENT_NAME = "HIGH RESOLUTION STEREO CAMERA"
MISSION_NAME = "MARS EXPRESS"
MISSION_PHASE_NAME = ME_Phase_25
PROCESSING_LEVEL_ID = 3
PRODUCT_CREATION_TIME = 2016-10-27T15:49:42.000Z
PRODUCT_ID = "HA522_0000_S13.JP2"
RELEASE_ID = 0108
REVISION_ID = 0000
/* QUALITY DATA ELEMENTS */
DATA_QUALITY_ID = 1
DATA_QUALITY_DESC = "Data calculated based on original SPICE kernels"
/* TIME DATA ELEMENTS */
SPACECRAFT_CLOCK_START_COUNT = "1/0281636917.07292"
SPACECRAFT_CLOCK_STOP_COUNT = "1/0281637215.05138"
START_TIME = 2012-04-04T16:29:48.465Z
STOP_TIME = 2012-04-04T16:33:36.733Z
/* ORBITAL DATA ELEMENTS */
ASCENDING_NODE_LONGITUDE = 16.46
MAXIMUM_RESOLUTION = 32.5
FOOTPRINT_POINT_LATITUDE = (-23.8125,-23.8127,-23.8126,-23.6887, -23.4388,-23.189,-22.9399,-22.6906, -22.4422,-22.1942,-21.9468,-21.6988, -21.4522,-21.2059,-20.9601,-20.7142, -20.4689,-20.2178,-19.9672,-19.7173, -19.4677,-19.0869,-18.8315,-18.5763, -18.1925,-17.933,-17.674,-17.4156, -17.021,-16.7575,-16.4951,-16.2281, -15.9599,-15.559,-15.2867,-15.0148, -14.7436,-14.4676,-14.0541,-13.7755, -13.4952,-13.2153,-12.9314,-12.5053, -12.0734,-11.7858,-11.3481,-10.9079, -10.6117,-10.595,-10.589,-10.5822, -10.5779,-10.7206,-11.018,-11.4559, -11.7484,-12.1815,-12.4703,-12.7545, -13.04,-13.3226,-13.603,-14.0232, -14.2994,-14.5763,-14.9864,-15.2588, -15.6665,-15.9341,-16.2022,-16.4698, -16.7331,-16.9972,-17.2618,-17.5225, -17.7813,-18.0413,-18.4292,-18.6838, -18.9388,-19.1946,-19.4483,-19.6986, -20.0753,-20.3265,-20.5756,-20.8211, -21.067,-21.3134,-21.5613,-21.8081, -22.0556,-22.3038,-22.5524,-22.9263, -23.1757,-23.4258,-23.6763,-23.8125)
FOOTPRINT_POINT_LONGITUDE = (229.636,229.111,228.658,228.453, 228.451,228.449,228.447,228.445,228.443 ,228.441,228.438,228.436,228.433,228.43 ,228.427,228.424,228.421,228.417, 228.414,228.41,228.406,228.4,228.396, 228.392,228.385,228.38,228.375,228.37, 228.362,228.357,228.351,228.345,228.339 ,228.33,228.323,228.317,228.31,228.303, 228.292,228.284,228.276,228.268,228.26, 228.248,228.235,228.226,228.211,228.197 ,228.187,228.439,228.819,229.27,229.595 ,230.051,230.047,230.042,230.039, 230.034,230.031,230.027,230.024,230.022 ,230.018,230.014,230.011,230.008, 230.004,230.001,229.997,229.995,229.992 ,229.989,229.987,229.984,229.982, 229.979,229.977,229.974,229.971,229.968 ,229.966,229.963,229.961,229.959, 229.956,229.953,229.951,229.949,229.946 ,229.944,229.942,229.939,229.937, 229.935,229.932,229.929,229.926,229.924 ,229.922,229.636)
ORBIT_NUMBER = 10522
ORBITAL_ECCENTRICITY = 0.578
ORBITAL_INCLINATION = 86.89
ORBITAL_SEMIMAJOR_AXIS = 8818.27
PERIAPSIS_ALTITUDE = 332.02
PERIAPSIS_ARGUMENT_ANGLE = 321.69
PERIAPSIS_TIME = 2012-04-04T16:25:32.000Z
SPACECRAFT_ORIENTATION = (0.0,1.0,0.0)
^MEX_ORIENTATION_DESC = "MEX_ORIENTATION_DESC.TXT"
SPACECRAFT_POINTING_MODE = NADIR
^MEX_POINTING_DESC = "MEX_POINTING_DESC.TXT"
RIGHT_ASCENSION = -1e+32
DECLINATION = -1e+32
OFFSET_ANGLE = -1e+32
SPACECRAFT_SOLAR_DISTANCE = 2.47469e+08
TARGET_NAME = MARS
/* CAMERA DATA ELEMENTS */
DETECTOR_TEMPERATURE = 17.9627
FOCAL_PLANE_TEMPERATURE = 8.7872
INST_CMPRS_NAME = "DISCRETE COSINE TRANSFORMATION (DCT)"
INST_CMPRS_RATIO = 5.63494
INST_CMPRS_QUALITY = 0
INST_CMPRS_QUANTZ_TBL_ID = 0
INSTRUMENT_TEMPERATURE = 11.8457
LENS_TEMPERATURE = 9.195
MACROPIXEL_SIZE = 2
MISSING_FRAMES = 0
PIXEL_SUBSAMPLING_FLAG = N
SIGNAL_CHAIN_ID = 1
/* RADIOMETRIC DATA ELEMENTS */
BANDWIDTH = 180.0
CENTER_FILTER_WAVELENGTH = 677.0
RADIANCE_OFFSET = 0.947587
RADIANCE_SCALING_FACTOR = 0.0236897
REFLECTANCE_SCALING_FACTOR = 0.000756906
MEX:REFLECTANCE_OFFSET = 0.0302762
/* IMAGE OBJECT DEFINITIONS */
OBJECT = IMAGE
  INTERCHANGE_FORMAT = BINARY
  LINES = 31369
  LINE_SAMPLES = 4188
  SAMPLE_TYPE = UNSIGNED_INTEGER
  SAMPLE_BITS = 8
  BANDS = 1
  BAND_STORAGE_TYPE = BAND_SEQUENTIAL
  MAXIMUM = 255
  MEAN = 109.109
  MINIMUM = 1
  STANDARD_DEVIATION = 29.2734
END_OBJECT = IMAGE
/* MAP OBJECT DEFINITIONS */
OBJECT = IMAGE_MAP_PROJECTION
  ^DATA_SET_MAP_PROJECTION_CATALOG= "DSMAP.CAT"
  A_AXIS_RADIUS = 3396.0
  B_AXIS_RADIUS = 3396.0
  C_AXIS_RADIUS = 3396.0
  CENTER_LATITUDE = 0.0
  CENTER_LONGITUDE = 229.0
  COORDINATE_SYSTEM_NAME = PLANETOGRAPHIC
  COORDINATE_SYSTEM_TYPE = "BODY-FIXED ROTATING"
  EASTERNMOST_LONGITUDE = 230.051
  FIRST_STANDARD_PARALLEL = "N/A"
  LINE_FIRST_PIXEL = 1
  LINE_LAST_PIXEL = 31369
  LINE_PROJECTION_OFFSET = -25131.25
  MAP_PROJECTION_ROTATION = 0.0
  MAP_PROJECTION_TYPE = SINUSOIDAL
  MAP_RESOLUTION = 2370.85521546667
  MAP_SCALE = 0.025
  MAXIMUM_LATITUDE = -10.5779
  MINIMUM_LATITUDE = -23.8127
  POSITIVE_LONGITUDE_DIRECTION = EAST
  REFERENCE_LATITUDE = "N/A"
  REFERENCE_LONGITUDE = "N/A"
  SAMPLE_FIRST_PIXEL = 1
  SAMPLE_LAST_PIXEL = 4188
  SAMPLE_PROJECTION_OFFSET = 1814.25
  SECOND_STANDARD_PARALLEL = "N/A"
  WESTERNMOST_LONGITUDE = 228.187
END_OBJECT = IMAGE_MAP_PROJECTION
/* The JPEG2000 image data file associated with this label. */
OBJECT = COMPRESSED_FILE
  FILE_NAME = "HA522_0000_S13.JP2"
  RECORD_TYPE = UNDEFINED
  FILE_RECORDS = UNK
  ENCODING_TYPE = "JP2"
  INTERCHANGE_FORMAT = BINARY
  UNCOMPRESSED_FILE_NAME = "HA522_0000_S13.IMG"
  REQUIRED_STORAGE_BYTES = "131398500"
  ^DESCRIPTION = "JP2INFO.TXT"
END_OBJECT = COMPRESSED_FILE
END
