PDS_VERSION_ID = PDS3
/* FILE DATA ELEMENTS */
RECORD_TYPE = STREAM
/* POINTERS TO DATA OBJECTS */
^COMPRESSED_FILE = "H9665_0000_RE3.JP2"
/* IDENTIFICATION DATA ELEMENTS */
DATA_SET_ID = "MEX-M-HRSC-5-REFDR-MAPPROJECTED-V3.0"
DATA_SET_NAME = "MARS EXPRESS HRSC MAP PROJECTED REFDR V3.0"
DETECTOR_ID = MEX_HRSC_RED
EVENT_TYPE = "MARS-REGIONAL-MAPPING-Te-Im-Pf"
INSTRUMENT_HOST_ID = MEX
INSTRUMENT_HOST_NAME = "MARS EXPRESS"
INSTRUMENT_ID = HRSC
INSTRUMENT_NAME = "HIGH RESOLUTION STEREO CAMERA"
MISSION_NAME = "MARS EXPRESS"
MISSION_PHASE_NAME = ME_Phase_23
PROCESSING_LEVEL_ID = 3
PRODUCT_CREATION_TIME = 2016-07-16T01:52:17.000Z
PRODUCT_ID = "H9665_0000_RE3.JP2"
RELEASE_ID = 0099
REVISION_ID = 0000
/* QUALITY DATA ELEMENTS */
DATA_QUALITY_ID = 1
DATA_QUALITY_DESC = "Data calculated based on original SPICE kernels"
/* TIME DATA ELEMENTS */
SPACECRAFT_CLOCK_START_COUNT = "1/0260056681.07302"
SPACECRAFT_CLOCK_STOP_COUNT = "1/0260056963.46264"
START_TIME = 2011-07-29T21:59:23.556Z
STOP_TIME = 2011-07-29T22:02:32.964Z
/* ORBITAL DATA ELEMENTS */
ASCENDING_NODE_LONGITUDE = 32.72
MAXIMUM_RESOLUTION = 80.1
FOOTPRINT_POINT_LATITUDE = (50.8693,50.8655,50.8599,50.8533, 50.8459,50.8375,50.8236,50.6098,50.0292 ,49.6405,49.3474,49.1496,48.952,48.7548 ,48.558,48.2573,48.0568,47.8565,47.555, 47.3516,47.1487,46.8443,46.6383,46.4321 ,46.2264,46.0211,45.8121,45.499,45.2911 ,45.0798,44.7631,44.5524,44.3383, 44.0174,43.804,43.5871,43.3704,43.1545, 42.9352,42.7159,42.4972,42.2755,42.0538 ,41.7206,41.4959,41.2718,41.0454, 40.8185,40.5925,40.399,40.4005,40.4013, 40.4016,40.4009,40.4004,40.399,40.6292, 40.8568,41.0846,41.4239,41.6492,41.8744 ,42.0966,42.3192,42.5419,42.7618, 42.9823,43.2021,43.4191,43.6368,43.9615 ,44.1761,44.3913,44.6056,44.8174, 45.1359,45.348,45.6619,45.8715,46.0809, 46.2871,46.4939,46.701,46.907,47.2128, 47.4168,47.7226,48.0239,48.2249,48.4262 ,48.6266,48.8244,49.1219,49.3204, 49.5184,49.9082,50.1036,50.2994,50.6867 ,50.8693)
FOOTPRINT_POINT_LONGITUDE = (226.012,225.702,225.318,224.933, 224.546,224.158,223.595,223.536,223.587 ,223.619,223.643,223.658,223.674, 223.688,223.703,223.725,223.739,223.753 ,223.773,223.786,223.798,223.817,223.83 ,223.842,223.853,223.864,223.876, 223.892,223.902,223.912,223.927,223.936 ,223.946,223.959,223.968,223.976, 223.984,223.992,224.0,224.007,224.014, 224.021,224.028,224.037,224.043,224.049 ,224.054,224.06,224.064,224.414,224.733 ,225.078,225.473,225.815,226.286, 226.625,226.882,226.871,226.859,226.841 ,226.829,226.817,226.805,226.793,226.78 ,226.768,226.756,226.743,226.73,226.718 ,226.698,226.686,226.673,226.659, 226.646,226.626,226.613,226.592,226.579 ,226.565,226.551,226.537,226.523, 226.508,226.487,226.472,226.45,226.428, 226.413,226.397,226.382,226.367,226.343 ,226.328,226.312,226.28,226.263,226.247 ,226.214,226.012)
ORBIT_NUMBER = 9665
ORBITAL_ECCENTRICITY = 0.571
ORBITAL_INCLINATION = 86.89
ORBITAL_SEMIMAJOR_AXIS = 8770.18
PERIAPSIS_ALTITUDE = 380.5
PERIAPSIS_ARGUMENT_ANGLE = 109.56
PERIAPSIS_TIME = 2011-07-29T21:53:40.000Z
SPACECRAFT_ORIENTATION = (0.0,-1.0,0.0)
^MEX_ORIENTATION_DESC = "MEX_ORIENTATION_DESC.TXT"
SPACECRAFT_POINTING_MODE = ACROSSTRACK
^MEX_POINTING_DESC = "MEX_POINTING_DESC.TXT"
RIGHT_ASCENSION = -1e+32
DECLINATION = -1e+32
OFFSET_ANGLE = -0.5
SPACECRAFT_SOLAR_DISTANCE = 2.24203e+08
TARGET_NAME = MARS
/* CAMERA DATA ELEMENTS */
DETECTOR_TEMPERATURE = 18.3705
FOCAL_PLANE_TEMPERATURE = 7.5638
INST_CMPRS_NAME = "DISCRETE COSINE TRANSFORMATION (DCT)"
INST_CMPRS_RATIO = 21.3671
INST_CMPRS_QUALITY = 0
INST_CMPRS_QUANTZ_TBL_ID = 0
INSTRUMENT_TEMPERATURE = 11.0301
LENS_TEMPERATURE = 8.1755
MACROPIXEL_SIZE = 4
MISSING_FRAMES = 0
PIXEL_SUBSAMPLING_FLAG = N
SIGNAL_CHAIN_ID = 2
/* RADIOMETRIC DATA ELEMENTS */
BANDWIDTH = 48.0
CENTER_FILTER_WAVELENGTH = 748.0
RADIANCE_OFFSET = 1.76209
RADIANCE_SCALING_FACTOR = 0.00396967
REFLECTANCE_SCALING_FACTOR = 0.000455369
MEX:REFLECTANCE_OFFSET = 0.202133
/* IMAGE OBJECT DEFINITIONS */
OBJECT = IMAGE
  INTERCHANGE_FORMAT = BINARY
  LINES = 12576
  LINE_SAMPLES = 2703
  SAMPLE_TYPE = UNSIGNED_INTEGER
  SAMPLE_BITS = 8
  BANDS = 1
  BAND_STORAGE_TYPE = BAND_SEQUENTIAL
  MAXIMUM = 255
  MEAN = 113.56
  MINIMUM = 1
  STANDARD_DEVIATION = 51.1551
END_OBJECT = IMAGE
/* MAP OBJECT DEFINITIONS */
OBJECT = IMAGE_MAP_PROJECTION
  ^DATA_SET_MAP_PROJECTION_CATALOG= "DSMAP.CAT"
  A_AXIS_RADIUS = 3396.0
  B_AXIS_RADIUS = 3396.0
  C_AXIS_RADIUS = 3396.0
  CENTER_LATITUDE = 0.0
  CENTER_LONGITUDE = 225.0
  COORDINATE_SYSTEM_NAME = PLANETOGRAPHIC
  COORDINATE_SYSTEM_TYPE = "BODY-FIXED ROTATING"
  EASTERNMOST_LONGITUDE = 226.882
  FIRST_STANDARD_PARALLEL = "N/A"
  LINE_FIRST_PIXEL = 1
  LINE_LAST_PIXEL = 12576
  LINE_PROJECTION_OFFSET = 60426.875
  MAP_PROJECTION_ROTATION = 0.0
  MAP_PROJECTION_TYPE = SINUSOIDAL
  MAP_RESOLUTION = 1185.42760773333
  MAP_SCALE = 0.05
  MAXIMUM_LATITUDE = 50.8693
  MINIMUM_LATITUDE = 40.399
  POSITIVE_LONGITUDE_DIRECTION = EAST
  REFERENCE_LATITUDE = "N/A"
  REFERENCE_LONGITUDE = "N/A"
  SAMPLE_FIRST_PIXEL = 1
  SAMPLE_LAST_PIXEL = 2703
  SAMPLE_PROJECTION_OFFSET = 1081.375
  SECOND_STANDARD_PARALLEL = "N/A"
  WESTERNMOST_LONGITUDE = 223.536
END_OBJECT = IMAGE_MAP_PROJECTION
/* The JPEG2000 image data file associated with this label. */
OBJECT = COMPRESSED_FILE
  FILE_NAME = "H9665_0000_RE3.JP2"
  RECORD_TYPE = UNDEFINED
  FILE_RECORDS = UNK
  ENCODING_TYPE = "JP2"
  INTERCHANGE_FORMAT = BINARY
  UNCOMPRESSED_FILE_NAME = "H9665_0000_RE3.IMG"
  REQUIRED_STORAGE_BYTES = "34014552"
  ^DESCRIPTION = "JP2INFO.TXT"
END_OBJECT = COMPRESSED_FILE
END
