PDS_VERSION_ID = PDS3
/* FILE DATA ELEMENTS */
RECORD_TYPE = STREAM
/* POINTERS TO DATA OBJECTS */
^COMPRESSED_FILE = "H9658_0000_S13.JP2"
/* IDENTIFICATION DATA ELEMENTS */
DATA_SET_ID = "MEX-M-HRSC-5-REFDR-MAPPROJECTED-V3.0"
DATA_SET_NAME = "MARS EXPRESS HRSC MAP PROJECTED REFDR V3.0"
DETECTOR_ID = MEX_HRSC_S1
EVENT_TYPE = "MARS-REGIONAL-MAPPING-Te-Im-Pf"
INSTRUMENT_HOST_ID = MEX
INSTRUMENT_HOST_NAME = "MARS EXPRESS"
INSTRUMENT_ID = HRSC
INSTRUMENT_NAME = "HIGH RESOLUTION STEREO CAMERA"
MISSION_NAME = "MARS EXPRESS"
MISSION_PHASE_NAME = ME_Phase_23
PROCESSING_LEVEL_ID = 3
PRODUCT_CREATION_TIME = 2016-07-16T01:52:17.000Z
PRODUCT_ID = "H9658_0000_S13.JP2"
RELEASE_ID = 0099
REVISION_ID = 0000
/* QUALITY DATA ELEMENTS */
DATA_QUALITY_ID = 1
DATA_QUALITY_DESC = "Data calculated based on original SPICE kernels"
/* TIME DATA ELEMENTS */
SPACECRAFT_CLOCK_START_COUNT = "1/0259880256.08266"
SPACECRAFT_CLOCK_STOP_COUNT = "1/0259880685.62741"
START_TIME = 2011-07-27T20:57:39.215Z
STOP_TIME = 2011-07-27T21:02:54.437Z
/* ORBITAL DATA ELEMENTS */
ASCENDING_NODE_LONGITUDE = 32.85
MAXIMUM_RESOLUTION = 33
FOOTPRINT_POINT_LATITUDE = (60.629,60.5855,60.5357,60.4661,60.1611 ,59.7892,59.417,59.045,58.4863,58.1138, 57.5549,57.1816,56.8084,56.2486,55.8751 ,55.5018,55.1282,54.7548,54.3811, 54.0078,53.626,53.2424,52.6668,52.0916, 51.6991,51.3058,50.716,50.3211,49.917, 49.5139,49.111,48.4973,48.0851,47.673, 47.2545,46.8323,46.4109,45.9836,45.5525 ,45.1218,44.4627,44.0231,43.5761, 43.1273,42.445,41.9865,41.5224,41.0557, 40.5839,40.0874,40.1067,40.1314,40.1509 ,40.1632,40.1732,40.6497,41.1234, 41.5911,42.0569,42.5159,42.9755,43.4258 ,44.1003,44.7618,45.203,45.8509,46.2831 ,46.7079,47.1305,47.7625,48.176,48.5893 ,49.2059,49.6097,50.0142,50.6188, 51.0134,51.4081,51.8031,52.1977,52.7752 ,53.1601,53.5454,54.122,54.4975,55.0599 ,55.4349,55.8102,56.1851,56.5604, 56.9354,57.3102,57.6848,58.0599,58.6218 ,58.996,59.5578,59.9322,60.3064,60.629)
FOOTPRINT_POINT_LONGITUDE = (221.057,220.245,219.427,218.421, 218.364,218.445,218.524,218.6,218.71, 218.781,218.882,218.947,219.01,219.101, 219.158,219.215,219.269,219.322,219.372 ,219.422,219.47,219.518,219.586,219.65, 219.692,219.733,219.792,219.829,219.865 ,219.901,219.935,219.984,220.016, 220.046,220.075,220.104,220.131,220.157 ,220.183,220.207,220.241,220.263, 220.284,220.304,220.331,220.348,220.365 ,220.38,220.394,220.666,221.041,221.599 ,222.107,222.475,222.805,222.785, 222.765,222.745,222.724,222.703,222.681 ,222.659,222.625,222.59,222.566,222.53, 222.504,222.479,222.453,222.413,222.385 ,222.357,222.314,222.285,222.255, 222.208,222.177,222.145,222.112,222.078 ,222.027,221.991,221.955,221.899, 221.861,221.803,221.763,221.721,221.679 ,221.635,221.591,221.545,221.498, 221.449,221.374,221.322,221.242,221.186 ,221.129,221.057)
ORBIT_NUMBER = 9658
ORBITAL_ECCENTRICITY = 0.571
ORBITAL_INCLINATION = 86.89
ORBITAL_SEMIMAJOR_AXIS = 8771.38
PERIAPSIS_ALTITUDE = 380.1
PERIAPSIS_ARGUMENT_ANGLE = 110.77
PERIAPSIS_TIME = 2011-07-27T20:56:00.000Z
SPACECRAFT_ORIENTATION = (0.0,-1.0,0.0)
^MEX_ORIENTATION_DESC = "MEX_ORIENTATION_DESC.TXT"
SPACECRAFT_POINTING_MODE = ACROSSTRACK
^MEX_POINTING_DESC = "MEX_POINTING_DESC.TXT"
RIGHT_ASCENSION = -1e+32
DECLINATION = -1e+32
OFFSET_ANGLE = -0.45
SPACECRAFT_SOLAR_DISTANCE = 2.23805e+08
TARGET_NAME = MARS
/* CAMERA DATA ELEMENTS */
DETECTOR_TEMPERATURE = 17.5549
FOCAL_PLANE_TEMPERATURE = 8.7872
INST_CMPRS_NAME = "DISCRETE COSINE TRANSFORMATION (DCT)"
INST_CMPRS_RATIO = 11.9579
INST_CMPRS_QUALITY = 0
INST_CMPRS_QUANTZ_TBL_ID = 0
INSTRUMENT_TEMPERATURE = 11.4379
LENS_TEMPERATURE = 9.3989
MACROPIXEL_SIZE = 2
MISSING_FRAMES = 0
PIXEL_SUBSAMPLING_FLAG = N
SIGNAL_CHAIN_ID = 1
/* RADIOMETRIC DATA ELEMENTS */
BANDWIDTH = 180.0
CENTER_FILTER_WAVELENGTH = 677.0
RADIANCE_OFFSET = 5.12336
RADIANCE_SCALING_FACTOR = 0.0219349
REFLECTANCE_SCALING_FACTOR = 0.000573216
MEX:REFLECTANCE_OFFSET = 0.133887
/* IMAGE OBJECT DEFINITIONS */
OBJECT = IMAGE
  INTERCHANGE_FORMAT = BINARY
  LINES = 48374
  LINE_SAMPLES = 6532
  SAMPLE_TYPE = UNSIGNED_INTEGER
  SAMPLE_BITS = 8
  BANDS = 1
  BAND_STORAGE_TYPE = BAND_SEQUENTIAL
  MAXIMUM = 255
  MEAN = 117.324
  MINIMUM = 1
  STANDARD_DEVIATION = 45.4254
END_OBJECT = IMAGE
/* MAP OBJECT DEFINITIONS */
OBJECT = IMAGE_MAP_PROJECTION
  ^DATA_SET_MAP_PROJECTION_CATALOG= "DSMAP.CAT"
  A_AXIS_RADIUS = 3396.0
  B_AXIS_RADIUS = 3396.0
  C_AXIS_RADIUS = 3396.0
  CENTER_LATITUDE = 0.0
  CENTER_LONGITUDE = 221.0
  COORDINATE_SYSTEM_NAME = PLANETOGRAPHIC
  COORDINATE_SYSTEM_TYPE = "BODY-FIXED ROTATING"
  EASTERNMOST_LONGITUDE = 222.805
  FIRST_STANDARD_PARALLEL = "N/A"
  LINE_FIRST_PIXEL = 1
  LINE_LAST_PIXEL = 48374
  LINE_PROJECTION_OFFSET = 143450.75
  MAP_PROJECTION_ROTATION = 0.0
  MAP_PROJECTION_TYPE = SINUSOIDAL
  MAP_RESOLUTION = 2370.85521546667
  MAP_SCALE = 0.025
  MAXIMUM_LATITUDE = 60.629
  MINIMUM_LATITUDE = 40.0874
  POSITIVE_LONGITUDE_DIRECTION = EAST
  REFERENCE_LATITUDE = "N/A"
  REFERENCE_LONGITUDE = "N/A"
  SAMPLE_FIRST_PIXEL = 1
  SAMPLE_LAST_PIXEL = 6532
  SAMPLE_PROJECTION_OFFSET = 3148.75
  SECOND_STANDARD_PARALLEL = "N/A"
  WESTERNMOST_LONGITUDE = 218.364
END_OBJECT = IMAGE_MAP_PROJECTION
/* The JPEG2000 image data file associated with this label. */
OBJECT = COMPRESSED_FILE
  FILE_NAME = "H9658_0000_S13.JP2"
  RECORD_TYPE = UNDEFINED
  FILE_RECORDS = UNK
  ENCODING_TYPE = "JP2"
  INTERCHANGE_FORMAT = BINARY
  UNCOMPRESSED_FILE_NAME = "H9658_0000_S13.IMG"
  REQUIRED_STORAGE_BYTES = "316011628"
  ^DESCRIPTION = "JP2INFO.TXT"
END_OBJECT = COMPRESSED_FILE
END
