PDS_VERSION_ID = PDS3
/* FILE DATA ELEMENTS */
RECORD_TYPE = STREAM
/* POINTERS TO DATA OBJECTS */
^COMPRESSED_FILE = "H9638_0000_IR3.JP2"
/* IDENTIFICATION DATA ELEMENTS */
DATA_SET_ID = "MEX-M-HRSC-5-REFDR-MAPPROJECTED-V3.0"
DATA_SET_NAME = "MARS EXPRESS HRSC MAP PROJECTED REFDR V3.0"
DETECTOR_ID = MEX_HRSC_IR
EVENT_TYPE = "MARS-REGIONAL-MAPPING-Fl-Pf-Eo"
INSTRUMENT_HOST_ID = MEX
INSTRUMENT_HOST_NAME = "MARS EXPRESS"
INSTRUMENT_ID = HRSC
INSTRUMENT_NAME = "HIGH RESOLUTION STEREO CAMERA"
MISSION_NAME = "MARS EXPRESS"
MISSION_PHASE_NAME = ME_Phase_23
PROCESSING_LEVEL_ID = 3
PRODUCT_CREATION_TIME = 2016-07-16T01:52:17.000Z
PRODUCT_ID = "H9638_0000_IR3.JP2"
RELEASE_ID = 0099
REVISION_ID = 0000
/* QUALITY DATA ELEMENTS */
DATA_QUALITY_ID = 1
DATA_QUALITY_DESC = "Data calculated based on original SPICE kernels"
/* TIME DATA ELEMENTS */
SPACECRAFT_CLOCK_START_COUNT = "1/0259376694.09140"
SPACECRAFT_CLOCK_STOP_COUNT = "1/0259376943.64632"
START_TIME = 2011-07-22T01:05:03.546Z
STOP_TIME = 2011-07-22T01:07:43.136Z
/* ORBITAL DATA ELEMENTS */
ASCENDING_NODE_LONGITUDE = 33.23
MAXIMUM_RESOLUTION = 131.5
FOOTPRINT_POINT_LATITUDE = (55.6044,55.5913,55.579,55.5556,55.5371 ,55.146,54.8466,54.6467,54.4472,54.2469 ,54.0471,53.8468,53.6468,53.4466, 53.2468,53.0467,52.8466,52.5467,52.3467 ,52.1468,51.9468,51.7467,51.547,51.2472 ,50.9477,50.7477,50.548,50.2445,50.0396 ,49.8345,49.6296,49.4245,49.2194, 49.0146,48.8096,48.6049,48.2902,48.0803 ,47.8702,47.6603,47.4503,47.2406, 47.0307,46.8167,46.6015,46.3866,46.0644 ,45.8495,45.6348,45.4173,45.1657, 45.1768,45.1896,45.1967,45.2026,45.2123 ,45.4328,45.6518,45.8671,46.1902, 46.4057,46.7291,46.9447,47.1577,47.3681 ,47.5786,47.8944,48.105,48.4212,48.6319 ,48.8377,49.0431,49.2486,49.5569, 49.7625,50.071,50.2768,50.4817,50.6821, 50.9827,51.1832,51.3838,51.5841,51.8852 ,52.1861,52.3867,52.6876,52.8884, 53.0889,53.2896,53.5906,53.7913,54.0922 ,54.3934,54.594,54.7948,54.9955,55.2965 ,55.4972,55.6044)
FOOTPRINT_POINT_LONGITUDE = (107.721,107.309,106.963,106.379, 105.967,105.951,105.988,106.012,106.036 ,106.058,106.081,106.103,106.125, 106.146,106.167,106.187,106.208,106.237 ,106.256,106.275,106.294,106.312,106.33 ,106.356,106.382,106.398,106.414, 106.438,106.454,106.47,106.485,106.5, 106.515,106.529,106.543,106.557,106.577 ,106.59,106.604,106.616,106.629,106.641 ,106.653,106.665,106.676,106.688, 106.704,106.715,106.725,106.735,106.993 ,107.346,107.822,108.134,108.445, 108.957,108.948,108.939,108.929,108.915 ,108.905,108.89,108.88,108.869,108.859, 108.849,108.833,108.822,108.806,108.795 ,108.784,108.773,108.761,108.744, 108.733,108.715,108.703,108.691,108.678 ,108.66,108.647,108.635,108.622,108.602 ,108.582,108.568,108.547,108.533, 108.519,108.504,108.482,108.467,108.444 ,108.421,108.405,108.389,108.373, 108.348,108.331,107.721)
ORBIT_NUMBER = 9638
ORBITAL_ECCENTRICITY = 0.572
ORBITAL_INCLINATION = 86.88
ORBITAL_SEMIMAJOR_AXIS = 8780.38
PERIAPSIS_ALTITUDE = 378.67
PERIAPSIS_ARGUMENT_ANGLE = 114.22
PERIAPSIS_TIME = 2011-07-22T01:02:55.000Z
SPACECRAFT_ORIENTATION = (0.0,-1.0,0.0)
^MEX_ORIENTATION_DESC = "MEX_ORIENTATION_DESC.TXT"
SPACECRAFT_POINTING_MODE = NADIR
^MEX_POINTING_DESC = "MEX_POINTING_DESC.TXT"
RIGHT_ASCENSION = -1e+32
DECLINATION = -1e+32
OFFSET_ANGLE = -1e+32
SPACECRAFT_SOLAR_DISTANCE = 2.22674e+08
TARGET_NAME = MARS
/* CAMERA DATA ELEMENTS */
DETECTOR_TEMPERATURE = 17.7588
FOCAL_PLANE_TEMPERATURE = 7.7677
INST_CMPRS_NAME = "DISCRETE COSINE TRANSFORMATION (DCT)"
INST_CMPRS_RATIO = 25.4428
INST_CMPRS_QUALITY = 0
INST_CMPRS_QUANTZ_TBL_ID = 0
INSTRUMENT_TEMPERATURE = 11.0301
LENS_TEMPERATURE = 8.1755
MACROPIXEL_SIZE = 8
MISSING_FRAMES = 0
PIXEL_SUBSAMPLING_FLAG = N
SIGNAL_CHAIN_ID = 2
/* RADIOMETRIC DATA ELEMENTS */
BANDWIDTH = 81.0
CENTER_FILTER_WAVELENGTH = 955.5
RADIANCE_OFFSET = 1.18375
RADIANCE_SCALING_FACTOR = 0.00164721
REFLECTANCE_SCALING_FACTOR = 0.000176205
MEX:REFLECTANCE_OFFSET = 0.126628
/* IMAGE OBJECT DEFINITIONS */
OBJECT = IMAGE
  INTERCHANGE_FORMAT = BINARY
  LINES = 6154
  LINE_SAMPLES = 1135
  SAMPLE_TYPE = UNSIGNED_INTEGER
  SAMPLE_BITS = 8
  BANDS = 1
  BAND_STORAGE_TYPE = BAND_SEQUENTIAL
  MAXIMUM = 255
  MEAN = 119.547
  MINIMUM = 6
  STANDARD_DEVIATION = 46.7764
END_OBJECT = IMAGE
/* MAP OBJECT DEFINITIONS */
OBJECT = IMAGE_MAP_PROJECTION
  ^DATA_SET_MAP_PROJECTION_CATALOG= "DSMAP.CAT"
  A_AXIS_RADIUS = 3396.0
  B_AXIS_RADIUS = 3396.0
  C_AXIS_RADIUS = 3396.0
  CENTER_LATITUDE = 0.0
  CENTER_LONGITUDE = 108.0
  COORDINATE_SYSTEM_NAME = PLANETOGRAPHIC
  COORDINATE_SYSTEM_TYPE = "BODY-FIXED ROTATING"
  EASTERNMOST_LONGITUDE = 108.957
  FIRST_STANDARD_PARALLEL = "N/A"
  LINE_FIRST_PIXEL = 1
  LINE_LAST_PIXEL = 6154
  LINE_PROJECTION_OFFSET = 32932.1875
  MAP_PROJECTION_ROTATION = 0.0
  MAP_PROJECTION_TYPE = SINUSOIDAL
  MAP_RESOLUTION = 592.713803866667
  MAP_SCALE = 0.1
  MAXIMUM_LATITUDE = 55.6044
  MINIMUM_LATITUDE = 45.1657
  POSITIVE_LONGITUDE_DIRECTION = EAST
  REFERENCE_LATITUDE = "N/A"
  REFERENCE_LONGITUDE = "N/A"
  SAMPLE_FIRST_PIXEL = 1
  SAMPLE_LAST_PIXEL = 1135
  SAMPLE_PROJECTION_OFFSET = 718.0625
  SECOND_STANDARD_PARALLEL = "N/A"
  WESTERNMOST_LONGITUDE = 105.951
END_OBJECT = IMAGE_MAP_PROJECTION
/* The JPEG2000 image data file associated with this label. */
OBJECT = COMPRESSED_FILE
  FILE_NAME = "H9638_0000_IR3.JP2"
  RECORD_TYPE = UNDEFINED
  FILE_RECORDS = UNK
  ENCODING_TYPE = "JP2"
  INTERCHANGE_FORMAT = BINARY
  UNCOMPRESSED_FILE_NAME = "H9638_0000_IR3.IMG"
  REQUIRED_STORAGE_BYTES = "7004085"
  ^DESCRIPTION = "JP2INFO.TXT"
END_OBJECT = COMPRESSED_FILE
END
