PDS_VERSION_ID = PDS3
/* FILE DATA ELEMENTS */
RECORD_TYPE = STREAM
/* POINTERS TO DATA OBJECTS */
^COMPRESSED_FILE = "H9637_0000_GR3.JP2"
/* IDENTIFICATION DATA ELEMENTS */
DATA_SET_ID = "MEX-M-HRSC-5-REFDR-MAPPROJECTED-V3.0"
DATA_SET_NAME = "MARS EXPRESS HRSC MAP PROJECTED REFDR V3.0"
DETECTOR_ID = MEX_HRSC_GREEN
EVENT_TYPE = "MARS-REGIONAL-MAPPING-Te-Im-Pf"
INSTRUMENT_HOST_ID = MEX
INSTRUMENT_HOST_NAME = "MARS EXPRESS"
INSTRUMENT_ID = HRSC
INSTRUMENT_NAME = "HIGH RESOLUTION STEREO CAMERA"
MISSION_NAME = "MARS EXPRESS"
MISSION_PHASE_NAME = ME_Phase_23
PROCESSING_LEVEL_ID = 3
PRODUCT_CREATION_TIME = 2016-07-16T01:52:17.000Z
PRODUCT_ID = "H9637_0000_GR3.JP2"
RELEASE_ID = 0099
REVISION_ID = 0000
/* QUALITY DATA ELEMENTS */
DATA_QUALITY_ID = 1
DATA_QUALITY_DESC = "Data calculated based on original SPICE kernels"
/* TIME DATA ELEMENTS */
SPACECRAFT_CLOCK_START_COUNT = "1/0259351565.07291"
SPACECRAFT_CLOCK_STOP_COUNT = "1/0259351784.03364"
START_TIME = 2011-07-21T18:06:38.940Z
STOP_TIME = 2011-07-21T18:08:48.789Z
/* ORBITAL DATA ELEMENTS */
ASCENDING_NODE_LONGITUDE = 33.25
MAXIMUM_RESOLUTION = 66.3
FOOTPRINT_POINT_LATITUDE = (51.9132,51.9038,51.892,51.8835,51.8712 ,51.8578,51.667,51.36,51.1298,50.8233, 50.4403,50.1342,49.9006,49.7438,49.5869 ,49.4302,49.2736,49.117,48.9605,48.804, 48.6476,48.4111,48.2509,48.0908,47.9308 ,47.7708,47.611,47.4512,47.2915,47.1319 ,46.9697,46.8063,46.643,46.4798,46.3166 ,46.1536,45.9906,45.8278,45.5791, 45.4125,45.2461,45.0798,44.9135,44.7473 ,44.5813,44.4119,44.2421,44.0725,43.903 ,43.7336,43.7288,43.739,43.7498,43.7563 ,43.7641,43.77,43.9437,44.1137,44.2838, 44.4541,44.6244,44.791,45.041,45.2077, 45.3747,45.5417,45.7088,45.8751,46.0384 ,46.2018,46.3654,46.529,46.6927,46.8566 ,47.0205,47.1835,47.3436,47.5038, 47.6641,47.8245,47.985,48.1455,48.3061, 48.4668,48.626,48.7829,48.9398,49.0968, 49.2539,49.411,49.5682,49.8042,49.9616, 50.1963,50.5035,50.8108,51.1184,51.4263 ,51.7344,51.9132)
FOOTPRINT_POINT_LONGITUDE = (210.244,209.911,209.534,209.283, 208.947,208.611,208.134,208.164,208.186 ,208.214,208.249,208.275,208.295, 208.308,208.321,208.333,208.346,208.358 ,208.37,208.382,208.394,208.411,208.422 ,208.434,208.445,208.456,208.466, 208.477,208.487,208.498,208.508,208.518 ,208.528,208.537,208.547,208.556, 208.566,208.575,208.588,208.597,208.606 ,208.614,208.622,208.63,208.638,208.646 ,208.654,208.662,208.669,208.676,209.04 ,209.382,209.786,210.062,210.444, 210.782,210.95,210.942,210.934,210.925, 210.917,210.909,210.896,210.888,210.879 ,210.87,210.861,210.853,210.844,210.835 ,210.826,210.817,210.808,210.799, 210.789,210.78,210.771,210.761,210.752, 210.742,210.732,210.722,210.713,210.702 ,210.692,210.682,210.672,210.662, 210.652,210.641,210.631,210.615,210.604 ,210.588,210.566,210.544,210.521, 210.498,210.475,210.244)
ORBIT_NUMBER = 9637
ORBITAL_ECCENTRICITY = 0.572
ORBITAL_INCLINATION = 86.89
ORBITAL_SEMIMAJOR_AXIS = 8775.28
PERIAPSIS_ALTITUDE = 378.73
PERIAPSIS_ARGUMENT_ANGLE = 114.4
PERIAPSIS_TIME = 2011-07-21T18:03:12.000Z
SPACECRAFT_ORIENTATION = (0.0,-1.0,0.0)
^MEX_ORIENTATION_DESC = "MEX_ORIENTATION_DESC.TXT"
SPACECRAFT_POINTING_MODE = ACROSSTRACK
^MEX_POINTING_DESC = "MEX_POINTING_DESC.TXT"
RIGHT_ASCENSION = -1e+32
DECLINATION = -1e+32
OFFSET_ANGLE = -0.269
SPACECRAFT_SOLAR_DISTANCE = 2.22618e+08
TARGET_NAME = MARS
/* CAMERA DATA ELEMENTS */
DETECTOR_TEMPERATURE = 18.3705
FOCAL_PLANE_TEMPERATURE = 8.5833
INST_CMPRS_NAME = "DISCRETE COSINE TRANSFORMATION (DCT)"
INST_CMPRS_RATIO = 15.0609
INST_CMPRS_QUALITY = 0
INST_CMPRS_QUANTZ_TBL_ID = 0
INSTRUMENT_TEMPERATURE = 11.4379
LENS_TEMPERATURE = 8.7872
MACROPIXEL_SIZE = 4
MISSING_FRAMES = 0
PIXEL_SUBSAMPLING_FLAG = N
SIGNAL_CHAIN_ID = 2
/* RADIOMETRIC DATA ELEMENTS */
BANDWIDTH = 88.0
CENTER_FILTER_WAVELENGTH = 538.0
RADIANCE_OFFSET = 1.98904
RADIANCE_SCALING_FACTOR = 0.00169209
REFLECTANCE_SCALING_FACTOR = 7.21999e-05
MEX:REFLECTANCE_OFFSET = 0.0848701
/* IMAGE OBJECT DEFINITIONS */
OBJECT = IMAGE
  INTERCHANGE_FORMAT = BINARY
  LINES = 9701
  LINE_SAMPLES = 2230
  SAMPLE_TYPE = UNSIGNED_INTEGER
  SAMPLE_BITS = 8
  BANDS = 1
  BAND_STORAGE_TYPE = BAND_SEQUENTIAL
  MAXIMUM = 255
  MEAN = 135.077
  MINIMUM = 1
  STANDARD_DEVIATION = 38.7165
END_OBJECT = IMAGE
/* MAP OBJECT DEFINITIONS */
OBJECT = IMAGE_MAP_PROJECTION
  ^DATA_SET_MAP_PROJECTION_CATALOG= "DSMAP.CAT"
  A_AXIS_RADIUS = 3396.0
  B_AXIS_RADIUS = 3396.0
  C_AXIS_RADIUS = 3396.0
  CENTER_LATITUDE = 0.0
  CENTER_LONGITUDE = 210.0
  COORDINATE_SYSTEM_NAME = PLANETOGRAPHIC
  COORDINATE_SYSTEM_TYPE = "BODY-FIXED ROTATING"
  EASTERNMOST_LONGITUDE = 210.95
  FIRST_STANDARD_PARALLEL = "N/A"
  LINE_FIRST_PIXEL = 1
  LINE_LAST_PIXEL = 9701
  LINE_PROJECTION_OFFSET = 61525.125
  MAP_PROJECTION_ROTATION = 0.0
  MAP_PROJECTION_TYPE = SINUSOIDAL
  MAP_RESOLUTION = 1185.42760773333
  MAP_SCALE = 0.05
  MAXIMUM_LATITUDE = 51.9132
  MINIMUM_LATITUDE = 43.7288
  POSITIVE_LONGITUDE_DIRECTION = EAST
  REFERENCE_LATITUDE = "N/A"
  REFERENCE_LONGITUDE = "N/A"
  SAMPLE_FIRST_PIXEL = 1
  SAMPLE_LAST_PIXEL = 2230
  SAMPLE_PROJECTION_OFFSET = 1399.375
  SECOND_STANDARD_PARALLEL = "N/A"
  WESTERNMOST_LONGITUDE = 208.134
END_OBJECT = IMAGE_MAP_PROJECTION
/* The JPEG2000 image data file associated with this label. */
OBJECT = COMPRESSED_FILE
  FILE_NAME = "H9637_0000_GR3.JP2"
  RECORD_TYPE = UNDEFINED
  FILE_RECORDS = UNK
  ENCODING_TYPE = "JP2"
  INTERCHANGE_FORMAT = BINARY
  UNCOMPRESSED_FILE_NAME = "H9637_0000_GR3.IMG"
  REQUIRED_STORAGE_BYTES = "21655530"
  ^DESCRIPTION = "JP2INFO.TXT"
END_OBJECT = COMPRESSED_FILE
END
