PDS_VERSION_ID = PDS3
/* FILE DATA ELEMENTS */
RECORD_TYPE = STREAM
/* POINTERS TO DATA OBJECTS */
^COMPRESSED_FILE = "H9617_0000_GR3.JP2"
/* IDENTIFICATION DATA ELEMENTS */
DATA_SET_ID = "MEX-M-HRSC-5-REFDR-MAPPROJECTED-V3.0"
DATA_SET_NAME = "MARS EXPRESS HRSC MAP PROJECTED REFDR V3.0"
DETECTOR_ID = MEX_HRSC_GREEN
EVENT_TYPE = "MARS-REGIONAL-MAPPING-Vo-Fl-Pf"
INSTRUMENT_HOST_ID = MEX
INSTRUMENT_HOST_NAME = "MARS EXPRESS"
INSTRUMENT_ID = HRSC
INSTRUMENT_NAME = "HIGH RESOLUTION STEREO CAMERA"
MISSION_NAME = "MARS EXPRESS"
MISSION_PHASE_NAME = ME_Phase_23
PROCESSING_LEVEL_ID = 3
PRODUCT_CREATION_TIME = 2016-07-16T01:52:17.000Z
PRODUCT_ID = "H9617_0000_GR3.JP2"
RELEASE_ID = 0099
REVISION_ID = 0000
/* QUALITY DATA ELEMENTS */
DATA_QUALITY_ID = 1
DATA_QUALITY_DESC = "Data calculated based on original SPICE kernels"
/* TIME DATA ELEMENTS */
SPACECRAFT_CLOCK_START_COUNT = "1/0258848090.09048"
SPACECRAFT_CLOCK_STOP_COUNT = "1/0258848380.26060"
START_TIME = 2011-07-15T22:15:27.283Z
STOP_TIME = 2011-07-15T22:18:26.707Z
/* ORBITAL DATA ELEMENTS */
ASCENDING_NODE_LONGITUDE = 33.63
MAXIMUM_RESOLUTION = 73
FOOTPRINT_POINT_LATITUDE = (41.9252,41.9212,41.9153,41.9048, 41.8973,41.6776,41.2825,40.8881,40.5859 ,40.1833,39.7812,39.5765,39.3714, 39.1663,38.9614,38.7568,38.5489,38.3399 ,38.1312,37.9227,37.7144,37.5019, 37.1832,36.9711,36.7592,36.543,36.327, 36.1111,35.8956,35.6768,35.4571,35.2377 ,35.0186,34.6841,34.4611,34.2383, 34.0131,33.7864,33.56,33.3338,33.1034, 32.8734,32.6437,32.2944,32.061,31.8279, 31.5909,31.2358,31.0288,31.0332,31.0367 ,31.0381,31.0391,31.0392,31.0385,31.158 ,31.3953,31.633,31.8702,32.104,32.3382, 32.6881,32.9186,33.1493,33.3799,33.6068 ,33.9476,34.175,34.3984,34.622,34.8458, 35.0687,35.2885,35.5086,35.7289,35.9478 ,36.164,36.3805,36.5972,36.8134,37.0259 ,37.2387,37.4517,37.7708,37.9797, 38.1888,38.3982,38.6077,38.8155,39.0208 ,39.2262,39.4318,39.6376,39.8423, 40.2455,40.6493,40.9516,41.3472,41.7435 ,41.9252)
FOOTPRINT_POINT_LONGITUDE = (96.7196,96.4108,96.0435,95.5221, 95.2127,94.8905,94.9023,94.9133,94.9212 ,94.9311,94.9403,94.9448,94.9491, 94.9532,94.957,94.9606,94.9641,94.9675, 94.9707,94.9738,94.9767,94.9794,94.9833 ,94.9856,94.9879,94.9899,94.9918, 94.9935,94.995,94.9963,94.9975,94.9985, 94.9995,95.0005,95.0009,95.0012,95.0013 ,95.0013,95.001,95.0005,94.9999,94.9991 ,94.9982,94.9966,94.9952,94.9936, 94.9919,94.989,94.9872,95.3541,95.7868, 96.0462,96.3921,96.6518,96.9976,97.3055 ,97.301,97.2964,97.2916,97.287,97.2822, 97.2749,97.2701,97.2652,97.2602,97.2552 ,97.2477,97.2426,97.2374,97.2322, 97.2271,97.2218,97.2166,97.2113,97.2058 ,97.2002,97.1947,97.1892,97.1835, 97.1778,97.1722,97.1663,97.1606,97.1519 ,97.146,97.1399,97.1339,97.1277,97.1216 ,97.1155,97.1093,97.1031,97.0966, 97.0902,97.0773,97.064,97.054,97.0406, 97.0267,96.7196)
ORBIT_NUMBER = 9617
ORBITAL_ECCENTRICITY = 0.572
ORBITAL_INCLINATION = 86.88
ORBITAL_SEMIMAJOR_AXIS = 8785.71
PERIAPSIS_ALTITUDE = 376.5
PERIAPSIS_ARGUMENT_ANGLE = 117.84
PERIAPSIS_TIME = 2011-07-15T22:10:16.000Z
SPACECRAFT_ORIENTATION = (0.0,-1.0,0.0)
^MEX_ORIENTATION_DESC = "MEX_ORIENTATION_DESC.TXT"
SPACECRAFT_POINTING_MODE = ACROSSTRACK
^MEX_POINTING_DESC = "MEX_POINTING_DESC.TXT"
RIGHT_ASCENSION = -1e+32
DECLINATION = -1e+32
OFFSET_ANGLE = -0.05
SPACECRAFT_SOLAR_DISTANCE = 2.21498e+08
TARGET_NAME = MARS
/* CAMERA DATA ELEMENTS */
DETECTOR_TEMPERATURE = 17.9627
FOCAL_PLANE_TEMPERATURE = 7.7677
INST_CMPRS_NAME = "DISCRETE COSINE TRANSFORMATION (DCT)"
INST_CMPRS_RATIO = 22.1904
INST_CMPRS_QUALITY = 0
INST_CMPRS_QUANTZ_TBL_ID = 0
INSTRUMENT_TEMPERATURE = 11.0301
LENS_TEMPERATURE = 8.1755
MACROPIXEL_SIZE = 4
MISSING_FRAMES = 0
PIXEL_SUBSAMPLING_FLAG = N
SIGNAL_CHAIN_ID = 2
/* RADIOMETRIC DATA ELEMENTS */
BANDWIDTH = 88.0
CENTER_FILTER_WAVELENGTH = 538.0
RADIANCE_OFFSET = 1.96851
RADIANCE_SCALING_FACTOR = 0.00247328
REFLECTANCE_SCALING_FACTOR = 0.000104473
MEX:REFLECTANCE_OFFSET = 0.083151
/* IMAGE OBJECT DEFINITIONS */
OBJECT = IMAGE
  INTERCHANGE_FORMAT = BINARY
  LINES = 12917
  LINE_SAMPLES = 2437
  SAMPLE_TYPE = UNSIGNED_INTEGER
  SAMPLE_BITS = 8
  BANDS = 1
  BAND_STORAGE_TYPE = BAND_SEQUENTIAL
  MAXIMUM = 255
  MEAN = 94.5715
  MINIMUM = 1
  STANDARD_DEVIATION = 30.0487
END_OBJECT = IMAGE
/* MAP OBJECT DEFINITIONS */
OBJECT = IMAGE_MAP_PROJECTION
  ^DATA_SET_MAP_PROJECTION_CATALOG= "DSMAP.CAT"
  A_AXIS_RADIUS = 3396.0
  B_AXIS_RADIUS = 3396.0
  C_AXIS_RADIUS = 3396.0
  CENTER_LATITUDE = 0.0
  CENTER_LONGITUDE = 96.0
  COORDINATE_SYSTEM_NAME = PLANETOGRAPHIC
  COORDINATE_SYSTEM_TYPE = "BODY-FIXED ROTATING"
  EASTERNMOST_LONGITUDE = 97.30549999999999
  FIRST_STANDARD_PARALLEL = "N/A"
  LINE_FIRST_PIXEL = 1
  LINE_LAST_PIXEL = 12917
  LINE_PROJECTION_OFFSET = 49707.875
  MAP_PROJECTION_ROTATION = 0.0
  MAP_PROJECTION_TYPE = SINUSOIDAL
  MAP_RESOLUTION = 1185.42760773333
  MAP_SCALE = 0.05
  MAXIMUM_LATITUDE = 41.9252
  MINIMUM_LATITUDE = 31.0288
  POSITIVE_LONGITUDE_DIRECTION = EAST
  REFERENCE_LATITUDE = "N/A"
  REFERENCE_LONGITUDE = "N/A"
  SAMPLE_FIRST_PIXEL = 1
  SAMPLE_LAST_PIXEL = 2437
  SAMPLE_PROJECTION_OFFSET = 1078.375
  SECOND_STANDARD_PARALLEL = "N/A"
  WESTERNMOST_LONGITUDE = 94.8905
END_OBJECT = IMAGE_MAP_PROJECTION
/* The JPEG2000 image data file associated with this label. */
OBJECT = COMPRESSED_FILE
  FILE_NAME = "H9617_0000_GR3.JP2"
  RECORD_TYPE = UNDEFINED
  FILE_RECORDS = UNK
  ENCODING_TYPE = "JP2"
  INTERCHANGE_FORMAT = BINARY
  UNCOMPRESSED_FILE_NAME = "H9617_0000_GR3.IMG"
  REQUIRED_STORAGE_BYTES = "31498225"
  ^DESCRIPTION = "JP2INFO.TXT"
END_OBJECT = COMPRESSED_FILE
END
