PDS_VERSION_ID = PDS3
/* FILE DATA ELEMENTS */
RECORD_TYPE = STREAM
/* POINTERS TO DATA OBJECTS */
^COMPRESSED_FILE = "H9608_0000_S13.JP2"
/* IDENTIFICATION DATA ELEMENTS */
DATA_SET_ID = "MEX-M-HRSC-5-REFDR-MAPPROJECTED-V3.0"
DATA_SET_NAME = "MARS EXPRESS HRSC MAP PROJECTED REFDR V3.0"
DETECTOR_ID = MEX_HRSC_S1
EVENT_TYPE = "MARS-REGIONAL-MAPPING-Vo-Te-Pf"
INSTRUMENT_HOST_ID = MEX
INSTRUMENT_HOST_NAME = "MARS EXPRESS"
INSTRUMENT_ID = HRSC
INSTRUMENT_NAME = "HIGH RESOLUTION STEREO CAMERA"
MISSION_NAME = "MARS EXPRESS"
MISSION_PHASE_NAME = ME_Phase_23
PROCESSING_LEVEL_ID = 3
PRODUCT_CREATION_TIME = 2016-07-16T01:52:17.000Z
PRODUCT_ID = "H9608_0000_S13.JP2"
RELEASE_ID = 0099
REVISION_ID = 0000
/* QUALITY DATA ELEMENTS */
DATA_QUALITY_ID = 1
DATA_QUALITY_DESC = "Data calculated based on original SPICE kernels"
/* TIME DATA ELEMENTS */
SPACECRAFT_CLOCK_START_COUNT = "1/0258621125.07288"
SPACECRAFT_CLOCK_STOP_COUNT = "1/0258621353.05868"
START_TIME = 2011-07-13T07:12:08.164Z
STOP_TIME = 2011-07-13T07:14:43.692Z
/* ORBITAL DATA ELEMENTS */
ASCENDING_NODE_LONGITUDE = 33.8
MAXIMUM_RESOLUTION = 32.2
FOOTPRINT_POINT_LATITUDE = (63.6456,63.6284,63.6033,63.5823, 63.5596,63.412,63.1199,62.9247,62.6321, 62.3387,62.1429,61.9471,61.7511,61.5547 ,61.3584,61.1619,60.8669,60.5714, 60.3744,60.0788,59.881,59.5846,59.3867, 59.0899,58.8917,58.5944,58.3959,58.1973 ,57.9987,57.7998,57.6008,57.4017, 57.2024,56.9037,56.7042,56.5046,56.3052 ,56.0057,55.806,55.6059,55.3059,55.0054 ,54.8053,54.6048,54.4043,54.204,54.0034 ,53.7031,53.5062,53.5168,53.5353, 53.5526,53.5641,53.5737,53.7792,54.0812 ,54.2827,54.5845,54.7858,55.0875, 55.2887,55.4897,55.6907,55.8917,56.0923 ,56.2929,56.5937,56.7942,56.9945, 57.1947,57.4949,57.6953,57.8954,58.0954 ,58.2948,58.4944,58.6938,58.8934, 59.0927,59.3915,59.5904,59.7893,59.9882 ,60.2863,60.4847,60.6829,60.8813, 61.0794,61.2773,61.5741,61.7718,61.9693 ,62.1668,62.3638,62.5611,62.758,62.9547 ,63.1514,63.544,63.6456)
FOOTPRINT_POINT_LONGITUDE = (295.365,294.917,294.33,293.884,293.438 ,292.99,293.069,293.121,293.197,293.271 ,293.319,293.367,293.413,293.459, 293.504,293.548,293.613,293.677,293.718 ,293.779,293.819,293.877,293.915, 293.971,294.007,294.06,294.095,294.13, 294.163,294.197,294.229,294.261,294.293 ,294.339,294.369,294.399,294.428, 294.471,294.499,294.526,294.567,294.606 ,294.632,294.657,294.682,294.706,294.73 ,294.766,294.79,295.138,295.597,296.143 ,296.538,296.911,297.036,297.015,297.0, 296.978,296.963,296.94,296.924,296.908, 296.892,296.876,296.86,296.843,296.817, 296.8,296.782,296.765,296.737,296.719, 296.7,296.681,296.662,296.642,296.622, 296.602,296.582,296.551,296.529,296.508 ,296.486,296.453,296.43,296.407,296.384 ,296.36,296.336,296.299,296.274,296.249 ,296.223,296.197,296.17,296.143,296.116 ,296.088,296.031,295.365)
ORBIT_NUMBER = 9608
ORBITAL_ECCENTRICITY = 0.572
ORBITAL_INCLINATION = 86.88
ORBITAL_SEMIMAJOR_AXIS = 8783.85
PERIAPSIS_ALTITUDE = 376.66
PERIAPSIS_ARGUMENT_ANGLE = 119.43
PERIAPSIS_TIME = 2011-07-13T07:13:31.000Z
SPACECRAFT_ORIENTATION = (0.0,-1.0,0.0)
^MEX_ORIENTATION_DESC = "MEX_ORIENTATION_DESC.TXT"
SPACECRAFT_POINTING_MODE = NADIR
^MEX_POINTING_DESC = "MEX_POINTING_DESC.TXT"
RIGHT_ASCENSION = -1e+32
DECLINATION = -1e+32
OFFSET_ANGLE = -1e+32
SPACECRAFT_SOLAR_DISTANCE = 2.20998e+08
TARGET_NAME = MARS
/* CAMERA DATA ELEMENTS */
DETECTOR_TEMPERATURE = 17.1471
FOCAL_PLANE_TEMPERATURE = 7.7677
INST_CMPRS_NAME = "DISCRETE COSINE TRANSFORMATION (DCT)"
INST_CMPRS_RATIO = 12.212
INST_CMPRS_QUALITY = 0
INST_CMPRS_QUANTZ_TBL_ID = 0
INSTRUMENT_TEMPERATURE = 11.0301
LENS_TEMPERATURE = 8.1755
MACROPIXEL_SIZE = 2
MISSING_FRAMES = 0
PIXEL_SUBSAMPLING_FLAG = N
SIGNAL_CHAIN_ID = 1
/* RADIOMETRIC DATA ELEMENTS */
BANDWIDTH = 180.0
CENTER_FILTER_WAVELENGTH = 677.0
RADIANCE_OFFSET = 3.82984
RADIANCE_SCALING_FACTOR = 0.00743208
REFLECTANCE_SCALING_FACTOR = 0.000189378
MEX:REFLECTANCE_OFFSET = 0.0975888
/* IMAGE OBJECT DEFINITIONS */
OBJECT = IMAGE
  INTERCHANGE_FORMAT = BINARY
  LINES = 23778
  LINE_SAMPLES = 4887
  SAMPLE_TYPE = UNSIGNED_INTEGER
  SAMPLE_BITS = 8
  BANDS = 1
  BAND_STORAGE_TYPE = BAND_SEQUENTIAL
  MAXIMUM = 255
  MEAN = 129.407
  MINIMUM = 1
  STANDARD_DEVIATION = 43.7211
END_OBJECT = IMAGE
/* MAP OBJECT DEFINITIONS */
OBJECT = IMAGE_MAP_PROJECTION
  ^DATA_SET_MAP_PROJECTION_CATALOG= "DSMAP.CAT"
  A_AXIS_RADIUS = 3396.0
  B_AXIS_RADIUS = 3396.0
  C_AXIS_RADIUS = 3396.0
  CENTER_LATITUDE = 0.0
  CENTER_LONGITUDE = 295.0
  COORDINATE_SYSTEM_NAME = PLANETOGRAPHIC
  COORDINATE_SYSTEM_TYPE = "BODY-FIXED ROTATING"
  EASTERNMOST_LONGITUDE = 297.036
  FIRST_STANDARD_PARALLEL = "N/A"
  LINE_FIRST_PIXEL = 1
  LINE_LAST_PIXEL = 23778
  LINE_PROJECTION_OFFSET = 150660.75
  MAP_PROJECTION_ROTATION = 0.0
  MAP_PROJECTION_TYPE = SINUSOIDAL
  MAP_RESOLUTION = 2370.85521546667
  MAP_SCALE = 0.025
  MAXIMUM_LATITUDE = 63.6456
  MINIMUM_LATITUDE = 53.5062
  POSITIVE_LONGITUDE_DIRECTION = EAST
  REFERENCE_LATITUDE = "N/A"
  REFERENCE_LONGITUDE = "N/A"
  SAMPLE_FIRST_PIXEL = 1
  SAMPLE_LAST_PIXEL = 4887
  SAMPLE_PROJECTION_OFFSET = 2042.25
  SECOND_STANDARD_PARALLEL = "N/A"
  WESTERNMOST_LONGITUDE = 292.99
END_OBJECT = IMAGE_MAP_PROJECTION
/* The JPEG2000 image data file associated with this label. */
OBJECT = COMPRESSED_FILE
  FILE_NAME = "H9608_0000_S13.JP2"
  RECORD_TYPE = UNDEFINED
  FILE_RECORDS = UNK
  ENCODING_TYPE = "JP2"
  INTERCHANGE_FORMAT = BINARY
  UNCOMPRESSED_FILE_NAME = "H9608_0000_S13.IMG"
  REQUIRED_STORAGE_BYTES = "116227521"
  ^DESCRIPTION = "JP2INFO.TXT"
END_OBJECT = COMPRESSED_FILE
END
