PDS_VERSION_ID = PDS3
/* FILE DATA ELEMENTS */
RECORD_TYPE = STREAM
/* POINTERS TO DATA OBJECTS */
^COMPRESSED_FILE = "H9608_0000_P23.JP2"
/* IDENTIFICATION DATA ELEMENTS */
DATA_SET_ID = "MEX-M-HRSC-5-REFDR-MAPPROJECTED-V3.0"
DATA_SET_NAME = "MARS EXPRESS HRSC MAP PROJECTED REFDR V3.0"
DETECTOR_ID = MEX_HRSC_P2
EVENT_TYPE = "MARS-REGIONAL-MAPPING-Vo-Te-Pf"
INSTRUMENT_HOST_ID = MEX
INSTRUMENT_HOST_NAME = "MARS EXPRESS"
INSTRUMENT_ID = HRSC
INSTRUMENT_NAME = "HIGH RESOLUTION STEREO CAMERA"
MISSION_NAME = "MARS EXPRESS"
MISSION_PHASE_NAME = ME_Phase_23
PROCESSING_LEVEL_ID = 3
PRODUCT_CREATION_TIME = 2016-07-16T01:52:17.000Z
PRODUCT_ID = "H9608_0000_P23.JP2"
RELEASE_ID = 0099
REVISION_ID = 0000
/* QUALITY DATA ELEMENTS */
DATA_QUALITY_ID = 1
DATA_QUALITY_DESC = "Data calculated based on original SPICE kernels"
/* TIME DATA ELEMENTS */
SPACECRAFT_CLOCK_START_COUNT = "1/0258621125.07288"
SPACECRAFT_CLOCK_STOP_COUNT = "1/0258621353.05868"
START_TIME = 2011-07-13T07:13:06.071Z
STOP_TIME = 2011-07-13T07:15:41.663Z
/* ORBITAL DATA ELEMENTS */
ASCENDING_NODE_LONGITUDE = 33.8
MAXIMUM_RESOLUTION = 31.4
FOOTPRINT_POINT_LATITUDE = (63.4582,63.4395,63.4089,63.3711,63.43, 63.1312,62.8325,62.6334,62.4343,62.2352 ,62.0362,61.8373,61.5388,61.2405, 61.0416,60.8427,60.644,60.4452,60.2466, 60.0478,59.8494,59.6511,59.4526,59.2542 ,58.9569,58.7587,58.5606,58.3625, 58.1646,57.9667,57.769,57.5713,57.3737, 57.1763,56.9788,56.7814,56.5842,56.3871 ,56.0913,55.8944,55.6975,55.5009, 55.3043,55.1079,54.9115,54.7152,54.5191 ,54.1271,53.8332,53.5419,53.5578, 53.5808,53.5927,53.7063,53.9027,54.1976 ,54.3943,54.5911,54.7881,54.985,55.1821 ,55.3795,55.5768,55.7743,55.9719, 56.1698,56.3675,56.5657,56.7637,56.9618 ,57.1602,57.4579,57.6563,57.8547, 58.0533,58.2525,58.5508,58.75,59.0487, 59.2479,59.4474,59.6468,59.8464,60.1457 ,60.3453,60.5453,60.7451,61.0451, 61.2451,61.4451,61.6453,61.8455,62.0458 ,62.2461,62.4464,62.7472,62.9477, 63.1482,63.3486,63.4582)
FOOTPRINT_POINT_LONGITUDE = (295.625,295.104,294.338,293.491, 292.997,293.076,293.153,293.203,293.252 ,293.301,293.348,293.394,293.462, 293.529,293.572,293.615,293.656,293.697 ,293.737,293.777,293.815,293.853, 293.891,293.927,293.981,294.016,294.05, 294.084,294.117,294.15,294.182,294.213, 294.244,294.274,294.304,294.333,294.362 ,294.39,294.432,294.459,294.485,294.511 ,294.536,294.561,294.586,294.61,294.634 ,294.68,294.714,294.949,295.399,296.072 ,296.478,297.065,297.05,297.028,297.013 ,296.997,296.982,296.966,296.95,296.933 ,296.917,296.9,296.883,296.866,296.848, 296.83,296.812,296.794,296.775,296.747, 296.728,296.708,296.688,296.668,296.637 ,296.616,296.584,296.562,296.54,296.518 ,296.495,296.46,296.436,296.412,296.388 ,296.35,296.325,296.299,296.272,296.245 ,296.218,296.19,296.162,296.119,296.09, 296.06,296.029,295.625)
ORBIT_NUMBER = 9608
ORBITAL_ECCENTRICITY = 0.572
ORBITAL_INCLINATION = 86.88
ORBITAL_SEMIMAJOR_AXIS = 8783.85
PERIAPSIS_ALTITUDE = 376.66
PERIAPSIS_ARGUMENT_ANGLE = 119.43
PERIAPSIS_TIME = 2011-07-13T07:13:31.000Z
SPACECRAFT_ORIENTATION = (0.0,-1.0,0.0)
^MEX_ORIENTATION_DESC = "MEX_ORIENTATION_DESC.TXT"
SPACECRAFT_POINTING_MODE = NADIR
^MEX_POINTING_DESC = "MEX_POINTING_DESC.TXT"
RIGHT_ASCENSION = -1e+32
DECLINATION = -1e+32
OFFSET_ANGLE = -1e+32
SPACECRAFT_SOLAR_DISTANCE = 2.20998e+08
TARGET_NAME = MARS
/* CAMERA DATA ELEMENTS */
DETECTOR_TEMPERATURE = 18.3705
FOCAL_PLANE_TEMPERATURE = 7.7677
INST_CMPRS_NAME = "DISCRETE COSINE TRANSFORMATION (DCT)"
INST_CMPRS_RATIO = 8.31948
INST_CMPRS_QUALITY = 0
INST_CMPRS_QUANTZ_TBL_ID = 0
INSTRUMENT_TEMPERATURE = 11.0301
LENS_TEMPERATURE = 8.1755
MACROPIXEL_SIZE = 2
MISSING_FRAMES = 0
PIXEL_SUBSAMPLING_FLAG = N
SIGNAL_CHAIN_ID = 3
/* RADIOMETRIC DATA ELEMENTS */
BANDWIDTH = 177.0
CENTER_FILTER_WAVELENGTH = 676.5
RADIANCE_OFFSET = 2.85127
RADIANCE_SCALING_FACTOR = 0.00815587
REFLECTANCE_SCALING_FACTOR = 0.000211205
MEX:REFLECTANCE_OFFSET = 0.0738364
/* IMAGE OBJECT DEFINITIONS */
OBJECT = IMAGE
  INTERCHANGE_FORMAT = BINARY
  LINES = 23778
  LINE_SAMPLES = 4887
  SAMPLE_TYPE = UNSIGNED_INTEGER
  SAMPLE_BITS = 8
  BANDS = 1
  BAND_STORAGE_TYPE = BAND_SEQUENTIAL
  MAXIMUM = 254
  MEAN = 123.888
  MINIMUM = 1
  STANDARD_DEVIATION = 48.7432
END_OBJECT = IMAGE
/* MAP OBJECT DEFINITIONS */
OBJECT = IMAGE_MAP_PROJECTION
  ^DATA_SET_MAP_PROJECTION_CATALOG= "DSMAP.CAT"
  A_AXIS_RADIUS = 3396.0
  B_AXIS_RADIUS = 3396.0
  C_AXIS_RADIUS = 3396.0
  CENTER_LATITUDE = 0.0
  CENTER_LONGITUDE = 295.0
  COORDINATE_SYSTEM_NAME = PLANETOGRAPHIC
  COORDINATE_SYSTEM_TYPE = "BODY-FIXED ROTATING"
  EASTERNMOST_LONGITUDE = 297.065
  FIRST_STANDARD_PARALLEL = "N/A"
  LINE_FIRST_PIXEL = 1
  LINE_LAST_PIXEL = 23778
  LINE_PROJECTION_OFFSET = 150660.75
  MAP_PROJECTION_ROTATION = 0.0
  MAP_PROJECTION_TYPE = SINUSOIDAL
  MAP_RESOLUTION = 2370.85521546667
  MAP_SCALE = 0.025
  MAXIMUM_LATITUDE = 63.4582
  MINIMUM_LATITUDE = 53.5419
  POSITIVE_LONGITUDE_DIRECTION = EAST
  REFERENCE_LATITUDE = "N/A"
  REFERENCE_LONGITUDE = "N/A"
  SAMPLE_FIRST_PIXEL = 1
  SAMPLE_LAST_PIXEL = 4887
  SAMPLE_PROJECTION_OFFSET = 2042.25
  SECOND_STANDARD_PARALLEL = "N/A"
  WESTERNMOST_LONGITUDE = 292.997
END_OBJECT = IMAGE_MAP_PROJECTION
/* The JPEG2000 image data file associated with this label. */
OBJECT = COMPRESSED_FILE
  FILE_NAME = "H9608_0000_P23.JP2"
  RECORD_TYPE = UNDEFINED
  FILE_RECORDS = UNK
  ENCODING_TYPE = "JP2"
  INTERCHANGE_FORMAT = BINARY
  UNCOMPRESSED_FILE_NAME = "H9608_0000_P23.IMG"
  REQUIRED_STORAGE_BYTES = "116227521"
  ^DESCRIPTION = "JP2INFO.TXT"
END_OBJECT = COMPRESSED_FILE
END
