PDS_VERSION_ID = PDS3
/* FILE DATA ELEMENTS */
RECORD_TYPE = STREAM
/* POINTERS TO DATA OBJECTS */
^COMPRESSED_FILE = "H9608_0000_ND3.JP2"
/* IDENTIFICATION DATA ELEMENTS */
DATA_SET_ID = "MEX-M-HRSC-5-REFDR-MAPPROJECTED-V3.0"
DATA_SET_NAME = "MARS EXPRESS HRSC MAP PROJECTED REFDR V3.0"
DETECTOR_ID = MEX_HRSC_NADIR
EVENT_TYPE = "MARS-REGIONAL-MAPPING-Vo-Te-Pf"
INSTRUMENT_HOST_ID = MEX
INSTRUMENT_HOST_NAME = "MARS EXPRESS"
INSTRUMENT_ID = HRSC
INSTRUMENT_NAME = "HIGH RESOLUTION STEREO CAMERA"
MISSION_NAME = "MARS EXPRESS"
MISSION_PHASE_NAME = ME_Phase_23
PROCESSING_LEVEL_ID = 3
PRODUCT_CREATION_TIME = 2016-07-16T01:52:17.000Z
PRODUCT_ID = "H9608_0000_ND3.JP2"
RELEASE_ID = 0099
REVISION_ID = 0000
/* QUALITY DATA ELEMENTS */
DATA_QUALITY_ID = 1
DATA_QUALITY_DESC = "Data calculated based on original SPICE kernels"
/* TIME DATA ELEMENTS */
SPACECRAFT_CLOCK_START_COUNT = "1/0258621125.07288"
SPACECRAFT_CLOCK_STOP_COUNT = "1/0258621353.05868"
START_TIME = 2011-07-13T07:12:43.276Z
STOP_TIME = 2011-07-13T07:15:18.272Z
/* ORBITAL DATA ELEMENTS */
ASCENDING_NODE_LONGITUDE = 33.8
MAXIMUM_RESOLUTION = 15.2
FOOTPRINT_POINT_LATITUDE = (63.5369,63.5134,63.4833,63.4617, 63.4357,63.2266,63.0293,62.8319,62.6345 ,62.4371,62.2396,62.042,61.8444,61.6468 ,61.4491,61.2514,61.0536,60.8559, 60.6581,60.4602,60.1634,59.9655,59.7676 ,59.5697,59.3717,59.1738,58.9758, 58.7778,58.5798,58.3819,58.1839,57.9859 ,57.7879,57.5899,57.3919,57.194,56.996, 56.7981,56.6001,56.4022,56.2043,55.8086 ,55.413,55.0175,54.6222,54.227,53.8319, 53.5237,53.5477,53.5622,53.5818,53.5923 ,53.9887,54.3854,54.5837,54.7822, 54.9807,55.1792,55.3777,55.5763,55.775, 55.9737,56.1724,56.3712,56.5699,56.7688 ,56.9676,57.1665,57.3654,57.5643, 57.7632,57.9622,58.1611,58.3601,58.5591 ,58.7582,58.9572,59.1562,59.3553, 59.5543,59.7534,59.9524,60.1515,60.3505 ,60.5495,60.7486,60.9476,61.2461, 61.4451,61.6441,61.843,62.042,62.2409, 62.4398,62.6386,62.8375,63.0363,63.2351 ,63.4338,63.5369)
FOOTPRINT_POINT_LONGITUDE = (295.632,294.988,294.262,293.788, 293.258,293.049,293.101,293.152,293.202 ,293.251,293.3,293.347,293.394,293.44, 293.485,293.529,293.573,293.615,293.657 ,293.699,293.759,293.798,293.837, 293.875,293.912,293.949,293.985,294.021 ,294.055,294.09,294.123,294.156,294.189 ,294.22,294.252,294.282,294.313,294.342 ,294.372,294.4,294.428,294.484,294.536, 294.587,294.637,294.685,294.731,294.901 ,295.531,295.958,296.634,297.052, 297.023,296.993,296.978,296.963,296.947 ,296.931,296.915,296.898,296.882, 296.865,296.848,296.831,296.813,296.796 ,296.777,296.759,296.741,296.722, 296.702,296.683,296.663,296.643,296.623 ,296.603,296.582,296.56,296.539,296.517 ,296.495,296.472,296.449,296.426, 296.402,296.378,296.354,296.316,296.291 ,296.265,296.239,296.212,296.185, 296.158,296.13,296.101,296.072,296.043, 296.013,295.632)
ORBIT_NUMBER = 9608
ORBITAL_ECCENTRICITY = 0.572
ORBITAL_INCLINATION = 86.88
ORBITAL_SEMIMAJOR_AXIS = 8783.85
PERIAPSIS_ALTITUDE = 376.66
PERIAPSIS_ARGUMENT_ANGLE = 119.43
PERIAPSIS_TIME = 2011-07-13T07:13:31.000Z
SPACECRAFT_ORIENTATION = (0.0,-1.0,0.0)
^MEX_ORIENTATION_DESC = "MEX_ORIENTATION_DESC.TXT"
SPACECRAFT_POINTING_MODE = NADIR
^MEX_POINTING_DESC = "MEX_POINTING_DESC.TXT"
RIGHT_ASCENSION = -1e+32
DECLINATION = -1e+32
OFFSET_ANGLE = -1e+32
SPACECRAFT_SOLAR_DISTANCE = 2.20998e+08
TARGET_NAME = MARS
/* CAMERA DATA ELEMENTS */
DETECTOR_TEMPERATURE = 18.5744
FOCAL_PLANE_TEMPERATURE = 7.7677
INST_CMPRS_NAME = "DISCRETE COSINE TRANSFORMATION (DCT)"
INST_CMPRS_RATIO = 7.20879
INST_CMPRS_QUALITY = 0
INST_CMPRS_QUANTZ_TBL_ID = 0
INSTRUMENT_TEMPERATURE = 11.0301
LENS_TEMPERATURE = 8.1755
MACROPIXEL_SIZE = 1
MISSING_FRAMES = 0
PIXEL_SUBSAMPLING_FLAG = N
SIGNAL_CHAIN_ID = 0
/* RADIOMETRIC DATA ELEMENTS */
BANDWIDTH = 177.0
CENTER_FILTER_WAVELENGTH = 677.5
RADIANCE_OFFSET = 2.67375
RADIANCE_SCALING_FACTOR = 0.00794341
REFLECTANCE_SCALING_FACTOR = 0.000206094
MEX:REFLECTANCE_OFFSET = 0.0693713
/* IMAGE OBJECT DEFINITIONS */
OBJECT = IMAGE
  INTERCHANGE_FORMAT = BINARY
  LINES = 47555
  LINE_SAMPLES = 9774
  SAMPLE_TYPE = UNSIGNED_INTEGER
  SAMPLE_BITS = 8
  BANDS = 1
  BAND_STORAGE_TYPE = BAND_SEQUENTIAL
  MAXIMUM = 255
  MEAN = 122.674
  MINIMUM = 1
  STANDARD_DEVIATION = 44.403
END_OBJECT = IMAGE
/* MAP OBJECT DEFINITIONS */
OBJECT = IMAGE_MAP_PROJECTION
  ^DATA_SET_MAP_PROJECTION_CATALOG= "DSMAP.CAT"
  A_AXIS_RADIUS = 3396.0
  B_AXIS_RADIUS = 3396.0
  C_AXIS_RADIUS = 3396.0
  CENTER_LATITUDE = 0.0
  CENTER_LONGITUDE = 295.0
  COORDINATE_SYSTEM_NAME = PLANETOGRAPHIC
  COORDINATE_SYSTEM_TYPE = "BODY-FIXED ROTATING"
  EASTERNMOST_LONGITUDE = 297.052
  FIRST_STANDARD_PARALLEL = "N/A"
  LINE_FIRST_PIXEL = 1
  LINE_LAST_PIXEL = 47555
  LINE_PROJECTION_OFFSET = 301322.0
  MAP_PROJECTION_ROTATION = 0.0
  MAP_PROJECTION_TYPE = SINUSOIDAL
  MAP_RESOLUTION = 4741.71043093333
  MAP_SCALE = 0.0125
  MAXIMUM_LATITUDE = 63.5369
  MINIMUM_LATITUDE = 53.5237
  POSITIVE_LONGITUDE_DIRECTION = EAST
  REFERENCE_LATITUDE = "N/A"
  REFERENCE_LONGITUDE = "N/A"
  SAMPLE_FIRST_PIXEL = 1
  SAMPLE_LAST_PIXEL = 9774
  SAMPLE_PROJECTION_OFFSET = 4085.0
  SECOND_STANDARD_PARALLEL = "N/A"
  WESTERNMOST_LONGITUDE = 293.049
END_OBJECT = IMAGE_MAP_PROJECTION
/* The JPEG2000 image data file associated with this label. */
OBJECT = COMPRESSED_FILE
  FILE_NAME = "H9608_0000_ND3.JP2"
  RECORD_TYPE = UNDEFINED
  FILE_RECORDS = UNK
  ENCODING_TYPE = "JP2"
  INTERCHANGE_FORMAT = BINARY
  UNCOMPRESSED_FILE_NAME = "H9608_0000_ND3.IMG"
  REQUIRED_STORAGE_BYTES = "464831892"
  ^DESCRIPTION = "JP2INFO.TXT"
END_OBJECT = COMPRESSED_FILE
END
