PDS_VERSION_ID = PDS3
/* FILE DATA ELEMENTS */
RECORD_TYPE = STREAM
/* POINTERS TO DATA OBJECTS */
^COMPRESSED_FILE = "H9604_0000_S13.JP2"
/* IDENTIFICATION DATA ELEMENTS */
DATA_SET_ID = "MEX-M-HRSC-5-REFDR-MAPPROJECTED-V3.0"
DATA_SET_NAME = "MARS EXPRESS HRSC MAP PROJECTED REFDR V3.0"
DETECTOR_ID = MEX_HRSC_S1
EVENT_TYPE = "MARS-REGIONAL-MAPPING-Vo-Pf-Eo"
INSTRUMENT_HOST_ID = MEX
INSTRUMENT_HOST_NAME = "MARS EXPRESS"
INSTRUMENT_ID = HRSC
INSTRUMENT_NAME = "HIGH RESOLUTION STEREO CAMERA"
MISSION_NAME = "MARS EXPRESS"
MISSION_PHASE_NAME = ME_Phase_23
PROCESSING_LEVEL_ID = 3
PRODUCT_CREATION_TIME = 2016-07-16T01:52:17.000Z
PRODUCT_ID = "H9604_0000_S13.JP2"
RELEASE_ID = 0099
REVISION_ID = 0000
/* QUALITY DATA ELEMENTS */
DATA_QUALITY_ID = 1
DATA_QUALITY_DESC = "Data calculated based on original SPICE kernels"
/* TIME DATA ELEMENTS */
SPACECRAFT_CLOCK_START_COUNT = "1/0258520510.09062"
SPACECRAFT_CLOCK_STOP_COUNT = "1/0258520805.26045"
START_TIME = 2011-07-12T03:15:13.167Z
STOP_TIME = 2011-07-12T03:18:44.211Z
/* ORBITAL DATA ELEMENTS */
ASCENDING_NODE_LONGITUDE = 33.88
MAXIMUM_RESOLUTION = 32.3
FOOTPRINT_POINT_LATITUDE = (56.325,56.3204,56.3157,56.3026,56.2848 ,56.0358,55.7661,55.4961,55.0907, 54.8203,54.4137,54.1426,53.8713,53.4651 ,53.0576,52.65,52.3781,52.106,51.8339, 51.4256,51.1531,50.8808,50.6083,50.1994 ,49.9274,49.6543,49.3818,49.1084, 48.8358,48.4265,48.1536,47.8802,47.6071 ,47.3345,47.0612,46.6518,46.3786,46.105 ,45.8319,45.5589,45.2857,44.8762, 44.4664,44.0572,43.784,43.5043,43.224, 42.9441,42.5247,42.4922,42.4932,42.4934 ,42.4921,42.4889,42.7698,43.0507, 43.3314,43.6123,43.8899,44.1634,44.4371 ,44.8479,45.1215,45.3954,45.6694, 45.9429,46.3537,46.6276,47.0379,47.3117 ,47.5857,47.8593,48.1331,48.5441, 48.9545,49.3646,49.6379,49.9124,50.3224 ,50.5965,50.8703,51.1428,51.4154, 51.6889,51.9615,52.3703,52.6432,52.9155 ,53.1879,53.4608,53.7332,54.0051, 54.2772,54.5494,54.8212,55.0928,55.3646 ,55.636,55.9072,56.325)
FOOTPRINT_POINT_LONGITUDE = (346.684,346.166,345.807,345.096, 344.392,344.393,344.426,344.457,344.503 ,344.533,344.577,344.605,344.632, 344.672,344.71,344.747,344.77,344.794, 344.816,344.849,344.87,344.891,344.911, 344.94,344.959,344.977,344.995,345.012, 345.029,345.053,345.069,345.084,345.099 ,345.113,345.127,345.147,345.16,345.173 ,345.185,345.197,345.208,345.224,345.24 ,345.254,345.264,345.273,345.282,345.29 ,345.302,345.845,346.157,346.47,346.844 ,347.326,347.319,347.313,347.306, 347.299,347.292,347.285,347.278,347.267 ,347.26,347.252,347.244,347.237,347.224 ,347.216,347.204,347.195,347.186, 347.177,347.168,347.153,347.138,347.124 ,347.114,347.102,347.086,347.075, 347.063,347.052,347.041,347.029,347.017 ,346.999,346.986,346.973,346.96,346.946 ,346.932,346.919,346.904,346.889, 346.874,346.859,346.844,346.828,346.812 ,346.684)
ORBIT_NUMBER = 9604
ORBITAL_ECCENTRICITY = 0.572
ORBITAL_INCLINATION = 86.89
ORBITAL_SEMIMAJOR_AXIS = 8783.62
PERIAPSIS_ALTITUDE = 376.24
PERIAPSIS_ARGUMENT_ANGLE = 120.09
PERIAPSIS_TIME = 2011-07-12T03:14:51.000Z
SPACECRAFT_ORIENTATION = (0.0,-1.0,0.0)
^MEX_ORIENTATION_DESC = "MEX_ORIENTATION_DESC.TXT"
SPACECRAFT_POINTING_MODE = ACROSSTRACK
^MEX_POINTING_DESC = "MEX_POINTING_DESC.TXT"
RIGHT_ASCENSION = -1e+32
DECLINATION = -1e+32
OFFSET_ANGLE = 0.39
SPACECRAFT_SOLAR_DISTANCE = 2.20777e+08
TARGET_NAME = MARS
/* CAMERA DATA ELEMENTS */
DETECTOR_TEMPERATURE = 17.1471
FOCAL_PLANE_TEMPERATURE = 8.1755
INST_CMPRS_NAME = "DISCRETE COSINE TRANSFORMATION (DCT)"
INST_CMPRS_RATIO = 9.65958
INST_CMPRS_QUALITY = 0
INST_CMPRS_QUANTZ_TBL_ID = 0
INSTRUMENT_TEMPERATURE = 11.234
LENS_TEMPERATURE = 8.3794
MACROPIXEL_SIZE = 2
MISSING_FRAMES = 0
PIXEL_SUBSAMPLING_FLAG = N
SIGNAL_CHAIN_ID = 1
/* RADIOMETRIC DATA ELEMENTS */
BANDWIDTH = 180.0
CENTER_FILTER_WAVELENGTH = 677.0
RADIANCE_OFFSET = 4.34417
RADIANCE_SCALING_FACTOR = 0.0104025
REFLECTANCE_SCALING_FACTOR = 0.000264537
MEX:REFLECTANCE_OFFSET = 0.110473
/* IMAGE OBJECT DEFINITIONS */
OBJECT = IMAGE
  INTERCHANGE_FORMAT = BINARY
  LINES = 32617
  LINE_SAMPLES = 4522
  SAMPLE_TYPE = UNSIGNED_INTEGER
  SAMPLE_BITS = 8
  BANDS = 1
  BAND_STORAGE_TYPE = BAND_SEQUENTIAL
  MAXIMUM = 255
  MEAN = 73.7927
  MINIMUM = 1
  STANDARD_DEVIATION = 30.7319
END_OBJECT = IMAGE
/* MAP OBJECT DEFINITIONS */
OBJECT = IMAGE_MAP_PROJECTION
  ^DATA_SET_MAP_PROJECTION_CATALOG= "DSMAP.CAT"
  A_AXIS_RADIUS = 3396.0
  B_AXIS_RADIUS = 3396.0
  C_AXIS_RADIUS = 3396.0
  CENTER_LATITUDE = 0.0
  CENTER_LONGITUDE = 346.0
  COORDINATE_SYSTEM_NAME = PLANETOGRAPHIC
  COORDINATE_SYSTEM_TYPE = "BODY-FIXED ROTATING"
  EASTERNMOST_LONGITUDE = 347.326
  FIRST_STANDARD_PARALLEL = "N/A"
  LINE_FIRST_PIXEL = 1
  LINE_LAST_PIXEL = 32617
  LINE_PROJECTION_OFFSET = 133366.25
  MAP_PROJECTION_ROTATION = 0.0
  MAP_PROJECTION_TYPE = SINUSOIDAL
  MAP_RESOLUTION = 2370.85521546667
  MAP_SCALE = 0.025
  MAXIMUM_LATITUDE = 56.325
  MINIMUM_LATITUDE = 42.4889
  POSITIVE_LONGITUDE_DIRECTION = EAST
  REFERENCE_LATITUDE = "N/A"
  REFERENCE_LONGITUDE = "N/A"
  SAMPLE_FIRST_PIXEL = 1
  SAMPLE_LAST_PIXEL = 4522
  SAMPLE_PROJECTION_OFFSET = 2156.75
  SECOND_STANDARD_PARALLEL = "N/A"
  WESTERNMOST_LONGITUDE = 344.392
END_OBJECT = IMAGE_MAP_PROJECTION
/* The JPEG2000 image data file associated with this label. */
OBJECT = COMPRESSED_FILE
  FILE_NAME = "H9604_0000_S13.JP2"
  RECORD_TYPE = UNDEFINED
  FILE_RECORDS = UNK
  ENCODING_TYPE = "JP2"
  INTERCHANGE_FORMAT = BINARY
  UNCOMPRESSED_FILE_NAME = "H9604_0000_S13.IMG"
  REQUIRED_STORAGE_BYTES = "147521206"
  ^DESCRIPTION = "JP2INFO.TXT"
END_OBJECT = COMPRESSED_FILE
END
