PDS_VERSION_ID = PDS3
/* FILE DATA ELEMENTS */
RECORD_TYPE = STREAM
/* POINTERS TO DATA OBJECTS */
^COMPRESSED_FILE = "H9591_0000_RE3.JP2"
/* IDENTIFICATION DATA ELEMENTS */
DATA_SET_ID = "MEX-M-HRSC-5-REFDR-MAPPROJECTED-V3.0"
DATA_SET_NAME = "MARS EXPRESS HRSC MAP PROJECTED REFDR V3.0"
DETECTOR_ID = MEX_HRSC_RED
EVENT_TYPE = "MARS-REGIONAL-MAPPING-Te-Im-Pf"
INSTRUMENT_HOST_ID = MEX
INSTRUMENT_HOST_NAME = "MARS EXPRESS"
INSTRUMENT_ID = HRSC
INSTRUMENT_NAME = "HIGH RESOLUTION STEREO CAMERA"
MISSION_NAME = "MARS EXPRESS"
MISSION_PHASE_NAME = ME_Phase_23
PROCESSING_LEVEL_ID = 3
PRODUCT_CREATION_TIME = 2016-07-15T22:28:48.000Z
PRODUCT_ID = "H9591_0000_RE3.JP2"
RELEASE_ID = 0098
REVISION_ID = 0000
/* QUALITY DATA ELEMENTS */
DATA_QUALITY_ID = 1
DATA_QUALITY_DESC = "Data calculated based on original SPICE kernels"
/* TIME DATA ELEMENTS */
SPACECRAFT_CLOCK_START_COUNT = "1/0258193237.07292"
SPACECRAFT_CLOCK_STOP_COUNT = "1/0258193507.31608"
START_TIME = 2011-07-08T08:21:43.876Z
STOP_TIME = 2011-07-08T08:25:00.595Z
/* ORBITAL DATA ELEMENTS */
ASCENDING_NODE_LONGITUDE = 34.12
MAXIMUM_RESOLUTION = 65
FOOTPRINT_POINT_LATITUDE = (51.0231,51.0165,51.0092,50.9977, 50.9889,51.0433,50.8055,50.5681,50.331, 50.0941,49.7391,49.3846,49.1486,48.7948 ,48.4415,48.2065,47.8542,47.6199, 47.2687,47.0348,46.8009,46.5673,46.3339 ,46.1009,45.7528,45.5205,45.1661, 44.9286,44.6906,44.4533,44.2166,43.9806 ,43.6214,43.3799,43.1385,42.8974, 42.5366,42.1704,41.9246,41.6793,41.4346 ,41.1904,40.9431,40.694,40.3196,40.0714 ,39.6946,39.4413,39.1884,39.0598, 39.0624,39.0662,39.068,39.0697,39.0701, 39.1978,39.4511,39.7054,39.9584,40.207, 40.4568,40.8325,41.083,41.3281,41.5738, 41.9437,42.1902,42.436,42.6769,43.0386, 43.2807,43.5229,43.8862,44.1238,44.3607 ,44.5985,44.8374,45.0754,45.3137, 45.5498,45.7833,46.1338,46.4846,46.836, 47.0706,47.423,47.6579,47.8932,48.129, 48.3648,48.719,48.9553,49.1917,49.5471, 49.7841,50.1404,50.3781,50.7354,50.9735 ,51.0231)
FOOTPRINT_POINT_LONGITUDE = (235.639,235.328,235.017,234.57,234.258 ,233.751,233.774,233.795,233.816, 233.836,233.866,233.895,233.914,233.941 ,233.967,233.984,234.009,234.025, 234.048,234.064,234.078,234.093,234.107 ,234.121,234.141,234.154,234.172, 234.185,234.197,234.209,234.22,234.231, 234.247,234.258,234.268,234.277,234.292 ,234.306,234.315,234.323,234.331, 234.339,234.347,234.354,234.364,234.371 ,234.381,234.387,234.392,234.744, 235.034,235.498,235.807,236.134,236.346 ,236.464,236.455,236.447,236.438, 236.429,236.421,236.408,236.399,236.39, 236.381,236.368,236.359,236.349,236.34, 236.326,236.316,236.306,236.292,236.282 ,236.272,236.262,236.252,236.241, 236.231,236.22,236.21,236.194,236.177, 236.16,236.149,236.131,236.119,236.107, 236.095,236.082,236.063,236.05,236.036, 236.016,236.002,235.981,235.966,235.944 ,235.929,235.639)
ORBIT_NUMBER = 9591
ORBITAL_ECCENTRICITY = 0.573
ORBITAL_INCLINATION = 86.89
ORBITAL_SEMIMAJOR_AXIS = 8788.81
PERIAPSIS_ALTITUDE = 374.29
PERIAPSIS_ARGUMENT_ANGLE = 122.33
PERIAPSIS_TIME = 2011-07-08T08:19:33.000Z
SPACECRAFT_ORIENTATION = (0.0,-1.0,0.0)
^MEX_ORIENTATION_DESC = "MEX_ORIENTATION_DESC.TXT"
SPACECRAFT_POINTING_MODE = ACROSSTRACK
^MEX_POINTING_DESC = "MEX_POINTING_DESC.TXT"
RIGHT_ASCENSION = -1e+32
DECLINATION = -1e+32
OFFSET_ANGLE = -0.1
SPACECRAFT_SOLAR_DISTANCE = 2.20063e+08
TARGET_NAME = MARS
/* CAMERA DATA ELEMENTS */
DETECTOR_TEMPERATURE = 18.3705
FOCAL_PLANE_TEMPERATURE = 8.1755
INST_CMPRS_NAME = "DISCRETE COSINE TRANSFORMATION (DCT)"
INST_CMPRS_RATIO = 10.525
INST_CMPRS_QUALITY = 0
INST_CMPRS_QUANTZ_TBL_ID = 0
INSTRUMENT_TEMPERATURE = 11.0301
LENS_TEMPERATURE = 8.5833
MACROPIXEL_SIZE = 4
MISSING_FRAMES = 0
PIXEL_SUBSAMPLING_FLAG = N
SIGNAL_CHAIN_ID = 2
/* RADIOMETRIC DATA ELEMENTS */
BANDWIDTH = 48.0
CENTER_FILTER_WAVELENGTH = 748.0
RADIANCE_OFFSET = 0.928343
RADIANCE_SCALING_FACTOR = 0.00789721
REFLECTANCE_SCALING_FACTOR = 0.000872757
MEX:REFLECTANCE_OFFSET = 0.102595
/* IMAGE OBJECT DEFINITIONS */
OBJECT = IMAGE
  INTERCHANGE_FORMAT = BINARY
  LINES = 14282
  LINE_SAMPLES = 2260
  SAMPLE_TYPE = UNSIGNED_INTEGER
  SAMPLE_BITS = 8
  BANDS = 1
  BAND_STORAGE_TYPE = BAND_SEQUENTIAL
  MAXIMUM = 255
  MEAN = 106.233
  MINIMUM = 1
  STANDARD_DEVIATION = 34.5748
END_OBJECT = IMAGE
/* MAP OBJECT DEFINITIONS */
OBJECT = IMAGE_MAP_PROJECTION
  ^DATA_SET_MAP_PROJECTION_CATALOG= "DSMAP.CAT"
  A_AXIS_RADIUS = 3396.0
  B_AXIS_RADIUS = 3396.0
  C_AXIS_RADIUS = 3396.0
  CENTER_LATITUDE = 0.0
  CENTER_LONGITUDE = 235.0
  COORDINATE_SYSTEM_NAME = PLANETOGRAPHIC
  COORDINATE_SYSTEM_TYPE = "BODY-FIXED ROTATING"
  EASTERNMOST_LONGITUDE = 236.464
  FIRST_STANDARD_PARALLEL = "N/A"
  LINE_FIRST_PIXEL = 1
  LINE_LAST_PIXEL = 14282
  LINE_PROJECTION_OFFSET = 60590.375
  MAP_PROJECTION_ROTATION = 0.0
  MAP_PROJECTION_TYPE = SINUSOIDAL
  MAP_RESOLUTION = 1185.42760773333
  MAP_SCALE = 0.05
  MAXIMUM_LATITUDE = 51.0433
  MINIMUM_LATITUDE = 39.0598
  POSITIVE_LONGITUDE_DIRECTION = EAST
  REFERENCE_LATITUDE = "N/A"
  REFERENCE_LONGITUDE = "N/A"
  SAMPLE_FIRST_PIXEL = 1
  SAMPLE_LAST_PIXEL = 2260
  SAMPLE_PROJECTION_OFFSET = 942.125
  SECOND_STANDARD_PARALLEL = "N/A"
  WESTERNMOST_LONGITUDE = 233.751
END_OBJECT = IMAGE_MAP_PROJECTION
/* The JPEG2000 image data file associated with this label. */
OBJECT = COMPRESSED_FILE
  FILE_NAME = "H9591_0000_RE3.JP2"
  RECORD_TYPE = UNDEFINED
  FILE_RECORDS = UNK
  ENCODING_TYPE = "JP2"
  INTERCHANGE_FORMAT = BINARY
  UNCOMPRESSED_FILE_NAME = "H9591_0000_RE3.IMG"
  REQUIRED_STORAGE_BYTES = "32299920"
  ^DESCRIPTION = "JP2INFO.TXT"
END_OBJECT = COMPRESSED_FILE
END
