PDS_VERSION_ID = PDS3
/* FILE DATA ELEMENTS */
RECORD_TYPE = STREAM
/* POINTERS TO DATA OBJECTS */
^COMPRESSED_FILE = "H9582_0000_S13.JP2"
/* IDENTIFICATION DATA ELEMENTS */
DATA_SET_ID = "MEX-M-HRSC-5-REFDR-MAPPROJECTED-V3.0"
DATA_SET_NAME = "MARS EXPRESS HRSC MAP PROJECTED REFDR V3.0"
DETECTOR_ID = MEX_HRSC_S1
EVENT_TYPE = "MARS-REGIONAL-MAPPING-Te-Pf-Mw"
INSTRUMENT_HOST_ID = MEX
INSTRUMENT_HOST_NAME = "MARS EXPRESS"
INSTRUMENT_ID = HRSC
INSTRUMENT_NAME = "HIGH RESOLUTION STEREO CAMERA"
MISSION_NAME = "MARS EXPRESS"
MISSION_PHASE_NAME = ME_Phase_23
PROCESSING_LEVEL_ID = 3
PRODUCT_CREATION_TIME = 2016-07-15T22:28:48.000Z
PRODUCT_ID = "H9582_0000_S13.JP2"
RELEASE_ID = 0098
REVISION_ID = 0000
/* QUALITY DATA ELEMENTS */
DATA_QUALITY_ID = 1
DATA_QUALITY_DESC = "Data calculated based on original SPICE kernels"
/* TIME DATA ELEMENTS */
SPACECRAFT_CLOCK_START_COUNT = "1/0257966758.09063"
SPACECRAFT_CLOCK_STOP_COUNT = "1/0257967034.53538"
START_TIME = 2011-07-05T17:26:01.211Z
STOP_TIME = 2011-07-05T17:28:55.935Z
/* ORBITAL DATA ELEMENTS */
ASCENDING_NODE_LONGITUDE = 34.29
MAXIMUM_RESOLUTION = 34.1
FOOTPRINT_POINT_LATITUDE = (41.8,41.7955,41.7881,41.7814,41.7736, 41.6956,41.4841,41.1673,40.849,40.638, 40.4264,40.2156,40.0035,39.6858,39.4743 ,39.263,39.0461,38.7207,38.3949,38.1783 ,37.9633,37.7467,37.4171,37.1956, 36.9729,36.6393,36.4169,36.0834,35.8579 ,35.6302,35.4029,35.1749,34.8331,34.605 ,34.3718,34.1418,33.9081,33.4425, 33.0867,32.8493,32.6127,32.3739,32.1352 ,31.8918,31.6494,31.4057,31.1645, 30.7985,30.5497,30.3906,30.3937,30.4005 ,30.4057,30.4075,30.4094,30.4079, 30.7796,31.0275,31.2708,31.6351,31.878, 32.2408,32.479,32.8362,33.0751,33.4314, 33.78,34.1301,34.3637,34.5964,34.825, 35.0527,35.281,35.5089,35.8509,36.079, 36.3017,36.525,36.8586,37.0816,37.4159, 37.6378,37.8552,38.0727,38.2904,38.507, 38.7247,38.9431,39.1596,39.481,39.6925, 39.9045,40.1163,40.3285,40.6468,40.9647 ,41.2825,41.4935,41.706,41.8)
FOOTPRINT_POINT_LONGITUDE = (76.5944,76.3102,75.9373,75.6535, 75.3695,75.0905,75.0983,75.1097,75.1201 ,75.1273,75.134,75.1408,75.147,75.156, 75.1619,75.1677,75.1734,75.1817,75.1893 ,75.1944,75.1998,75.2045,75.2109, 75.2154,75.2194,75.2251,75.2287,75.2337 ,75.2374,75.2405,75.2435,75.2461, 75.2497,75.252,75.2541,75.2571,75.2586, 75.2616,75.2632,75.2646,75.2659,75.2663 ,75.2665,75.2668,75.2673,75.2671, 75.2675,75.2679,75.2671,75.3777,75.6231 ,75.9818,76.3398,76.6601,76.8858, 77.2133,77.2085,77.2051,77.2015,77.1963 ,77.1929,77.1874,77.1836,77.1779, 77.1738,77.1679,77.1622,77.1559,77.1516 ,77.1476,77.1436,77.1394,77.1349, 77.1306,77.1239,77.1192,77.1146,77.1098 ,77.1029,77.098,77.0908,77.0857,77.0807 ,77.0757,77.0705,77.0657,77.0604, 77.0547,77.0498,77.0417,77.0365,77.031, 77.0255,77.0198,77.011,77.0023,76.9935, 76.9879,76.9815,76.5944)
ORBIT_NUMBER = 9582
ORBITAL_ECCENTRICITY = 0.573
ORBITAL_INCLINATION = 86.89
ORBITAL_SEMIMAJOR_AXIS = 8794.81
PERIAPSIS_ALTITUDE = 373.44
PERIAPSIS_ARGUMENT_ANGLE = 123.91
PERIAPSIS_TIME = 2011-07-05T17:22:54.000Z
SPACECRAFT_ORIENTATION = (0.0,-1.0,0.0)
^MEX_ORIENTATION_DESC = "MEX_ORIENTATION_DESC.TXT"
SPACECRAFT_POINTING_MODE = NADIR
^MEX_POINTING_DESC = "MEX_POINTING_DESC.TXT"
RIGHT_ASCENSION = -1e+32
DECLINATION = -1e+32
OFFSET_ANGLE = -1e+32
SPACECRAFT_SOLAR_DISTANCE = 2.19573e+08
TARGET_NAME = MARS
/* CAMERA DATA ELEMENTS */
DETECTOR_TEMPERATURE = 16.7393
FOCAL_PLANE_TEMPERATURE = 8.1755
INST_CMPRS_NAME = "DISCRETE COSINE TRANSFORMATION (DCT)"
INST_CMPRS_RATIO = 11.7373
INST_CMPRS_QUALITY = 0
INST_CMPRS_QUANTZ_TBL_ID = 0
INSTRUMENT_TEMPERATURE = 11.0301
LENS_TEMPERATURE = 8.3794
MACROPIXEL_SIZE = 2
MISSING_FRAMES = 0
PIXEL_SUBSAMPLING_FLAG = N
SIGNAL_CHAIN_ID = 1
/* RADIOMETRIC DATA ELEMENTS */
BANDWIDTH = 180.0
CENTER_FILTER_WAVELENGTH = 677.0
RADIANCE_OFFSET = 5.39526
RADIANCE_SCALING_FACTOR = 0.0177622
REFLECTANCE_SCALING_FACTOR = 0.000446784
MEX:REFLECTANCE_OFFSET = 0.135711
/* IMAGE OBJECT DEFINITIONS */
OBJECT = IMAGE
  INTERCHANGE_FORMAT = BINARY
  LINES = 26897
  LINE_SAMPLES = 4355
  SAMPLE_TYPE = UNSIGNED_INTEGER
  SAMPLE_BITS = 8
  BANDS = 1
  BAND_STORAGE_TYPE = BAND_SEQUENTIAL
  MAXIMUM = 255
  MEAN = 133.462
  MINIMUM = 1
  STANDARD_DEVIATION = 32.669
END_OBJECT = IMAGE
/* MAP OBJECT DEFINITIONS */
OBJECT = IMAGE_MAP_PROJECTION
  ^DATA_SET_MAP_PROJECTION_CATALOG= "DSMAP.CAT"
  A_AXIS_RADIUS = 3396.0
  B_AXIS_RADIUS = 3396.0
  C_AXIS_RADIUS = 3396.0
  CENTER_LATITUDE = 0.0
  CENTER_LONGITUDE = 76.0
  COORDINATE_SYSTEM_NAME = PLANETOGRAPHIC
  COORDINATE_SYSTEM_TYPE = "BODY-FIXED ROTATING"
  EASTERNMOST_LONGITUDE = 77.2133
  FIRST_STANDARD_PARALLEL = "N/A"
  LINE_FIRST_PIXEL = 1
  LINE_LAST_PIXEL = 26897
  LINE_PROJECTION_OFFSET = 98969.25
  MAP_PROJECTION_ROTATION = 0.0
  MAP_PROJECTION_TYPE = SINUSOIDAL
  MAP_RESOLUTION = 2370.85521546667
  MAP_SCALE = 0.025
  MAXIMUM_LATITUDE = 41.8
  MINIMUM_LATITUDE = 30.3906
  POSITIVE_LONGITUDE_DIRECTION = EAST
  REFERENCE_LATITUDE = "N/A"
  REFERENCE_LONGITUDE = "N/A"
  SAMPLE_FIRST_PIXEL = 1
  SAMPLE_LAST_PIXEL = 4355
  SAMPLE_PROJECTION_OFFSET = 1710.75
  SECOND_STANDARD_PARALLEL = "N/A"
  WESTERNMOST_LONGITUDE = 75.09050000000001
END_OBJECT = IMAGE_MAP_PROJECTION
/* The JPEG2000 image data file associated with this label. */
OBJECT = COMPRESSED_FILE
  FILE_NAME = "H9582_0000_S13.JP2"
  RECORD_TYPE = UNDEFINED
  FILE_RECORDS = UNK
  ENCODING_TYPE = "JP2"
  INTERCHANGE_FORMAT = BINARY
  UNCOMPRESSED_FILE_NAME = "H9582_0000_S13.IMG"
  REQUIRED_STORAGE_BYTES = "117162565"
  ^DESCRIPTION = "JP2INFO.TXT"
END_OBJECT = COMPRESSED_FILE
END
