PDS_VERSION_ID = PDS3
/* FILE DATA ELEMENTS */
RECORD_TYPE = STREAM
/* POINTERS TO DATA OBJECTS */
^COMPRESSED_FILE = "H9571_0000_BL3.JP2"
/* IDENTIFICATION DATA ELEMENTS */
DATA_SET_ID = "MEX-M-HRSC-5-REFDR-MAPPROJECTED-V3.0"
DATA_SET_NAME = "MARS EXPRESS HRSC MAP PROJECTED REFDR V3.0"
DETECTOR_ID = MEX_HRSC_BLUE
EVENT_TYPE = "MARS-LOCAL-MAPPING-Te-Im-Pf"
INSTRUMENT_HOST_ID = MEX
INSTRUMENT_HOST_NAME = "MARS EXPRESS"
INSTRUMENT_ID = HRSC
INSTRUMENT_NAME = "HIGH RESOLUTION STEREO CAMERA"
MISSION_NAME = "MARS EXPRESS"
MISSION_PHASE_NAME = ME_Phase_23
PROCESSING_LEVEL_ID = 3
PRODUCT_CREATION_TIME = 2016-07-15T22:28:48.000Z
PRODUCT_ID = "H9571_0000_BL3.JP2"
RELEASE_ID = 0098
REVISION_ID = 0000
/* QUALITY DATA ELEMENTS */
DATA_QUALITY_ID = 1
DATA_QUALITY_DESC = "Data calculated based on original SPICE kernels"
/* TIME DATA ELEMENTS */
SPACECRAFT_CLOCK_START_COUNT = "1/0257689548.08267"
SPACECRAFT_CLOCK_STOP_COUNT = "1/0257689800.47092"
START_TIME = 2011-07-02T12:26:32.134Z
STOP_TIME = 2011-07-02T12:29:30.324Z
/* ORBITAL DATA ELEMENTS */
ASCENDING_NODE_LONGITUDE = 34.51
MAXIMUM_RESOLUTION = 60.5
FOOTPRINT_POINT_LATITUDE = (55.6275,55.5983,55.5517,55.3365, 55.1108,54.8852,54.5467,54.321,54.0953, 53.8696,53.6439,53.3054,53.0796,52.8539 ,52.6283,52.4026,52.177,51.9513,51.7257 ,51.5001,51.2746,51.0491,50.8236, 50.5981,50.3727,50.0345,49.8093,49.5841 ,49.3589,49.0213,48.7962,48.5713, 48.3464,48.1216,47.8968,47.6721,47.4475 ,47.2231,46.9987,46.7743,46.5501,46.326 ,46.1019,45.8779,45.6541,45.2067, 44.7598,44.3134,44.2382,44.257,44.2689, 44.2766,44.5066,44.7306,44.9548,45.1791 ,45.4036,45.6281,45.8528,46.0775, 46.3024,46.5274,46.7525,46.9776,47.2029 ,47.4283,47.6538,47.8794,48.105,48.3308 ,48.5566,48.7825,49.0085,49.2345, 49.5738,49.8,50.0264,50.2527,50.4791, 50.7056,51.0455,51.3855,51.6122,51.9523 ,52.1791,52.406,52.6329,52.8597,53.0867 ,53.4272,53.6541,53.8811,54.2217, 54.4487,54.6758,54.9028,55.1299,55.357, 55.5841,55.6275)
FOOTPRINT_POINT_LONGITUDE = (118.623,117.937,116.987,116.858, 116.902,116.946,117.01,117.051,117.092, 117.132,117.172,117.23,117.268,117.306, 117.342,117.378,117.413,117.448,117.482 ,117.516,117.549,117.581,117.614, 117.645,117.676,117.722,117.751,117.78, 117.808,117.85,117.877,117.904,117.93, 117.956,117.982,118.006,118.031,118.055 ,118.078,118.101,118.124,118.146, 118.168,118.19,118.211,118.253,118.292, 118.33,118.646,119.273,119.736,120.082, 120.324,120.308,120.293,120.277,120.261 ,120.244,120.228,120.211,120.194, 120.177,120.16,120.142,120.124,120.106, 120.087,120.069,120.05,120.031,120.011, 119.992,119.972,119.951,119.92,119.9, 119.878,119.857,119.835,119.813,119.779 ,119.744,119.721,119.685,119.661, 119.636,119.611,119.586,119.56,119.521, 119.494,119.467,119.426,119.398,119.369 ,119.34,119.311,119.281,119.251, 118.623)
ORBIT_NUMBER = 9571
ORBITAL_ECCENTRICITY = 0.573
ORBITAL_INCLINATION = 86.87
ORBITAL_SEMIMAJOR_AXIS = 8798.25
PERIAPSIS_ALTITUDE = 373.03
PERIAPSIS_ARGUMENT_ANGLE = 125.81
PERIAPSIS_TIME = 2011-07-02T12:26:51.000Z
SPACECRAFT_ORIENTATION = (0.0,-1.0,0.0)
^MEX_ORIENTATION_DESC = "MEX_ORIENTATION_DESC.TXT"
SPACECRAFT_POINTING_MODE = ACROSSTRACK
^MEX_POINTING_DESC = "MEX_POINTING_DESC.TXT"
RIGHT_ASCENSION = -1e+32
DECLINATION = -1e+32
OFFSET_ANGLE = -1.18
SPACECRAFT_SOLAR_DISTANCE = 2.1898e+08
TARGET_NAME = MARS
/* CAMERA DATA ELEMENTS */
DETECTOR_TEMPERATURE = 18.3705
FOCAL_PLANE_TEMPERATURE = 8.5833
INST_CMPRS_NAME = "DISCRETE COSINE TRANSFORMATION (DCT)"
INST_CMPRS_RATIO = 6.19281
INST_CMPRS_QUALITY = 0
INST_CMPRS_QUANTZ_TBL_ID = 0
INSTRUMENT_TEMPERATURE = 11.4379
LENS_TEMPERATURE = 8.7872
MACROPIXEL_SIZE = 4
MISSING_FRAMES = 0
PIXEL_SUBSAMPLING_FLAG = N
SIGNAL_CHAIN_ID = 2
/* RADIOMETRIC DATA ELEMENTS */
BANDWIDTH = 76.0
CENTER_FILTER_WAVELENGTH = 444.0
RADIANCE_OFFSET = 0.772879
RADIANCE_SCALING_FACTOR = 0.00202787
REFLECTANCE_SCALING_FACTOR = 9.99086e-05
MEX:REFLECTANCE_OFFSET = 0.0380781
/* IMAGE OBJECT DEFINITIONS */
OBJECT = IMAGE
  INTERCHANGE_FORMAT = BINARY
  LINES = 13595
  LINE_SAMPLES = 2653
  SAMPLE_TYPE = UNSIGNED_INTEGER
  SAMPLE_BITS = 8
  BANDS = 1
  BAND_STORAGE_TYPE = BAND_SEQUENTIAL
  MAXIMUM = 255
  MEAN = 118.166
  MINIMUM = 1
  STANDARD_DEVIATION = 35.2971
END_OBJECT = IMAGE
/* MAP OBJECT DEFINITIONS */
OBJECT = IMAGE_MAP_PROJECTION
  ^DATA_SET_MAP_PROJECTION_CATALOG= "DSMAP.CAT"
  A_AXIS_RADIUS = 3396.0
  B_AXIS_RADIUS = 3396.0
  C_AXIS_RADIUS = 3396.0
  CENTER_LATITUDE = 0.0
  CENTER_LONGITUDE = 119.0
  COORDINATE_SYSTEM_NAME = PLANETOGRAPHIC
  COORDINATE_SYSTEM_TYPE = "BODY-FIXED ROTATING"
  EASTERNMOST_LONGITUDE = 120.324
  FIRST_STANDARD_PARALLEL = "N/A"
  LINE_FIRST_PIXEL = 1
  LINE_LAST_PIXEL = 13595
  LINE_PROJECTION_OFFSET = 66015.125
  MAP_PROJECTION_ROTATION = 0.0
  MAP_PROJECTION_TYPE = SINUSOIDAL
  MAP_RESOLUTION = 1185.42760773333
  MAP_SCALE = 0.05
  MAXIMUM_LATITUDE = 55.6275
  MINIMUM_LATITUDE = 44.2382
  POSITIVE_LONGITUDE_DIRECTION = EAST
  REFERENCE_LATITUDE = "N/A"
  REFERENCE_LONGITUDE = "N/A"
  SAMPLE_FIRST_PIXEL = 1
  SAMPLE_LAST_PIXEL = 2653
  SAMPLE_PROJECTION_OFFSET = 1496.625
  SECOND_STANDARD_PARALLEL = "N/A"
  WESTERNMOST_LONGITUDE = 116.858
END_OBJECT = IMAGE_MAP_PROJECTION
/* The JPEG2000 image data file associated with this label. */
OBJECT = COMPRESSED_FILE
  FILE_NAME = "H9571_0000_BL3.JP2"
  RECORD_TYPE = UNDEFINED
  FILE_RECORDS = UNK
  ENCODING_TYPE = "JP2"
  INTERCHANGE_FORMAT = BINARY
  UNCOMPRESSED_FILE_NAME = "H9571_0000_BL3.IMG"
  REQUIRED_STORAGE_BYTES = "36088759"
  ^DESCRIPTION = "JP2INFO.TXT"
END_OBJECT = COMPRESSED_FILE
END
