PDS_VERSION_ID = PDS3
/* FILE DATA ELEMENTS */
RECORD_TYPE = STREAM
/* POINTERS TO DATA OBJECTS */
^COMPRESSED_FILE = "H9568_0000_RE3.JP2"
/* IDENTIFICATION DATA ELEMENTS */
DATA_SET_ID = "MEX-M-HRSC-5-REFDR-MAPPROJECTED-V3.0"
DATA_SET_NAME = "MARS EXPRESS HRSC MAP PROJECTED REFDR V3.0"
DETECTOR_ID = MEX_HRSC_RED
EVENT_TYPE = "MARS-REGIONAL-MAPPING-Vo-Te-La"
INSTRUMENT_HOST_ID = MEX
INSTRUMENT_HOST_NAME = "MARS EXPRESS"
INSTRUMENT_ID = HRSC
INSTRUMENT_NAME = "HIGH RESOLUTION STEREO CAMERA"
MISSION_NAME = "MARS EXPRESS"
MISSION_PHASE_NAME = ME_Phase_23
PROCESSING_LEVEL_ID = 3
PRODUCT_CREATION_TIME = 2016-07-15T22:28:48.000Z
PRODUCT_ID = "H9568_0000_RE3.JP2"
RELEASE_ID = 0098
REVISION_ID = 0000
/* QUALITY DATA ELEMENTS */
DATA_QUALITY_ID = 1
DATA_QUALITY_DESC = "Data calculated based on original SPICE kernels"
/* TIME DATA ELEMENTS */
SPACECRAFT_CLOCK_START_COUNT = "1/0257614424.08255"
SPACECRAFT_CLOCK_STOP_COUNT = "1/0257614742.07683"
START_TIME = 2011-07-01T15:35:15.535Z
STOP_TIME = 2011-07-01T15:38:48.388Z
/* ORBITAL DATA ELEMENTS */
ASCENDING_NODE_LONGITUDE = 34.56
MAXIMUM_RESOLUTION = 88.1
FOOTPRINT_POINT_LATITUDE = (28.7118,28.7105,28.7082,28.7063, 28.7025,28.7177,28.4878,28.2551,28.0219 ,27.7933,27.4394,27.2031,26.9695, 26.7364,26.3874,26.156,25.9245,25.6934, 25.4632,25.1181,24.887,24.6583,24.4299, 24.2032,23.8639,23.6374,23.302,23.0846, 22.8612,22.6327,22.2907,22.0684,21.8482 ,21.5188,21.2966,21.0773,20.8606, 20.5323,20.311,20.0944,19.8788,19.662, 19.234,19.0201,18.8065,18.5938,18.382, 18.17,17.7484,17.5394,17.5348,17.5304, 17.5273,17.5239,17.5197,17.5178,17.6219 ,17.9393,18.3639,18.5772,18.7911, 19.2164,19.4326,19.6484,19.8682,20.2004 ,20.4122,20.6305,20.8496,21.1784, 21.3988,21.6207,21.8423,22.0641,22.287, 22.5103,22.7344,22.9593,23.1887,23.4142 ,23.6379,23.865,24.207,24.5503,24.7785, 25.1234,25.4695,25.7004,25.932,26.1635, 26.3948,26.6269,26.8616,27.2125,27.5666 ,27.8034,28.0364,28.2681,28.5002, 28.7118)
FOOTPRINT_POINT_LONGITUDE = (69.4547,69.1407,68.691,68.3793,67.8549 ,67.5143,67.5109,67.5073,67.5039, 67.4988,67.4927,67.4888,67.4841,67.4793 ,67.472,67.4668,67.4616,67.4563,67.4508 ,67.4426,67.4374,67.4317,67.4258, 67.4195,67.4099,67.4037,67.3932,67.3845 ,67.3775,67.372,67.3637,67.3565,67.3489 ,67.3373,67.3304,67.3227,67.3143, 67.3028,67.2958,67.2877,67.2793,67.2713 ,67.2539,67.2453,67.2367,67.2279, 67.2189,67.21,67.1919,67.3019,67.7136, 68.0764,68.4639,68.8526,69.2907,69.5349 ,69.7861,69.7815,69.775,69.7718,69.7687 ,69.7603,69.7574,69.7541,69.7525, 69.7507,69.7444,69.741,69.7377,69.7324, 69.729,69.7262,69.7228,69.7194,69.7161, 69.7128,69.7096,69.7065,69.7054,69.702, 69.6974,69.6943,69.6897,69.6852,69.6814 ,69.6765,69.6716,69.6681,69.6645, 69.6607,69.6565,69.6523,69.6492,69.6435 ,69.6387,69.6355,69.632,69.628,69.6241, 69.4547)
ORBIT_NUMBER = 9568
ORBITAL_ECCENTRICITY = 0.573
ORBITAL_INCLINATION = 86.89
ORBITAL_SEMIMAJOR_AXIS = 8798.58
PERIAPSIS_ALTITUDE = 372.25
PERIAPSIS_ARGUMENT_ANGLE = 126.33
PERIAPSIS_TIME = 2011-07-01T15:27:57.000Z
SPACECRAFT_ORIENTATION = (0.0,-1.0,0.0)
^MEX_ORIENTATION_DESC = "MEX_ORIENTATION_DESC.TXT"
SPACECRAFT_POINTING_MODE = ACROSSTRACK
^MEX_POINTING_DESC = "MEX_POINTING_DESC.TXT"
RIGHT_ASCENSION = -1e+32
DECLINATION = -1e+32
OFFSET_ANGLE = 0.269
SPACECRAFT_SOLAR_DISTANCE = 2.18819e+08
TARGET_NAME = MARS
/* CAMERA DATA ELEMENTS */
DETECTOR_TEMPERATURE = 18.5744
FOCAL_PLANE_TEMPERATURE = 7.9716
INST_CMPRS_NAME = "DISCRETE COSINE TRANSFORMATION (DCT)"
INST_CMPRS_RATIO = 16.6191
INST_CMPRS_QUALITY = 0
INST_CMPRS_QUANTZ_TBL_ID = 0
INSTRUMENT_TEMPERATURE = 11.0301
LENS_TEMPERATURE = 8.5833
MACROPIXEL_SIZE = 4
MISSING_FRAMES = 0
PIXEL_SUBSAMPLING_FLAG = N
SIGNAL_CHAIN_ID = 2
/* RADIOMETRIC DATA ELEMENTS */
BANDWIDTH = 48.0
CENTER_FILTER_WAVELENGTH = 748.0
RADIANCE_OFFSET = 1.01622
RADIANCE_SCALING_FACTOR = 0.00759963
REFLECTANCE_SCALING_FACTOR = 0.000830409
MEX:REFLECTANCE_OFFSET = 0.111042
/* IMAGE OBJECT DEFINITIONS */
OBJECT = IMAGE
  INTERCHANGE_FORMAT = BINARY
  LINES = 6645
  LINE_SAMPLES = 1373
  SAMPLE_TYPE = UNSIGNED_INTEGER
  SAMPLE_BITS = 8
  BANDS = 1
  BAND_STORAGE_TYPE = BAND_SEQUENTIAL
  MAXIMUM = 255
  MEAN = 105.151
  MINIMUM = 3
  STANDARD_DEVIATION = 47.9338
END_OBJECT = IMAGE
/* MAP OBJECT DEFINITIONS */
OBJECT = IMAGE_MAP_PROJECTION
  ^DATA_SET_MAP_PROJECTION_CATALOG= "DSMAP.CAT"
  A_AXIS_RADIUS = 3396.0
  B_AXIS_RADIUS = 3396.0
  C_AXIS_RADIUS = 3396.0
  CENTER_LATITUDE = 0.0
  CENTER_LONGITUDE = 69.0
  COORDINATE_SYSTEM_NAME = PLANETOGRAPHIC
  COORDINATE_SYSTEM_TYPE = "BODY-FIXED ROTATING"
  EASTERNMOST_LONGITUDE = 69.7861
  FIRST_STANDARD_PARALLEL = "N/A"
  LINE_FIRST_PIXEL = 1
  LINE_LAST_PIXEL = 6645
  LINE_PROJECTION_OFFSET = 17039.875
  MAP_PROJECTION_ROTATION = 0.0
  MAP_PROJECTION_TYPE = SINUSOIDAL
  MAP_RESOLUTION = 592.713803866667
  MAP_SCALE = 0.1
  MAXIMUM_LATITUDE = 28.7177
  MINIMUM_LATITUDE = 17.5178
  POSITIVE_LONGITUDE_DIRECTION = EAST
  REFERENCE_LATITUDE = "N/A"
  REFERENCE_LONGITUDE = "N/A"
  SAMPLE_FIRST_PIXEL = 1
  SAMPLE_LAST_PIXEL = 1373
  SAMPLE_PROJECTION_OFFSET = 973.375
  SECOND_STANDARD_PARALLEL = "N/A"
  WESTERNMOST_LONGITUDE = 67.1919
END_OBJECT = IMAGE_MAP_PROJECTION
/* The JPEG2000 image data file associated with this label. */
OBJECT = COMPRESSED_FILE
  FILE_NAME = "H9568_0000_RE3.JP2"
  RECORD_TYPE = UNDEFINED
  FILE_RECORDS = UNK
  ENCODING_TYPE = "JP2"
  INTERCHANGE_FORMAT = BINARY
  UNCOMPRESSED_FILE_NAME = "H9568_0000_RE3.IMG"
  REQUIRED_STORAGE_BYTES = "9142807"
  ^DESCRIPTION = "JP2INFO.TXT"
END_OBJECT = COMPRESSED_FILE
END
