PDS_VERSION_ID = PDS3
/* FILE DATA ELEMENTS */
RECORD_TYPE = STREAM
/* POINTERS TO DATA OBJECTS */
^COMPRESSED_FILE = "H9562_0000_P13.JP2"
/* IDENTIFICATION DATA ELEMENTS */
DATA_SET_ID = "MEX-M-HRSC-5-REFDR-MAPPROJECTED-V3.0"
DATA_SET_NAME = "MARS EXPRESS HRSC MAP PROJECTED REFDR V3.0"
DETECTOR_ID = MEX_HRSC_P1
EVENT_TYPE = "MARS-REGIONAL-MAPPING-Fl-Pf"
INSTRUMENT_HOST_ID = MEX
INSTRUMENT_HOST_NAME = "MARS EXPRESS"
INSTRUMENT_ID = HRSC
INSTRUMENT_NAME = "HIGH RESOLUTION STEREO CAMERA"
MISSION_NAME = "MARS EXPRESS"
MISSION_PHASE_NAME = ME_Phase_23
PROCESSING_LEVEL_ID = 3
PRODUCT_CREATION_TIME = 2016-07-15T11:06:14.000Z
PRODUCT_ID = "H9562_0000_P13.JP2"
RELEASE_ID = 0097
REVISION_ID = 0000
/* QUALITY DATA ELEMENTS */
DATA_QUALITY_ID = 1
DATA_QUALITY_DESC = "Data calculated based on original SPICE kernels"
/* TIME DATA ELEMENTS */
SPACECRAFT_CLOCK_START_COUNT = "1/0257463224.08546"
SPACECRAFT_CLOCK_STOP_COUNT = "1/0257463493.23796"
START_TIME = 2011-06-29T21:34:00.164Z
STOP_TIME = 2011-06-29T21:36:45.561Z
/* ORBITAL DATA ELEMENTS */
ASCENDING_NODE_LONGITUDE = 34.68
MAXIMUM_RESOLUTION = 68.7
FOOTPRINT_POINT_LATITUDE = (36.1157,36.1049,36.0934,36.081,36.0677 ,36.0535,36.0383,35.8837,35.5014, 35.2087,35.0127,34.6216,34.3281,33.9364 ,33.7382,33.5371,33.236,33.0361,32.836, 32.5359,32.2298,32.0251,31.8205,31.616, 31.4116,31.2073,30.8939,30.6849,30.4762 ,30.2672,30.0585,29.7403,29.5272, 29.3141,29.1012,28.8883,28.6717,28.4543 ,28.2369,28.0195,27.8025,27.4705, 27.2488,26.916,26.585,26.3639,26.1431, 25.9226,25.7022,25.5117,25.5244,25.5395 ,25.549,25.5587,25.5667,25.5748,25.7956 ,26.0166,26.3486,26.57,26.9024,27.1242, 27.3462,27.5684,27.9009,28.1186,28.3361 ,28.5543,28.7723,29.0954,29.3089, 29.5226,29.8432,30.057,30.2659,30.475, 30.6845,30.894,31.1036,31.3121,31.5171, 31.7221,31.9269,32.1322,32.4403,32.6439 ,32.8442,33.0447,33.3459,33.647,33.8478 ,34.0471,34.2431,34.4392,34.6354, 34.8318,35.1263,35.3227,35.8071, 36.1157)
FOOTPRINT_POINT_LONGITUDE = (321.663,321.403,321.141,320.876, 320.609,320.34,320.068,319.821,319.833, 319.842,319.848,319.86,319.868,319.877, 319.884,319.888,319.894,319.899,319.903 ,319.909,319.915,319.918,319.922, 319.925,319.929,319.932,319.936,319.939 ,319.942,319.944,319.947,319.95,319.952 ,319.954,319.956,319.958,319.959, 319.961,319.962,319.963,319.964,319.964 ,319.965,319.965,319.965,319.965, 319.965,319.965,319.964,320.038,320.358 ,320.767,321.043,321.372,321.663, 321.939,321.934,321.93,321.923,321.919, 321.912,321.907,321.902,321.897,321.89, 321.885,321.88,321.875,321.87,321.862, 321.857,321.852,321.844,321.839,321.833 ,321.828,321.822,321.817,321.811, 321.806,321.8,321.794,321.789,321.783, 321.774,321.768,321.762,321.756,321.747 ,321.738,321.732,321.725,321.719, 321.713,321.706,321.7,321.69,321.684, 321.667,321.663)
ORBIT_NUMBER = 9562
ORBITAL_ECCENTRICITY = 0.573
ORBITAL_INCLINATION = 86.89
ORBITAL_SEMIMAJOR_AXIS = 8793.38
PERIAPSIS_ALTITUDE = 372.34
PERIAPSIS_ARGUMENT_ANGLE = 127.37
PERIAPSIS_TIME = 2011-06-29T21:30:07.000Z
SPACECRAFT_ORIENTATION = (0.0,-1.0,0.0)
^MEX_ORIENTATION_DESC = "MEX_ORIENTATION_DESC.TXT"
SPACECRAFT_POINTING_MODE = ACROSSTRACK
^MEX_POINTING_DESC = "MEX_POINTING_DESC.TXT"
RIGHT_ASCENSION = -1e+32
DECLINATION = -1e+32
OFFSET_ANGLE = -0.9
SPACECRAFT_SOLAR_DISTANCE = 2.185e+08
TARGET_NAME = MARS
/* CAMERA DATA ELEMENTS */
DETECTOR_TEMPERATURE = 17.351
FOCAL_PLANE_TEMPERATURE = 7.7677
INST_CMPRS_NAME = "DISCRETE COSINE TRANSFORMATION (DCT)"
INST_CMPRS_RATIO = 17.7869
INST_CMPRS_QUALITY = 0
INST_CMPRS_QUANTZ_TBL_ID = 0
INSTRUMENT_TEMPERATURE = 11.0301
LENS_TEMPERATURE = 8.3794
MACROPIXEL_SIZE = 4
MISSING_FRAMES = 0
PIXEL_SUBSAMPLING_FLAG = N
SIGNAL_CHAIN_ID = 3
/* RADIOMETRIC DATA ELEMENTS */
BANDWIDTH = 174.0
CENTER_FILTER_WAVELENGTH = 675.0
RADIANCE_OFFSET = 4.78391
RADIANCE_SCALING_FACTOR = 0.0137156
REFLECTANCE_SCALING_FACTOR = 0.00035221
MEX:REFLECTANCE_OFFSET = 0.122848
/* IMAGE OBJECT DEFINITIONS */
OBJECT = IMAGE
  INTERCHANGE_FORMAT = BINARY
  LINES = 12453
  LINE_SAMPLES = 2271
  SAMPLE_TYPE = UNSIGNED_INTEGER
  SAMPLE_BITS = 8
  BANDS = 1
  BAND_STORAGE_TYPE = BAND_SEQUENTIAL
  MAXIMUM = 255
  MEAN = 89.5955
  MINIMUM = 1
  STANDARD_DEVIATION = 35.7778
END_OBJECT = IMAGE
/* MAP OBJECT DEFINITIONS */
OBJECT = IMAGE_MAP_PROJECTION
  ^DATA_SET_MAP_PROJECTION_CATALOG= "DSMAP.CAT"
  A_AXIS_RADIUS = 3396.0
  B_AXIS_RADIUS = 3396.0
  C_AXIS_RADIUS = 3396.0
  CENTER_LATITUDE = 0.0
  CENTER_LONGITUDE = 321.0
  COORDINATE_SYSTEM_NAME = PLANETOGRAPHIC
  COORDINATE_SYSTEM_TYPE = "BODY-FIXED ROTATING"
  EASTERNMOST_LONGITUDE = 321.939
  FIRST_STANDARD_PARALLEL = "N/A"
  LINE_FIRST_PIXEL = 1
  LINE_LAST_PIXEL = 12453
  LINE_PROJECTION_OFFSET = 42745.625
  MAP_PROJECTION_ROTATION = 0.0
  MAP_PROJECTION_TYPE = SINUSOIDAL
  MAP_RESOLUTION = 1185.42760773333
  MAP_SCALE = 0.05
  MAXIMUM_LATITUDE = 36.1157
  MINIMUM_LATITUDE = 25.5117
  POSITIVE_LONGITUDE_DIRECTION = EAST
  REFERENCE_LATITUDE = "N/A"
  REFERENCE_LONGITUDE = "N/A"
  SAMPLE_FIRST_PIXEL = 1
  SAMPLE_LAST_PIXEL = 2271
  SAMPLE_PROJECTION_OFFSET = 1222.875
  SECOND_STANDARD_PARALLEL = "N/A"
  WESTERNMOST_LONGITUDE = 319.821
END_OBJECT = IMAGE_MAP_PROJECTION
/* The JPEG2000 image data file associated with this label. */
OBJECT = COMPRESSED_FILE
  FILE_NAME = "H9562_0000_P13.JP2"
  RECORD_TYPE = UNDEFINED
  FILE_RECORDS = UNK
  ENCODING_TYPE = "JP2"
  INTERCHANGE_FORMAT = BINARY
  UNCOMPRESSED_FILE_NAME = "H9562_0000_P13.IMG"
  REQUIRED_STORAGE_BYTES = "28303473"
  ^DESCRIPTION = "JP2INFO.TXT"
END_OBJECT = COMPRESSED_FILE
END
