PDS_VERSION_ID = PDS3
/* FILE DATA ELEMENTS */
RECORD_TYPE = STREAM
/* POINTERS TO DATA OBJECTS */
^COMPRESSED_FILE = "H9538_0000_S13.JP2"
/* IDENTIFICATION DATA ELEMENTS */
DATA_SET_ID = "MEX-M-HRSC-5-REFDR-MAPPROJECTED-V3.0"
DATA_SET_NAME = "MARS EXPRESS HRSC MAP PROJECTED REFDR V3.0"
DETECTOR_ID = MEX_HRSC_S1
EVENT_TYPE = "MARS-REGIONAL-MAPPING-Vo-Te"
INSTRUMENT_HOST_ID = MEX
INSTRUMENT_HOST_NAME = "MARS EXPRESS"
INSTRUMENT_ID = HRSC
INSTRUMENT_NAME = "HIGH RESOLUTION STEREO CAMERA"
MISSION_NAME = "MARS EXPRESS"
MISSION_PHASE_NAME = ME_Phase_23
PROCESSING_LEVEL_ID = 3
PRODUCT_CREATION_TIME = 2016-07-15T11:06:14.000Z
PRODUCT_ID = "H9538_0000_S13.JP2"
RELEASE_ID = 0097
REVISION_ID = 0000
/* QUALITY DATA ELEMENTS */
DATA_QUALITY_ID = 1
DATA_QUALITY_DESC = "Data calculated based on original SPICE kernels"
/* TIME DATA ELEMENTS */
SPACECRAFT_CLOCK_START_COUNT = "1/0256859000.08261"
SPACECRAFT_CLOCK_STOP_COUNT = "1/0256859297.30412"
START_TIME = 2011-06-22T21:43:23.180Z
STOP_TIME = 2011-06-22T21:46:21.294Z
/* ORBITAL DATA ELEMENTS */
ASCENDING_NODE_LONGITUDE = 35.14
MAXIMUM_RESOLUTION = 35.9
FOOTPRINT_POINT_LATITUDE = (28.9697,28.9583,28.9461,28.933,28.919, 28.9039,28.8878,28.5619,28.3563,28.0412 ,27.8311,27.6214,27.4113,27.2016, 26.9922,26.7785,26.5635,26.2418,25.9204 ,25.7062,25.4871,25.267,24.938,24.7187, 24.4993,24.2748,24.0506,23.8265,23.6024 ,23.3784,23.0357,22.8069,22.4639, 22.1175,21.8839,21.6506,21.2958,21.0588 ,20.8206,20.5829,20.3448,20.1034, 19.8607,19.6183,19.3762,19.006,18.7591, 18.5125,18.1366,17.8855,17.4529,17.4656 ,17.4829,17.5024,17.5103,17.6486, 17.8992,18.1504,18.528,18.8987,19.1458, 19.393,19.636,19.8784,20.1217,20.4835, 20.7217,20.96,21.1984,21.5515,21.9071, 22.1409,22.3748,22.6036,22.8326,23.1765 ,23.4059,23.6307,23.8552,24.1913, 24.5287,24.7493,24.9668,25.1897,25.4097 ,25.7396,25.9545,26.1694,26.3845, 26.5991,26.8141,27.0296,27.2406,27.4506 ,27.6601,27.87,28.1859,28.3966,28.6036, 28.9697)
FOOTPRINT_POINT_LONGITUDE = (256.714,256.455,256.194,255.931, 255.666,255.399,255.129,255.001,255.002 ,255.005,255.007,255.008,255.009, 255.011,255.012,255.013,255.014,255.015 ,255.016,255.017,255.017,255.017, 255.016,255.016,255.016,255.015,255.014 ,255.013,255.012,255.011,255.009, 255.007,255.005,255.002,255.0,254.998, 254.994,254.991,254.989,254.986,254.983 ,254.979,254.976,254.972,254.969, 254.963,254.958,254.954,254.948,254.943 ,254.992,255.281,255.702,256.267, 256.528,256.885,256.883,256.88,256.876, 256.871,256.869,256.866,256.863,256.86, 256.857,256.852,256.849,256.846,256.843 ,256.839,256.834,256.83,256.827,256.824 ,256.821,256.816,256.812,256.809, 256.805,256.8,256.795,256.791,256.788, 256.784,256.78,256.775,256.771,256.767, 256.763,256.759,256.755,256.752,256.748 ,256.744,256.74,256.735,256.729,256.725 ,256.721,256.714)
ORBIT_NUMBER = 9538
ORBITAL_ECCENTRICITY = 0.574
ORBITAL_INCLINATION = 86.87
ORBITAL_SEMIMAJOR_AXIS = 8808.58
PERIAPSIS_ALTITUDE = 369.43
PERIAPSIS_ARGUMENT_ANGLE = 131.5
PERIAPSIS_TIME = 2011-06-22T21:38:56.000Z
SPACECRAFT_ORIENTATION = (0.0,-1.0,0.0)
^MEX_ORIENTATION_DESC = "MEX_ORIENTATION_DESC.TXT"
SPACECRAFT_POINTING_MODE = ACROSSTRACK
^MEX_POINTING_DESC = "MEX_POINTING_DESC.TXT"
RIGHT_ASCENSION = -1e+32
DECLINATION = -1e+32
OFFSET_ANGLE = -0.8
SPACECRAFT_SOLAR_DISTANCE = 2.17244e+08
TARGET_NAME = MARS
/* CAMERA DATA ELEMENTS */
DETECTOR_TEMPERATURE = 17.7588
FOCAL_PLANE_TEMPERATURE = 8.9911
INST_CMPRS_NAME = "DISCRETE COSINE TRANSFORMATION (DCT)"
INST_CMPRS_RATIO = 8.78739
INST_CMPRS_QUALITY = 0
INST_CMPRS_QUANTZ_TBL_ID = 0
INSTRUMENT_TEMPERATURE = 11.4379
LENS_TEMPERATURE = 9.6028
MACROPIXEL_SIZE = 2
MISSING_FRAMES = 1
PIXEL_SUBSAMPLING_FLAG = N
SIGNAL_CHAIN_ID = 1
/* RADIOMETRIC DATA ELEMENTS */
BANDWIDTH = 180.0
CENTER_FILTER_WAVELENGTH = 677.0
RADIANCE_OFFSET = 5.11327
RADIANCE_SCALING_FACTOR = 0.0327679
REFLECTANCE_SCALING_FACTOR = 0.000806843
MEX:REFLECTANCE_OFFSET = 0.125904
/* IMAGE OBJECT DEFINITIONS */
OBJECT = IMAGE
  INTERCHANGE_FORMAT = BINARY
  LINES = 27167
  LINE_SAMPLES = 4947
  SAMPLE_TYPE = UNSIGNED_INTEGER
  SAMPLE_BITS = 8
  BANDS = 1
  BAND_STORAGE_TYPE = BAND_SEQUENTIAL
  MAXIMUM = 255
  MEAN = 162.726
  MINIMUM = 1
  STANDARD_DEVIATION = 26.9437
END_OBJECT = IMAGE
/* MAP OBJECT DEFINITIONS */
OBJECT = IMAGE_MAP_PROJECTION
  ^DATA_SET_MAP_PROJECTION_CATALOG= "DSMAP.CAT"
  A_AXIS_RADIUS = 3396.0
  B_AXIS_RADIUS = 3396.0
  C_AXIS_RADIUS = 3396.0
  CENTER_LATITUDE = 0.0
  CENTER_LONGITUDE = 256.0
  COORDINATE_SYSTEM_NAME = PLANETOGRAPHIC
  COORDINATE_SYSTEM_TYPE = "BODY-FIXED ROTATING"
  EASTERNMOST_LONGITUDE = 256.885
  FIRST_STANDARD_PARALLEL = "N/A"
  LINE_FIRST_PIXEL = 1
  LINE_LAST_PIXEL = 27167
  LINE_PROJECTION_OFFSET = 68523.25
  MAP_PROJECTION_ROTATION = 0.0
  MAP_PROJECTION_TYPE = SINUSOIDAL
  MAP_RESOLUTION = 2370.85521546667
  MAP_SCALE = 0.025
  MAXIMUM_LATITUDE = 28.9697
  MINIMUM_LATITUDE = 17.4529
  POSITIVE_LONGITUDE_DIRECTION = EAST
  REFERENCE_LATITUDE = "N/A"
  REFERENCE_LONGITUDE = "N/A"
  SAMPLE_FIRST_PIXEL = 1
  SAMPLE_LAST_PIXEL = 4947
  SAMPLE_PROJECTION_OFFSET = 2767.75
  SECOND_STANDARD_PARALLEL = "N/A"
  WESTERNMOST_LONGITUDE = 254.943
END_OBJECT = IMAGE_MAP_PROJECTION
/* The JPEG2000 image data file associated with this label. */
OBJECT = COMPRESSED_FILE
  FILE_NAME = "H9538_0000_S13.JP2"
  RECORD_TYPE = UNDEFINED
  FILE_RECORDS = UNK
  ENCODING_TYPE = "JP2"
  INTERCHANGE_FORMAT = BINARY
  UNCOMPRESSED_FILE_NAME = "H9538_0000_S13.IMG"
  REQUIRED_STORAGE_BYTES = "134419884"
  ^DESCRIPTION = "JP2INFO.TXT"
END_OBJECT = COMPRESSED_FILE
END
