PDS_VERSION_ID = PDS3
/* FILE DATA ELEMENTS */
RECORD_TYPE = STREAM
/* POINTERS TO DATA OBJECTS */
^COMPRESSED_FILE = "H9533_0000_S23.JP2"
/* IDENTIFICATION DATA ELEMENTS */
DATA_SET_ID = "MEX-M-HRSC-5-REFDR-MAPPROJECTED-V3.0"
DATA_SET_NAME = "MARS EXPRESS HRSC MAP PROJECTED REFDR V3.0"
DETECTOR_ID = MEX_HRSC_S2
EVENT_TYPE = "MARS-REGIONAL-MAPPING-Im-Fl-La"
INSTRUMENT_HOST_ID = MEX
INSTRUMENT_HOST_NAME = "MARS EXPRESS"
INSTRUMENT_ID = HRSC
INSTRUMENT_NAME = "HIGH RESOLUTION STEREO CAMERA"
MISSION_NAME = "MARS EXPRESS"
MISSION_PHASE_NAME = ME_Phase_23
PROCESSING_LEVEL_ID = 3
PRODUCT_CREATION_TIME = 2016-07-15T11:06:14.000Z
PRODUCT_ID = "H9533_0000_S23.JP2"
RELEASE_ID = 0097
REVISION_ID = 0000
/* QUALITY DATA ELEMENTS */
DATA_QUALITY_ID = 1
DATA_QUALITY_DESC = "Data calculated based on original SPICE kernels"
/* TIME DATA ELEMENTS */
SPACECRAFT_CLOCK_START_COUNT = "1/0256733105.07291"
SPACECRAFT_CLOCK_STOP_COUNT = "1/0256733393.48348"
START_TIME = 2011-06-21T10:46:32.790Z
STOP_TIME = 2011-06-21T10:49:54.812Z
/* ORBITAL DATA ELEMENTS */
ASCENDING_NODE_LONGITUDE = 35.22
MAXIMUM_RESOLUTION = 40.1
FOOTPRINT_POINT_LATITUDE = (28.0508,28.051,28.0509,28.0507,27.9868 ,27.5808,27.1717,26.9631,26.6525, 26.4458,26.2383,25.8287,25.5162,25.3073 ,25.0983,24.7788,24.5652,24.3485, 24.1328,23.9229,23.7071,23.4842,23.2635 ,23.0464,22.8286,22.4982,22.2766, 21.9454,21.6087,21.2731,21.046,20.8179, 20.4767,20.2478,20.0184,19.7863,19.5533 ,19.322,19.0883,18.8551,18.5015,18.265, 18.0263,17.7855,17.5454,17.3027,17.0602 ,17.0404,17.0364,17.0329,17.0285, 17.0242,17.0173,17.2585,17.5026,17.7439 ,17.9845,18.2248,18.4618,18.6993, 18.9346,19.1719,19.4074,19.6383,19.872, 20.1059,20.3355,20.5639,20.786,21.0137, 21.2404,21.4633,21.6891,21.915,22.1391, 22.3617,22.5861,22.8012,23.019,23.2373, 23.4558,23.6714,23.8971,24.1182,24.3321 ,24.5413,24.7578,24.9737,25.186,25.5012 ,25.7112,26.0225,26.4317,26.6394, 26.9496,27.1542,27.3613,27.5672,27.9732 ,28.0508)
FOOTPRINT_POINT_LONGITUDE = (48.8937,48.463,47.9609,47.6739,47.295, 47.2929,47.2897,47.2894,47.2876,47.2851 ,47.283,47.2766,47.2715,47.2683,47.2652 ,47.2608,47.2577,47.2556,47.2529, 47.2471,47.2433,47.2419,47.2386,47.2338 ,47.2293,47.2226,47.2179,47.2104, 47.2027,47.1947,47.1891,47.1838,47.1749 ,47.1686,47.1624,47.1561,47.1498, 47.1429,47.1355,47.128,47.1167,47.1091, 47.1014,47.0937,47.0858,47.0775,47.0692 ,47.4419,47.7274,47.9467,48.2756, 48.6268,49.1315,49.3333,49.3298,49.3263 ,49.3225,49.3192,49.3153,49.3114,49.308 ,49.305,49.3019,49.2979,49.2946,49.2923 ,49.2887,49.2846,49.2796,49.2763, 49.2726,49.2689,49.266,49.2629,49.2604, 49.2575,49.2549,49.2501,49.2466,49.243, 49.2397,49.2365,49.2365,49.2348,49.2316 ,49.2272,49.225,49.2225,49.2199,49.2151 ,49.2117,49.2063,49.1981,49.1948, 49.1908,49.1878,49.1855,49.1826,49.1767 ,48.8937)
ORBIT_NUMBER = 9533
ORBITAL_ECCENTRICITY = 0.574
ORBITAL_INCLINATION = 86.87
ORBITAL_SEMIMAJOR_AXIS = 8808.44
PERIAPSIS_ALTITUDE = 369.31
PERIAPSIS_ARGUMENT_ANGLE = 132.4
PERIAPSIS_TIME = 2011-06-21T10:40:42.000Z
SPACECRAFT_ORIENTATION = (0.0,-1.0,0.0)
^MEX_ORIENTATION_DESC = "MEX_ORIENTATION_DESC.TXT"
SPACECRAFT_POINTING_MODE = NADIR
^MEX_POINTING_DESC = "MEX_POINTING_DESC.TXT"
RIGHT_ASCENSION = -1e+32
DECLINATION = -1e+32
OFFSET_ANGLE = -1e+32
SPACECRAFT_SOLAR_DISTANCE = 2.16987e+08
TARGET_NAME = MARS
/* CAMERA DATA ELEMENTS */
DETECTOR_TEMPERATURE = 18.7783
FOCAL_PLANE_TEMPERATURE = 8.5833
INST_CMPRS_NAME = "DISCRETE COSINE TRANSFORMATION (DCT)"
INST_CMPRS_RATIO = 11.9567
INST_CMPRS_QUALITY = 0
INST_CMPRS_QUANTZ_TBL_ID = 0
INSTRUMENT_TEMPERATURE = 11.234
LENS_TEMPERATURE = 9.195
MACROPIXEL_SIZE = 2
MISSING_FRAMES = 0
PIXEL_SUBSAMPLING_FLAG = N
SIGNAL_CHAIN_ID = 1
/* RADIOMETRIC DATA ELEMENTS */
BANDWIDTH = 178.0
CENTER_FILTER_WAVELENGTH = 679.0
RADIANCE_OFFSET = 6.36075
RADIANCE_SCALING_FACTOR = 0.0204088
REFLECTANCE_SCALING_FACTOR = 0.000508883
MEX:REFLECTANCE_OFFSET = 0.158602
/* IMAGE OBJECT DEFINITIONS */
OBJECT = IMAGE
  INTERCHANGE_FORMAT = BINARY
  LINES = 26236
  LINE_SAMPLES = 4792
  SAMPLE_TYPE = UNSIGNED_INTEGER
  SAMPLE_BITS = 8
  BANDS = 1
  BAND_STORAGE_TYPE = BAND_SEQUENTIAL
  MAXIMUM = 255
  MEAN = 141.927
  MINIMUM = 1
  STANDARD_DEVIATION = 35.1645
END_OBJECT = IMAGE
/* MAP OBJECT DEFINITIONS */
OBJECT = IMAGE_MAP_PROJECTION
  ^DATA_SET_MAP_PROJECTION_CATALOG= "DSMAP.CAT"
  A_AXIS_RADIUS = 3396.0
  B_AXIS_RADIUS = 3396.0
  C_AXIS_RADIUS = 3396.0
  CENTER_LATITUDE = 0.0
  CENTER_LONGITUDE = 48.0
  COORDINATE_SYSTEM_NAME = PLANETOGRAPHIC
  COORDINATE_SYSTEM_TYPE = "BODY-FIXED ROTATING"
  EASTERNMOST_LONGITUDE = 49.3333
  FIRST_STANDARD_PARALLEL = "N/A"
  LINE_FIRST_PIXEL = 1
  LINE_LAST_PIXEL = 26236
  LINE_PROJECTION_OFFSET = 66596.75
  MAP_PROJECTION_ROTATION = 0.0
  MAP_PROJECTION_TYPE = SINUSOIDAL
  MAP_RESOLUTION = 2370.85521546667
  MAP_SCALE = 0.025
  MAXIMUM_LATITUDE = 28.051
  MINIMUM_LATITUDE = 17.0173
  POSITIVE_LONGITUDE_DIRECTION = EAST
  REFERENCE_LATITUDE = "N/A"
  REFERENCE_LONGITUDE = "N/A"
  SAMPLE_FIRST_PIXEL = 1
  SAMPLE_LAST_PIXEL = 4792
  SAMPLE_PROJECTION_OFFSET = 1938.75
  SECOND_STANDARD_PARALLEL = "N/A"
  WESTERNMOST_LONGITUDE = 47.0692
END_OBJECT = IMAGE_MAP_PROJECTION
/* The JPEG2000 image data file associated with this label. */
OBJECT = COMPRESSED_FILE
  FILE_NAME = "H9533_0000_S23.JP2"
  RECORD_TYPE = UNDEFINED
  FILE_RECORDS = UNK
  ENCODING_TYPE = "JP2"
  INTERCHANGE_FORMAT = BINARY
  UNCOMPRESSED_FILE_NAME = "H9533_0000_S23.IMG"
  REQUIRED_STORAGE_BYTES = "125746872"
  ^DESCRIPTION = "JP2INFO.TXT"
END_OBJECT = COMPRESSED_FILE
END
