PDS_VERSION_ID = PDS3
/* FILE DATA ELEMENTS */
RECORD_TYPE = STREAM
/* POINTERS TO DATA OBJECTS */
^COMPRESSED_FILE = "H9503_0000_BL3.JP2"
/* IDENTIFICATION DATA ELEMENTS */
DATA_SET_ID = "MEX-M-HRSC-5-REFDR-MAPPROJECTED-V3.0"
DATA_SET_NAME = "MARS EXPRESS HRSC MAP PROJECTED REFDR V3.0"
DETECTOR_ID = MEX_HRSC_BLUE
EVENT_TYPE = "MARS-REGIONAL-MAPPING-Vo-Te"
INSTRUMENT_HOST_ID = MEX
INSTRUMENT_HOST_NAME = "MARS EXPRESS"
INSTRUMENT_ID = HRSC
INSTRUMENT_NAME = "HIGH RESOLUTION STEREO CAMERA"
MISSION_NAME = "MARS EXPRESS"
MISSION_PHASE_NAME = ME_Phase_23
PROCESSING_LEVEL_ID = 3
PRODUCT_CREATION_TIME = 2016-07-15T11:06:14.000Z
PRODUCT_ID = "H9503_0000_BL3.JP2"
RELEASE_ID = 0097
REVISION_ID = 0000
/* QUALITY DATA ELEMENTS */
DATA_QUALITY_ID = 1
DATA_QUALITY_DESC = "Data calculated based on original SPICE kernels"
/* TIME DATA ELEMENTS */
SPACECRAFT_CLOCK_START_COUNT = "1/0255977483.08381"
SPACECRAFT_CLOCK_STOP_COUNT = "1/0255977673.31547"
START_TIME = 2011-06-12T16:52:04.804Z
STOP_TIME = 2011-06-12T16:54:03.997Z
/* ORBITAL DATA ELEMENTS */
ASCENDING_NODE_LONGITUDE = 35.8
MAXIMUM_RESOLUTION = 58.2
FOOTPRINT_POINT_LATITUDE = (39.8124,39.8096,39.8068,39.802,39.798, 39.7929,39.7938,39.6558,39.5179,39.3799 ,39.2421,39.1042,38.9664,38.7597, 38.4842,38.3464,38.0709,37.658,37.4516, 37.1079,36.9016,36.6267,36.3278,36.164, 36.0003,35.8366,35.6728,35.5091,35.3455 ,35.1819,34.9368,34.7734,34.61,34.4467, 34.2835,34.1202,33.9571,33.7941,33.6312 ,33.4683,33.3055,33.1427,32.9799, 32.8173,32.6547,32.4922,32.3298,32.1674 ,32.1694,32.1721,32.175,32.1766,32.1784 ,32.1791,32.4243,32.587,32.7499,32.9129 ,33.0759,33.2389,33.402,33.5652,33.7283 ,33.8915,34.0549,34.2184,34.3819, 34.5455,34.791,34.9546,35.1184,35.2822, 35.4461,35.61,35.774,36.0199,36.184, 36.3483,36.6475,36.8541,37.1294,37.4051 ,37.543,37.6808,37.8187,37.9565,38.0944 ,38.2324,38.3704,38.5083,38.6464, 38.7844,38.9915,39.1296,39.2678,39.4059 ,39.5441,39.6823,39.8204,39.8124)
FOOTPRINT_POINT_LONGITUDE = (237.213,237.002,236.821,236.534, 236.323,236.082,235.852,235.857,235.863 ,235.868,235.873,235.878,235.883,235.89 ,235.9,235.905,235.914,235.927,235.933, 235.944,235.95,235.958,235.966,235.97, 235.974,235.978,235.982,235.986,235.99, 235.994,235.999,236.002,236.006,236.009 ,236.012,236.015,236.019,236.021, 236.024,236.027,236.029,236.032,236.035 ,236.037,236.039,236.042,236.044, 236.046,236.28,236.515,236.822,237.028, 237.35,237.555,237.616,237.614,237.612, 237.61,237.607,237.605,237.603,237.601, 237.598,237.596,237.594,237.591,237.589 ,237.587,237.583,237.581,237.578, 237.576,237.574,237.571,237.569,237.564 ,237.562,237.56,237.555,237.551,237.546 ,237.542,237.54,237.537,237.535,237.532 ,237.53,237.527,237.525,237.522,237.52, 237.517,237.513,237.511,237.508,237.505 ,237.502,237.5,237.497,237.213)
ORBIT_NUMBER = 9503
ORBITAL_ECCENTRICITY = 0.575
ORBITAL_INCLINATION = 86.88
ORBITAL_SEMIMAJOR_AXIS = 8818.5
PERIAPSIS_ALTITUDE = 365.14
PERIAPSIS_ARGUMENT_ANGLE = 137.55
PERIAPSIS_TIME = 2011-06-12T16:51:19.000Z
SPACECRAFT_ORIENTATION = (0.0,-1.0,0.0)
^MEX_ORIENTATION_DESC = "MEX_ORIENTATION_DESC.TXT"
SPACECRAFT_POINTING_MODE = NADIR
^MEX_POINTING_DESC = "MEX_POINTING_DESC.TXT"
RIGHT_ASCENSION = -1e+32
DECLINATION = -1e+32
OFFSET_ANGLE = -1e+32
SPACECRAFT_SOLAR_DISTANCE = 2.15488e+08
TARGET_NAME = MARS
/* CAMERA DATA ELEMENTS */
DETECTOR_TEMPERATURE = 18.1666
FOCAL_PLANE_TEMPERATURE = 8.3794
INST_CMPRS_NAME = "DISCRETE COSINE TRANSFORMATION (DCT)"
INST_CMPRS_RATIO = 5.74269
INST_CMPRS_QUALITY = 0
INST_CMPRS_QUANTZ_TBL_ID = 0
INSTRUMENT_TEMPERATURE = 11.4379
LENS_TEMPERATURE = 9.195
MACROPIXEL_SIZE = 4
MISSING_FRAMES = 0
PIXEL_SUBSAMPLING_FLAG = N
SIGNAL_CHAIN_ID = 2
/* RADIOMETRIC DATA ELEMENTS */
BANDWIDTH = 76.0
CENTER_FILTER_WAVELENGTH = 444.0
RADIANCE_OFFSET = 0.39478
RADIANCE_SCALING_FACTOR = 0.00250758
REFLECTANCE_SCALING_FACTOR = 0.000119635
MEX:REFLECTANCE_OFFSET = 0.0188347
/* IMAGE OBJECT DEFINITIONS */
OBJECT = IMAGE
  INTERCHANGE_FORMAT = BINARY
  LINES = 9089
  LINE_SAMPLES = 1740
  SAMPLE_TYPE = UNSIGNED_INTEGER
  SAMPLE_BITS = 8
  BANDS = 1
  BAND_STORAGE_TYPE = BAND_SEQUENTIAL
  MAXIMUM = 255
  MEAN = 90.6561
  MINIMUM = 1
  STANDARD_DEVIATION = 25.4226
END_OBJECT = IMAGE
/* MAP OBJECT DEFINITIONS */
OBJECT = IMAGE_MAP_PROJECTION
  ^DATA_SET_MAP_PROJECTION_CATALOG= "DSMAP.CAT"
  A_AXIS_RADIUS = 3396.0
  B_AXIS_RADIUS = 3396.0
  C_AXIS_RADIUS = 3396.0
  CENTER_LATITUDE = 0.0
  CENTER_LONGITUDE = 237.0
  COORDINATE_SYSTEM_NAME = PLANETOGRAPHIC
  COORDINATE_SYSTEM_TYPE = "BODY-FIXED ROTATING"
  EASTERNMOST_LONGITUDE = 237.616
  FIRST_STANDARD_PARALLEL = "N/A"
  LINE_FIRST_PIXEL = 1
  LINE_LAST_PIXEL = 9089
  LINE_PROJECTION_OFFSET = 47214.875
  MAP_PROJECTION_ROTATION = 0.0
  MAP_PROJECTION_TYPE = SINUSOIDAL
  MAP_RESOLUTION = 1185.42760773333
  MAP_SCALE = 0.05
  MAXIMUM_LATITUDE = 39.8204
  MINIMUM_LATITUDE = 32.1674
  POSITIVE_LONGITUDE_DIRECTION = EAST
  REFERENCE_LATITUDE = "N/A"
  REFERENCE_LONGITUDE = "N/A"
  SAMPLE_FIRST_PIXEL = 1
  SAMPLE_LAST_PIXEL = 1740
  SAMPLE_PROJECTION_OFFSET = 1084.375
  SECOND_STANDARD_PARALLEL = "N/A"
  WESTERNMOST_LONGITUDE = 235.852
END_OBJECT = IMAGE_MAP_PROJECTION
/* The JPEG2000 image data file associated with this label. */
OBJECT = COMPRESSED_FILE
  FILE_NAME = "H9503_0000_BL3.JP2"
  RECORD_TYPE = UNDEFINED
  FILE_RECORDS = UNK
  ENCODING_TYPE = "JP2"
  INTERCHANGE_FORMAT = BINARY
  UNCOMPRESSED_FILE_NAME = "H9503_0000_BL3.IMG"
  REQUIRED_STORAGE_BYTES = "15835740"
  ^DESCRIPTION = "JP2INFO.TXT"
END_OBJECT = COMPRESSED_FILE
END
