PDS_VERSION_ID = PDS3
/* FILE DATA ELEMENTS */
RECORD_TYPE = STREAM
/* POINTERS TO DATA OBJECTS */
^COMPRESSED_FILE = "H9502_0000_S13.JP2"
/* IDENTIFICATION DATA ELEMENTS */
DATA_SET_ID = "MEX-M-HRSC-5-REFDR-MAPPROJECTED-V3.0"
DATA_SET_NAME = "MARS EXPRESS HRSC MAP PROJECTED REFDR V3.0"
DETECTOR_ID = MEX_HRSC_S1
EVENT_TYPE = "MARS-REGIONAL-MAPPING-Vo-Fl-Pf"
INSTRUMENT_HOST_ID = MEX
INSTRUMENT_HOST_NAME = "MARS EXPRESS"
INSTRUMENT_ID = HRSC
INSTRUMENT_NAME = "HIGH RESOLUTION STEREO CAMERA"
MISSION_NAME = "MARS EXPRESS"
MISSION_PHASE_NAME = ME_Phase_23
PROCESSING_LEVEL_ID = 3
PRODUCT_CREATION_TIME = 2016-07-15T11:06:14.000Z
PRODUCT_ID = "H9502_0000_S13.JP2"
RELEASE_ID = 0097
REVISION_ID = 0000
/* QUALITY DATA ELEMENTS */
DATA_QUALITY_ID = 1
DATA_QUALITY_DESC = "Data calculated based on original SPICE kernels"
/* TIME DATA ELEMENTS */
SPACECRAFT_CLOCK_START_COUNT = "1/0255952290.09050"
SPACECRAFT_CLOCK_STOP_COUNT = "1/0255952521.22719"
START_TIME = 2011-06-12T09:51:33.126Z
STOP_TIME = 2011-06-12T09:54:10.385Z
/* ORBITAL DATA ELEMENTS */
ASCENDING_NODE_LONGITUDE = 35.82
MAXIMUM_RESOLUTION = 31.4
FOOTPRINT_POINT_LATITUDE = (40.7964,40.7924,40.7883,40.7818, 40.7759,40.7651,40.5855,40.3953,40.2048 ,40.0142,39.8238,39.6331,39.4421, 39.1559,38.8692,38.6779,38.3912,38.1041 ,37.817,37.6253,37.4341,37.2423,36.9544 ,36.7626,36.5704,36.3785,36.0902, 35.8979,35.6095,35.4171,35.2248,35.0323 ,34.7435,34.5508,34.262,34.0694,33.8408 ,33.6104,33.3801,33.15,32.9198,32.5744, 32.2288,31.8831,31.6526,31.3066,30.9606 ,30.73,30.4992,30.4889,30.4919,30.4958, 30.4973,30.498,30.6141,30.8448,31.0764, 31.3082,31.5386,31.7693,32.0005,32.2318 ,32.4626,32.6935,33.0393,33.3854, 33.7314,33.962,34.1751,34.368,34.5613, 34.7541,35.0435,35.3331,35.5256,35.8142 ,36.0068,36.2957,36.4877,36.6802, 36.9686,37.1605,37.3529,37.5453,37.7374 ,38.0252,38.2171,38.4087,38.6004,38.792 ,39.079,39.2704,39.462,39.6532,39.8441, 40.0352,40.2262,40.4172,40.6079, 40.7964)
FOOTPRINT_POINT_LONGITUDE = (339.752,339.432,339.176,338.84,338.584 ,338.184,338.075,338.083,338.092,338.1, 338.108,338.116,338.124,338.136,338.147 ,338.154,338.165,338.175,338.185, 338.192,338.198,338.204,338.213,338.219 ,338.225,338.231,338.239,338.244, 338.252,338.257,338.261,338.266,338.273 ,338.277,338.284,338.288,338.293, 338.297,338.302,338.306,338.31,338.316, 338.322,338.327,338.33,338.334,338.339, 338.341,338.344,338.648,338.891,339.286 ,339.56,339.728,339.915,339.913,339.911 ,339.908,339.906,339.904,339.902, 339.899,339.897,339.895,339.891,339.887 ,339.884,339.881,339.879,339.876, 339.874,339.872,339.869,339.865,339.863 ,339.859,339.857,339.853,339.851, 339.848,339.844,339.842,339.839,339.836 ,339.833,339.829,339.826,339.824, 339.821,339.818,339.814,339.81,339.807, 339.804,339.801,339.798,339.795,339.792 ,339.788,339.752)
ORBIT_NUMBER = 9502
ORBITAL_ECCENTRICITY = 0.574
ORBITAL_INCLINATION = 86.88
ORBITAL_SEMIMAJOR_AXIS = 8810.56
PERIAPSIS_ALTITUDE = 365.73
PERIAPSIS_ARGUMENT_ANGLE = 137.74
PERIAPSIS_TIME = 2011-06-12T09:51:43.000Z
SPACECRAFT_ORIENTATION = (0.0,-1.0,0.0)
^MEX_ORIENTATION_DESC = "MEX_ORIENTATION_DESC.TXT"
SPACECRAFT_POINTING_MODE = NADIR
^MEX_POINTING_DESC = "MEX_POINTING_DESC.TXT"
RIGHT_ASCENSION = -1e+32
DECLINATION = -1e+32
OFFSET_ANGLE = -1e+32
SPACECRAFT_SOLAR_DISTANCE = 2.15439e+08
TARGET_NAME = MARS
/* CAMERA DATA ELEMENTS */
DETECTOR_TEMPERATURE = 17.5549
FOCAL_PLANE_TEMPERATURE = 8.5833
INST_CMPRS_NAME = "DISCRETE COSINE TRANSFORMATION (DCT)"
INST_CMPRS_RATIO = 9.66087
INST_CMPRS_QUALITY = 0
INST_CMPRS_QUANTZ_TBL_ID = 0
INSTRUMENT_TEMPERATURE = 11.234
LENS_TEMPERATURE = 9.195
MACROPIXEL_SIZE = 2
MISSING_FRAMES = 0
PIXEL_SUBSAMPLING_FLAG = N
SIGNAL_CHAIN_ID = 1
/* RADIOMETRIC DATA ELEMENTS */
BANDWIDTH = 180.0
CENTER_FILTER_WAVELENGTH = 677.0
RADIANCE_OFFSET = 3.98777
RADIANCE_SCALING_FACTOR = 0.00836109
REFLECTANCE_SCALING_FACTOR = 0.000202467
MEX:REFLECTANCE_OFFSET = 0.0965656
/* IMAGE OBJECT DEFINITIONS */
OBJECT = IMAGE
  INTERCHANGE_FORMAT = BINARY
  LINES = 24224
  LINE_SAMPLES = 3631
  SAMPLE_TYPE = UNSIGNED_INTEGER
  SAMPLE_BITS = 8
  BANDS = 1
  BAND_STORAGE_TYPE = BAND_SEQUENTIAL
  MAXIMUM = 255
  MEAN = 103.706
  MINIMUM = 1
  STANDARD_DEVIATION = 26.3826
END_OBJECT = IMAGE
/* MAP OBJECT DEFINITIONS */
OBJECT = IMAGE_MAP_PROJECTION
  ^DATA_SET_MAP_PROJECTION_CATALOG= "DSMAP.CAT"
  A_AXIS_RADIUS = 3396.0
  B_AXIS_RADIUS = 3396.0
  C_AXIS_RADIUS = 3396.0
  CENTER_LATITUDE = 0.0
  CENTER_LONGITUDE = 339.0
  COORDINATE_SYSTEM_NAME = PLANETOGRAPHIC
  COORDINATE_SYSTEM_TYPE = "BODY-FIXED ROTATING"
  EASTERNMOST_LONGITUDE = 339.915
  FIRST_STANDARD_PARALLEL = "N/A"
  LINE_FIRST_PIXEL = 1
  LINE_LAST_PIXEL = 24224
  LINE_PROJECTION_OFFSET = 96591.75
  MAP_PROJECTION_ROTATION = 0.0
  MAP_PROJECTION_TYPE = SINUSOIDAL
  MAP_RESOLUTION = 2370.85521546667
  MAP_SCALE = 0.025
  MAXIMUM_LATITUDE = 40.7964
  MINIMUM_LATITUDE = 30.4889
  POSITIVE_LONGITUDE_DIRECTION = EAST
  REFERENCE_LATITUDE = "N/A"
  REFERENCE_LONGITUDE = "N/A"
  SAMPLE_FIRST_PIXEL = 1
  SAMPLE_LAST_PIXEL = 3631
  SAMPLE_PROJECTION_OFFSET = 1702.25
  SECOND_STANDARD_PARALLEL = "N/A"
  WESTERNMOST_LONGITUDE = 338.075
END_OBJECT = IMAGE_MAP_PROJECTION
/* The JPEG2000 image data file associated with this label. */
OBJECT = COMPRESSED_FILE
  FILE_NAME = "H9502_0000_S13.JP2"
  RECORD_TYPE = UNDEFINED
  FILE_RECORDS = UNK
  ENCODING_TYPE = "JP2"
  INTERCHANGE_FORMAT = BINARY
  UNCOMPRESSED_FILE_NAME = "H9502_0000_S13.IMG"
  REQUIRED_STORAGE_BYTES = "87979130"
  ^DESCRIPTION = "JP2INFO.TXT"
END_OBJECT = COMPRESSED_FILE
END
