PDS_VERSION_ID = PDS3
/* FILE DATA ELEMENTS */
RECORD_TYPE = STREAM
/* POINTERS TO DATA OBJECTS */
^COMPRESSED_FILE = "H9497_0000_RE3.JP2"
/* IDENTIFICATION DATA ELEMENTS */
DATA_SET_ID = "MEX-M-HRSC-5-REFDR-MAPPROJECTED-V3.0"
DATA_SET_NAME = "MARS EXPRESS HRSC MAP PROJECTED REFDR V3.0"
DETECTOR_ID = MEX_HRSC_RED
EVENT_TYPE = "MARS-REGIONAL-MAPPING-Te"
INSTRUMENT_HOST_ID = MEX
INSTRUMENT_HOST_NAME = "MARS EXPRESS"
INSTRUMENT_ID = HRSC
INSTRUMENT_NAME = "HIGH RESOLUTION STEREO CAMERA"
MISSION_NAME = "MARS EXPRESS"
MISSION_PHASE_NAME = ME_Phase_23
PROCESSING_LEVEL_ID = 3
PRODUCT_CREATION_TIME = 2016-07-15T11:06:14.000Z
PRODUCT_ID = "H9497_0000_RE3.JP2"
RELEASE_ID = 0097
REVISION_ID = 0000
/* QUALITY DATA ELEMENTS */
DATA_QUALITY_ID = 1
DATA_QUALITY_DESC = "Data calculated based on original SPICE kernels"
/* TIME DATA ELEMENTS */
SPACECRAFT_CLOCK_START_COUNT = "1/0255826542.09071"
SPACECRAFT_CLOCK_STOP_COUNT = "1/0255826818.42380"
START_TIME = 2011-06-10T22:56:49.700Z
STOP_TIME = 2011-06-10T23:00:10.745Z
/* ORBITAL DATA ELEMENTS */
ASCENDING_NODE_LONGITUDE = 35.91
MAXIMUM_RESOLUTION = 66.6
FOOTPRINT_POINT_LATITUDE = (30.899,30.9068,30.914,30.9655,30.7372, 30.3949,30.1673,29.8261,29.4855,29.1454 ,28.8062,28.4674,28.0173,27.6719, 27.4417,27.2116,26.9818,26.7522,26.5232 ,26.1723,25.938,25.7042,25.4706,25.2374 ,25.0006,24.7622,24.5243,24.2865, 24.0492,23.8091,23.5667,23.3247,23.0831 ,22.8419,22.4731,22.2271,21.9816, 21.7363,21.4858,21.2357,20.9861,20.6098 ,20.3559,20.1024,19.8495,19.5922,19.206 ,18.9787,18.9694,18.9574,18.9489,18.941 ,18.9329,18.9262,19.1839,19.4421,19.829 ,20.0826,20.4639,20.7185,20.9681, 21.2184,21.4689,21.7191,22.0881,22.3344 ,22.5811,22.8267,23.0687,23.311,23.5535 ,23.7967,24.0367,24.2745,24.5127, 24.7512,24.9902,25.2269,25.4607,25.6946 ,25.929,26.1638,26.515,26.7446,26.9744, 27.2048,27.4353,27.6664,28.0115,28.35, 28.6893,29.1425,29.3696,29.5969,29.8245 ,30.1664,30.3944,30.6228,30.8517, 30.899)
FOOTPRINT_POINT_LONGITUDE = (130.14,129.663,129.18,128.905,128.909, 128.915,128.918,128.924,128.929,128.933 ,128.937,128.941,128.945,128.948,128.95 ,128.951,128.953,128.954,128.955, 128.957,128.957,128.958,128.958,128.959 ,128.959,128.959,128.958,128.958, 128.958,128.957,128.956,128.955,128.954 ,128.953,128.951,128.949,128.947, 128.945,128.943,128.941,128.939,128.934 ,128.931,128.928,128.925,128.921, 128.916,128.913,129.244,129.661,129.953 ,130.227,130.499,130.759,130.755, 130.752,130.746,130.742,130.736,130.733 ,130.729,130.725,130.721,130.717, 130.712,130.708,130.704,130.7,130.696, 130.692,130.689,130.685,130.681,130.677 ,130.673,130.669,130.665,130.661, 130.657,130.653,130.649,130.644,130.638 ,130.634,130.63,130.626,130.622,130.617 ,130.611,130.604,130.598,130.589, 130.584,130.58,130.575,130.568,130.563, 130.559,130.554,130.14)
ORBIT_NUMBER = 9497
ORBITAL_ECCENTRICITY = 0.574
ORBITAL_INCLINATION = 86.86
ORBITAL_SEMIMAJOR_AXIS = 8818.73
PERIAPSIS_ALTITUDE = 365.25
PERIAPSIS_ARGUMENT_ANGLE = 138.63
PERIAPSIS_TIME = 2011-06-10T22:53:38.000Z
SPACECRAFT_ORIENTATION = (0.0,-1.0,0.0)
^MEX_ORIENTATION_DESC = "MEX_ORIENTATION_DESC.TXT"
SPACECRAFT_POINTING_MODE = ACROSSTRACK
^MEX_POINTING_DESC = "MEX_POINTING_DESC.TXT"
RIGHT_ASCENSION = -1e+32
DECLINATION = -1e+32
OFFSET_ANGLE = -0.64
SPACECRAFT_SOLAR_DISTANCE = 2.15197e+08
TARGET_NAME = MARS
/* CAMERA DATA ELEMENTS */
DETECTOR_TEMPERATURE = 18.7783
FOCAL_PLANE_TEMPERATURE = 8.9911
INST_CMPRS_NAME = "DISCRETE COSINE TRANSFORMATION (DCT)"
INST_CMPRS_RATIO = 12.4655
INST_CMPRS_QUALITY = 0
INST_CMPRS_QUANTZ_TBL_ID = 0
INSTRUMENT_TEMPERATURE = 10.6223
LENS_TEMPERATURE = 9.3989
MACROPIXEL_SIZE = 4
MISSING_FRAMES = 0
PIXEL_SUBSAMPLING_FLAG = N
SIGNAL_CHAIN_ID = 2
/* RADIOMETRIC DATA ELEMENTS */
BANDWIDTH = 48.0
CENTER_FILTER_WAVELENGTH = 748.0
RADIANCE_OFFSET = 1.02248
RADIANCE_SCALING_FACTOR = 0.00572055
REFLECTANCE_SCALING_FACTOR = 0.000604558
MEX:REFLECTANCE_OFFSET = 0.108058
/* IMAGE OBJECT DEFINITIONS */
OBJECT = IMAGE
  INTERCHANGE_FORMAT = BINARY
  LINES = 14247
  LINE_SAMPLES = 2035
  SAMPLE_TYPE = UNSIGNED_INTEGER
  SAMPLE_BITS = 8
  BANDS = 1
  BAND_STORAGE_TYPE = BAND_SEQUENTIAL
  MAXIMUM = 255
  MEAN = 130.558
  MINIMUM = 1
  STANDARD_DEVIATION = 41.4512
END_OBJECT = IMAGE
/* MAP OBJECT DEFINITIONS */
OBJECT = IMAGE_MAP_PROJECTION
  ^DATA_SET_MAP_PROJECTION_CATALOG= "DSMAP.CAT"
  A_AXIS_RADIUS = 3396.0
  B_AXIS_RADIUS = 3396.0
  C_AXIS_RADIUS = 3396.0
  CENTER_LATITUDE = 0.0
  CENTER_LONGITUDE = 130.0
  COORDINATE_SYSTEM_NAME = PLANETOGRAPHIC
  COORDINATE_SYSTEM_TYPE = "BODY-FIXED ROTATING"
  EASTERNMOST_LONGITUDE = 130.759
  FIRST_STANDARD_PARALLEL = "N/A"
  LINE_FIRST_PIXEL = 1
  LINE_LAST_PIXEL = 14247
  LINE_PROJECTION_OFFSET = 36682.625
  MAP_PROJECTION_ROTATION = 0.0
  MAP_PROJECTION_TYPE = SINUSOIDAL
  MAP_RESOLUTION = 1185.42760773333
  MAP_SCALE = 0.05
  MAXIMUM_LATITUDE = 30.9655
  MINIMUM_LATITUDE = 18.9262
  POSITIVE_LONGITUDE_DIRECTION = EAST
  REFERENCE_LATITUDE = "N/A"
  REFERENCE_LONGITUDE = "N/A"
  SAMPLE_FIRST_PIXEL = 1
  SAMPLE_LAST_PIXEL = 2035
  SAMPLE_PROJECTION_OFFSET = 1228.625
  SECOND_STANDARD_PARALLEL = "N/A"
  WESTERNMOST_LONGITUDE = 128.905
END_OBJECT = IMAGE_MAP_PROJECTION
/* The JPEG2000 image data file associated with this label. */
OBJECT = COMPRESSED_FILE
  FILE_NAME = "H9497_0000_RE3.JP2"
  RECORD_TYPE = UNDEFINED
  FILE_RECORDS = UNK
  ENCODING_TYPE = "JP2"
  INTERCHANGE_FORMAT = BINARY
  UNCOMPRESSED_FILE_NAME = "H9497_0000_RE3.IMG"
  REQUIRED_STORAGE_BYTES = "29012995"
  ^DESCRIPTION = "JP2INFO.TXT"
END_OBJECT = COMPRESSED_FILE
END
