PDS_VERSION_ID = PDS3
/* FILE DATA ELEMENTS */
RECORD_TYPE = STREAM
/* POINTERS TO DATA OBJECTS */
^COMPRESSED_FILE = "H9490_0000_P23.JP2"
/* IDENTIFICATION DATA ELEMENTS */
DATA_SET_ID = "MEX-M-HRSC-5-REFDR-MAPPROJECTED-V3.0"
DATA_SET_NAME = "MARS EXPRESS HRSC MAP PROJECTED REFDR V3.0"
DETECTOR_ID = MEX_HRSC_P2
EVENT_TYPE = "MARS-REGIONAL-MAPPING-Vo-Fl-Pf"
INSTRUMENT_HOST_ID = MEX
INSTRUMENT_HOST_NAME = "MARS EXPRESS"
INSTRUMENT_ID = HRSC
INSTRUMENT_NAME = "HIGH RESOLUTION STEREO CAMERA"
MISSION_NAME = "MARS EXPRESS"
MISSION_PHASE_NAME = ME_Phase_23
PROCESSING_LEVEL_ID = 3
PRODUCT_CREATION_TIME = 2016-07-15T11:06:14.000Z
PRODUCT_ID = "H9490_0000_P23.JP2"
RELEASE_ID = 0097
REVISION_ID = 0000
/* QUALITY DATA ELEMENTS */
DATA_QUALITY_ID = 1
DATA_QUALITY_DESC = "Data calculated based on original SPICE kernels"
/* TIME DATA ELEMENTS */
SPACECRAFT_CLOCK_START_COUNT = "1/0255650336.08247"
SPACECRAFT_CLOCK_STOP_COUNT = "1/0255650504.15661"
START_TIME = 2011-06-08T21:59:58.993Z
STOP_TIME = 2011-06-08T22:01:29.992Z
/* ORBITAL DATA ELEMENTS */
ASCENDING_NODE_LONGITUDE = 36.05
MAXIMUM_RESOLUTION = 33.7
FOOTPRINT_POINT_LATITUDE = (27.14,27.1427,27.1442,27.1458,27.1473, 27.1487,27.1501,27.1515,27.1528,27.1541 ,27.1553,27.1565,27.031,26.8708,26.7107 ,26.4443,26.2846,26.0187,25.8036, 25.6947,25.5858,25.4225,25.2594,25.0964 ,24.9879,24.8251,24.6623,24.5541, 24.4458,24.3347,24.2238,24.1126,24.0021 ,23.8913,23.7253,23.5595,23.449,23.2834 ,23.1732,23.0609,22.948,22.7787,22.6659 ,22.5534,22.4408,22.3283,22.2159, 22.1036,21.9352,21.763,21.6706,21.6687, 21.6656,21.6635,21.6611,21.6588,21.6565 ,21.6542,21.6518,21.6494,21.6469, 21.6445,21.8166,21.9311,22.0998,22.2687 ,22.4378,22.6071,22.7765,22.9461, 23.0593,23.2263,23.3369,23.4475,23.6135 ,23.7798,23.9462,24.0572,24.1683, 24.2794,24.4457,24.5541,24.717,24.88, 25.0432,25.2065,25.3699,25.4789,25.6425 ,25.7517,25.8609,26.0743,26.2342, 26.3942,26.6079,26.7147,26.8215,26.982, 27.0889,27.14)
FOOTPRINT_POINT_LONGITUDE = (126.6,126.402,126.281,126.158,126.036, 125.913,125.789,125.666,125.542,125.417 ,125.292,125.166,125.083,125.084, 125.085,125.087,125.087,125.088,125.089 ,125.089,125.09,125.09,125.09,125.091, 125.091,125.091,125.091,125.091,125.091 ,125.091,125.091,125.091,125.091, 125.091,125.09,125.09,125.09,125.089, 125.089,125.088,125.088,125.087,125.087 ,125.086,125.085,125.085,125.084, 125.083,125.082,125.081,125.248,125.366 ,125.55,125.683,125.816,125.948,126.08, 126.212,126.343,126.474,126.605,126.735 ,126.788,126.786,126.784,126.782, 126.779,126.777,126.775,126.772,126.771 ,126.768,126.767,126.765,126.763, 126.761,126.758,126.757,126.755,126.754 ,126.751,126.75,126.747,126.745,126.742 ,126.74,126.738,126.736,126.733,126.732 ,126.73,126.727,126.724,126.722,126.719 ,126.717,126.715,126.713,126.711,126.6)
ORBIT_NUMBER = 9490
ORBITAL_ECCENTRICITY = 0.575
ORBITAL_INCLINATION = 86.86
ORBITAL_SEMIMAJOR_AXIS = 8821.62
PERIAPSIS_ALTITUDE = 364.34
PERIAPSIS_ARGUMENT_ANGLE = 139.84
PERIAPSIS_TIME = 2011-06-08T21:56:13.000Z
SPACECRAFT_ORIENTATION = (0.0,-1.0,0.0)
^MEX_ORIENTATION_DESC = "MEX_ORIENTATION_DESC.TXT"
SPACECRAFT_POINTING_MODE = NADIR
^MEX_POINTING_DESC = "MEX_POINTING_DESC.TXT"
RIGHT_ASCENSION = -1e+32
DECLINATION = -1e+32
OFFSET_ANGLE = -1e+32
SPACECRAFT_SOLAR_DISTANCE = 2.14862e+08
TARGET_NAME = MARS
/* CAMERA DATA ELEMENTS */
DETECTOR_TEMPERATURE = 18.9822
FOCAL_PLANE_TEMPERATURE = 8.7872
INST_CMPRS_NAME = "DISCRETE COSINE TRANSFORMATION (DCT)"
INST_CMPRS_RATIO = 5.7399
INST_CMPRS_QUALITY = 0
INST_CMPRS_QUANTZ_TBL_ID = 0
INSTRUMENT_TEMPERATURE = 11.234
LENS_TEMPERATURE = 9.195
MACROPIXEL_SIZE = 2
MISSING_FRAMES = 0
PIXEL_SUBSAMPLING_FLAG = N
SIGNAL_CHAIN_ID = 3
/* RADIOMETRIC DATA ELEMENTS */
BANDWIDTH = 177.0
CENTER_FILTER_WAVELENGTH = 676.5
RADIANCE_OFFSET = 3.73584
RADIANCE_SCALING_FACTOR = 0.0168395
REFLECTANCE_SCALING_FACTOR = 0.0004122
MEX:REFLECTANCE_OFFSET = 0.0914466
/* IMAGE OBJECT DEFINITIONS */
OBJECT = IMAGE
  INTERCHANGE_FORMAT = BINARY
  LINES = 13116
  LINE_SAMPLES = 3749
  SAMPLE_TYPE = UNSIGNED_INTEGER
  SAMPLE_BITS = 8
  BANDS = 1
  BAND_STORAGE_TYPE = BAND_SEQUENTIAL
  MAXIMUM = 255
  MEAN = 101.833
  MINIMUM = 1
  STANDARD_DEVIATION = 26.716
END_OBJECT = IMAGE
/* MAP OBJECT DEFINITIONS */
OBJECT = IMAGE_MAP_PROJECTION
  ^DATA_SET_MAP_PROJECTION_CATALOG= "DSMAP.CAT"
  A_AXIS_RADIUS = 3396.0
  B_AXIS_RADIUS = 3396.0
  C_AXIS_RADIUS = 3396.0
  CENTER_LATITUDE = 0.0
  CENTER_LONGITUDE = 126.0
  COORDINATE_SYSTEM_NAME = PLANETOGRAPHIC
  COORDINATE_SYSTEM_TYPE = "BODY-FIXED ROTATING"
  EASTERNMOST_LONGITUDE = 126.788
  FIRST_STANDARD_PARALLEL = "N/A"
  LINE_FIRST_PIXEL = 1
  LINE_LAST_PIXEL = 13116
  LINE_PROJECTION_OFFSET = 64412.25
  MAP_PROJECTION_ROTATION = 0.0
  MAP_PROJECTION_TYPE = SINUSOIDAL
  MAP_RESOLUTION = 2370.85521546667
  MAP_SCALE = 0.025
  MAXIMUM_LATITUDE = 27.1565
  MINIMUM_LATITUDE = 21.6445
  POSITIVE_LONGITUDE_DIRECTION = EAST
  REFERENCE_LATITUDE = "N/A"
  REFERENCE_LONGITUDE = "N/A"
  SAMPLE_FIRST_PIXEL = 1
  SAMPLE_LAST_PIXEL = 3749
  SAMPLE_PROJECTION_OFFSET = 2064.25
  SECOND_STANDARD_PARALLEL = "N/A"
  WESTERNMOST_LONGITUDE = 125.081
END_OBJECT = IMAGE_MAP_PROJECTION
/* The JPEG2000 image data file associated with this label. */
OBJECT = COMPRESSED_FILE
  FILE_NAME = "H9490_0000_P23.JP2"
  RECORD_TYPE = UNDEFINED
  FILE_RECORDS = UNK
  ENCODING_TYPE = "JP2"
  INTERCHANGE_FORMAT = BINARY
  UNCOMPRESSED_FILE_NAME = "H9490_0000_P23.IMG"
  REQUIRED_STORAGE_BYTES = "49194378"
  ^DESCRIPTION = "JP2INFO.TXT"
END_OBJECT = COMPRESSED_FILE
END
