PDS_VERSION_ID = PDS3
/* FILE DATA ELEMENTS */
RECORD_TYPE = STREAM
/* POINTERS TO DATA OBJECTS */
^COMPRESSED_FILE = "H9487_0009_P23.JP2"
/* IDENTIFICATION DATA ELEMENTS */
DATA_SET_ID = "MEX-M-HRSC-5-REFDR-MAPPROJECTED-V3.0"
DATA_SET_NAME = "MARS EXPRESS HRSC MAP PROJECTED REFDR V3.0"
DETECTOR_ID = MEX_HRSC_P2
EVENT_TYPE = "MARS-REGIONAL-MAPPING-Vo-Eo"
INSTRUMENT_HOST_ID = MEX
INSTRUMENT_HOST_NAME = "MARS EXPRESS"
INSTRUMENT_ID = HRSC
INSTRUMENT_NAME = "HIGH RESOLUTION STEREO CAMERA"
MISSION_NAME = "MARS EXPRESS"
MISSION_PHASE_NAME = ME_Phase_23
PROCESSING_LEVEL_ID = 3
PRODUCT_CREATION_TIME = 2016-07-15T11:06:14.000Z
PRODUCT_ID = "H9487_0009_P23.JP2"
RELEASE_ID = 0097
REVISION_ID = 0000
/* QUALITY DATA ELEMENTS */
DATA_QUALITY_ID = 1
DATA_QUALITY_DESC = "Data calculated based on original SPICE kernels"
/* TIME DATA ELEMENTS */
SPACECRAFT_CLOCK_START_COUNT = "1/0255574936.08248"
SPACECRAFT_CLOCK_STOP_COUNT = "1/0255575166.08551"
START_TIME = 2011-06-08T01:03:29.718Z
STOP_TIME = 2011-06-08T01:05:45.605Z
/* ORBITAL DATA ELEMENTS */
ASCENDING_NODE_LONGITUDE = 36.1
MAXIMUM_RESOLUTION = 78.3
FOOTPRINT_POINT_LATITUDE = (17.9504,17.9508,17.951,17.9514,17.9517 ,17.9519,17.9521,17.8108,17.5178, 17.2256,16.9285,16.5573,16.2589,16.1057 ,15.8765,15.725,15.5008,15.2721,15.1184 ,14.9637,14.8102,14.6572,14.4239, 14.2681,14.1125,13.9572,13.8021,13.647, 13.4921,13.3376,13.1833,12.9533,12.7982 ,12.645,12.4918,12.3387,12.1855,12.0327 ,11.8803,11.7281,11.576,11.3482,11.1966 ,11.0452,10.8942,10.7435,10.5925, 10.4419,10.2643,10.2666,10.2619,10.2583 ,10.2568,10.2551,10.2539,10.2523, 10.2521,10.4024,10.553,10.7044,10.8577, 11.007,11.2348,11.3866,11.5386,11.691, 11.844,11.9968,12.2267,12.3799,12.5334, 12.6875,12.9184,13.0727,13.2275,13.3836 ,13.5372,13.6924,13.8475,14.003,14.1589 ,14.3151,14.4715,14.6278,14.7812, 14.9351,15.1661,15.3203,15.4738,15.6249 ,15.7765,15.9283,16.1559,16.3071, 16.6045,16.9024,17.2006,17.4934,17.7867 ,17.9504)
FOOTPRINT_POINT_LONGITUDE = (74.1745,73.9306,73.752,73.4925,73.2338 ,73.0076,72.846,72.7234,72.7169,72.7102 ,72.7033,72.6941,72.6872,72.684,72.6791 ,72.6754,72.6688,72.6626,72.6585, 72.6548,72.6507,72.6465,72.64,72.6355, 72.6311,72.6266,72.622,72.6175,72.613, 72.6083,72.6036,72.5961,72.5918,72.5868 ,72.5819,72.577,72.5721,72.5671,72.5621 ,72.557,72.5519,72.5442,72.539,72.5338, 72.5285,72.5231,72.5179,72.5125,72.6177 ,72.7863,72.9377,73.3331,73.5785, 73.8244,73.9758,74.2603,74.5334,74.5319 ,74.5304,74.5293,74.5291,74.5265, 74.5246,74.5232,74.5218,74.5205,74.5194 ,74.5181,74.5163,74.5149,74.5137, 74.5126,74.5106,74.5093,74.5082,74.5078 ,74.5058,74.5046,74.5033,74.502,74.5009 ,74.4999,74.4988,74.4977,74.4966, 74.4956,74.4942,74.4931,74.4922,74.4911 ,74.4902,74.4893,74.4877,74.4865, 74.4842,74.4819,74.4796,74.4774,74.4751 ,74.1745)
ORBIT_NUMBER = 9487
ORBITAL_ECCENTRICITY = 0.575
ORBITAL_INCLINATION = 86.88
ORBITAL_SEMIMAJOR_AXIS = 8823.15
PERIAPSIS_ALTITUDE = 363.3
PERIAPSIS_ARGUMENT_ANGLE = 140.35
PERIAPSIS_TIME = 2011-06-08T00:57:19.000Z
SPACECRAFT_ORIENTATION = (0.0,-1.0,0.0)
^MEX_ORIENTATION_DESC = "MEX_ORIENTATION_DESC.TXT"
SPACECRAFT_POINTING_MODE = ACROSSTRACK
^MEX_POINTING_DESC = "MEX_POINTING_DESC.TXT"
RIGHT_ASCENSION = -1e+32
DECLINATION = -1e+32
OFFSET_ANGLE = 0.2
SPACECRAFT_SOLAR_DISTANCE = 2.1472e+08
TARGET_NAME = MARS
/* CAMERA DATA ELEMENTS */
DETECTOR_TEMPERATURE = 18.9822
FOCAL_PLANE_TEMPERATURE = 9.8067
INST_CMPRS_NAME = "DISCRETE COSINE TRANSFORMATION (DCT)"
INST_CMPRS_RATIO = 9.2245
INST_CMPRS_QUALITY = 0
INST_CMPRS_QUANTZ_TBL_ID = 0
INSTRUMENT_TEMPERATURE = 11.6418
LENS_TEMPERATURE = 10.2145
MACROPIXEL_SIZE = 4
MISSING_FRAMES = 0
PIXEL_SUBSAMPLING_FLAG = N
SIGNAL_CHAIN_ID = 3
/* RADIOMETRIC DATA ELEMENTS */
BANDWIDTH = 177.0
CENTER_FILTER_WAVELENGTH = 676.5
RADIANCE_OFFSET = 2.81007
RADIANCE_SCALING_FACTOR = 0.0159498
REFLECTANCE_SCALING_FACTOR = 0.000389907
MEX:REFLECTANCE_OFFSET = 0.0686946
/* IMAGE OBJECT DEFINITIONS */
OBJECT = IMAGE
  INTERCHANGE_FORMAT = BINARY
  LINES = 9137
  LINE_SAMPLES = 2329
  SAMPLE_TYPE = UNSIGNED_INTEGER
  SAMPLE_BITS = 8
  BANDS = 1
  BAND_STORAGE_TYPE = BAND_SEQUENTIAL
  MAXIMUM = 255
  MEAN = 123.203
  MINIMUM = 1
  STANDARD_DEVIATION = 15.3201
END_OBJECT = IMAGE
/* MAP OBJECT DEFINITIONS */
OBJECT = IMAGE_MAP_PROJECTION
  ^DATA_SET_MAP_PROJECTION_CATALOG= "DSMAP.CAT"
  A_AXIS_RADIUS = 3396.0
  B_AXIS_RADIUS = 3396.0
  C_AXIS_RADIUS = 3396.0
  CENTER_LATITUDE = 0.0
  CENTER_LONGITUDE = 74.0
  COORDINATE_SYSTEM_NAME = PLANETOGRAPHIC
  COORDINATE_SYSTEM_TYPE = "BODY-FIXED ROTATING"
  EASTERNMOST_LONGITUDE = 74.5334
  FIRST_STANDARD_PARALLEL = "N/A"
  LINE_FIRST_PIXEL = 1
  LINE_LAST_PIXEL = 9137
  LINE_PROJECTION_OFFSET = 21286.875
  MAP_PROJECTION_ROTATION = 0.0
  MAP_PROJECTION_TYPE = SINUSOIDAL
  MAP_RESOLUTION = 1185.42760773333
  MAP_SCALE = 0.05
  MAXIMUM_LATITUDE = 17.9521
  MINIMUM_LATITUDE = 10.2521
  POSITIVE_LONGITUDE_DIRECTION = EAST
  REFERENCE_LATITUDE = "N/A"
  REFERENCE_LONGITUDE = "N/A"
  SAMPLE_FIRST_PIXEL = 1
  SAMPLE_LAST_PIXEL = 2329
  SAMPLE_PROJECTION_OFFSET = 1714.625
  SECOND_STANDARD_PARALLEL = "N/A"
  WESTERNMOST_LONGITUDE = 72.5125
END_OBJECT = IMAGE_MAP_PROJECTION
/* The JPEG2000 image data file associated with this label. */
OBJECT = COMPRESSED_FILE
  FILE_NAME = "H9487_0009_P23.JP2"
  RECORD_TYPE = UNDEFINED
  FILE_RECORDS = UNK
  ENCODING_TYPE = "JP2"
  INTERCHANGE_FORMAT = BINARY
  UNCOMPRESSED_FILE_NAME = "H9487_0009_P23.IMG"
  REQUIRED_STORAGE_BYTES = "21298705"
  ^DESCRIPTION = "JP2INFO.TXT"
END_OBJECT = COMPRESSED_FILE
END
