PDS_VERSION_ID = PDS3
/* FILE DATA ELEMENTS */
RECORD_TYPE = STREAM
/* POINTERS TO DATA OBJECTS */
^COMPRESSED_FILE = "H9484_0000_GR3.JP2"
/* IDENTIFICATION DATA ELEMENTS */
DATA_SET_ID = "MEX-M-HRSC-5-REFDR-MAPPROJECTED-V3.0"
DATA_SET_NAME = "MARS EXPRESS HRSC MAP PROJECTED REFDR V3.0"
DETECTOR_ID = MEX_HRSC_GREEN
EVENT_TYPE = "MARS-REGIONAL-MAPPING-Im-Fl-La"
INSTRUMENT_HOST_ID = MEX
INSTRUMENT_HOST_NAME = "MARS EXPRESS"
INSTRUMENT_ID = HRSC
INSTRUMENT_NAME = "HIGH RESOLUTION STEREO CAMERA"
MISSION_NAME = "MARS EXPRESS"
MISSION_PHASE_NAME = ME_Phase_23
PROCESSING_LEVEL_ID = 3
PRODUCT_CREATION_TIME = 2016-07-15T11:06:14.000Z
PRODUCT_ID = "H9484_0000_GR3.JP2"
RELEASE_ID = 0097
REVISION_ID = 0000
/* QUALITY DATA ELEMENTS */
DATA_QUALITY_ID = 1
DATA_QUALITY_DESC = "Data calculated based on original SPICE kernels"
/* TIME DATA ELEMENTS */
SPACECRAFT_CLOCK_START_COUNT = "1/0255499222.09135"
SPACECRAFT_CLOCK_STOP_COUNT = "1/0255499547.46650"
START_TIME = 2011-06-07T04:00:53.456Z
STOP_TIME = 2011-06-07T04:04:49.401Z
/* ORBITAL DATA ELEMENTS */
ASCENDING_NODE_LONGITUDE = 36.17
MAXIMUM_RESOLUTION = 61.1
FOOTPRINT_POINT_LATITUDE = (29.0199,29.0156,29.013,29.0099,29.0064 ,28.9949,28.7098,28.2824,27.997,27.7122 ,27.2864,27.0022,26.7179,26.4332, 26.0079,25.7244,25.4412,25.158,24.8751, 24.5925,24.3102,24.0281,23.6045,23.1827 ,22.9013,22.6127,22.3243,22.0362, 21.7484,21.4609,21.02,20.7258,20.4318, 20.1382,19.8389,19.5375,19.0884,18.6349 ,18.3282,18.0223,17.715,17.2492,16.9368 ,16.6248,16.149,15.8308,15.5131,15.0275 ,14.7035,14.3801,14.1889,14.1884, 14.1878,14.186,14.1848,14.3443,14.8312, 15.1555,15.48,15.7983,16.1171,16.5943, 16.9068,17.2196,17.6879,18.1479,18.4548 ,18.9128,19.2134,19.5143,19.8154, 20.1153,20.4094,20.704,21.1464,21.4414, 21.7296,22.1607,22.4497,22.7394,23.0258 ,23.4488,23.7311,24.1551,24.4378, 24.7207,25.0039,25.2874,25.571,25.8549, 26.1382,26.423,26.8501,27.1347,27.5618, 27.8468,28.1321,28.4174,28.703,29.0199)
FOOTPRINT_POINT_LONGITUDE = (20.4193,19.9473,19.7238,19.4994, 19.2739,19.0226,19.0264,19.0315,19.0327 ,19.0353,19.0419,19.0443,19.0456,19.045 ,19.0478,19.0492,19.0502,19.0507, 19.0514,19.052,19.0526,19.0529,19.0505, 19.0517,19.0507,19.0499,19.0488,19.0476 ,19.0462,19.0446,19.042,19.0403,19.0382 ,19.0362,19.0313,19.0259,19.0248, 19.0186,19.0145,19.0117,19.0036,19.0002 ,18.995,18.9898,18.9817,18.976,18.9703, 18.9616,18.955,18.9481,19.075,19.3547, 19.6168,20.0567,20.3645,20.692,20.6874, 20.6853,20.6832,20.6808,20.6782,20.6744 ,20.6718,20.6694,20.6657,20.6617, 20.6593,20.6554,20.6527,20.6501,20.6474 ,20.6447,20.6422,20.6396,20.6355, 20.6325,20.6298,20.627,20.6241,20.6206, 20.6174,20.6131,20.6102,20.6056,20.6027 ,20.5999,20.5968,20.5937,20.5906, 20.5873,20.5848,20.5811,20.5756,20.5723 ,20.5674,20.5639,20.5603,20.5568, 20.5531,20.4193)
ORBIT_NUMBER = 9484
ORBITAL_ECCENTRICITY = 0.575
ORBITAL_INCLINATION = 86.86
ORBITAL_SEMIMAJOR_AXIS = 8820.76
PERIAPSIS_ALTITUDE = 363.92
PERIAPSIS_ARGUMENT_ANGLE = 140.87
PERIAPSIS_TIME = 2011-06-07T03:58:23.000Z
SPACECRAFT_ORIENTATION = (0.0,-1.0,0.0)
^MEX_ORIENTATION_DESC = "MEX_ORIENTATION_DESC.TXT"
SPACECRAFT_POINTING_MODE = ACROSSTRACK
^MEX_POINTING_DESC = "MEX_POINTING_DESC.TXT"
RIGHT_ASCENSION = -1e+32
DECLINATION = -1e+32
OFFSET_ANGLE = -0.38
SPACECRAFT_SOLAR_DISTANCE = 2.14579e+08
TARGET_NAME = MARS
/* CAMERA DATA ELEMENTS */
DETECTOR_TEMPERATURE = 18.3705
FOCAL_PLANE_TEMPERATURE = 8.7872
INST_CMPRS_NAME = "DISCRETE COSINE TRANSFORMATION (DCT)"
INST_CMPRS_RATIO = 9.53327
INST_CMPRS_QUALITY = 0
INST_CMPRS_QUANTZ_TBL_ID = 0
INSTRUMENT_TEMPERATURE = 10.6223
LENS_TEMPERATURE = 9.8067
MACROPIXEL_SIZE = 4
MISSING_FRAMES = 0
PIXEL_SUBSAMPLING_FLAG = N
SIGNAL_CHAIN_ID = 2
/* RADIOMETRIC DATA ELEMENTS */
BANDWIDTH = 88.0
CENTER_FILTER_WAVELENGTH = 538.0
RADIANCE_OFFSET = 1.37825
RADIANCE_SCALING_FACTOR = 0.00649737
REFLECTANCE_SCALING_FACTOR = 0.000257574
MEX:REFLECTANCE_OFFSET = 0.0546376
/* IMAGE OBJECT DEFINITIONS */
OBJECT = IMAGE
  INTERCHANGE_FORMAT = BINARY
  LINES = 17590
  LINE_SAMPLES = 2116
  SAMPLE_TYPE = UNSIGNED_INTEGER
  SAMPLE_BITS = 8
  BANDS = 1
  BAND_STORAGE_TYPE = BAND_SEQUENTIAL
  MAXIMUM = 255
  MEAN = 137.854
  MINIMUM = 1
  STANDARD_DEVIATION = 25.0809
END_OBJECT = IMAGE
/* MAP OBJECT DEFINITIONS */
OBJECT = IMAGE_MAP_PROJECTION
  ^DATA_SET_MAP_PROJECTION_CATALOG= "DSMAP.CAT"
  A_AXIS_RADIUS = 3396.0
  B_AXIS_RADIUS = 3396.0
  C_AXIS_RADIUS = 3396.0
  CENTER_LATITUDE = 0.0
  CENTER_LONGITUDE = 20.0
  COORDINATE_SYSTEM_NAME = PLANETOGRAPHIC
  COORDINATE_SYSTEM_TYPE = "BODY-FIXED ROTATING"
  EASTERNMOST_LONGITUDE = 20.692
  FIRST_STANDARD_PARALLEL = "N/A"
  LINE_FIRST_PIXEL = 1
  LINE_LAST_PIXEL = 17590
  LINE_PROJECTION_OFFSET = 34403.375
  MAP_PROJECTION_ROTATION = 0.0
  MAP_PROJECTION_TYPE = SINUSOIDAL
  MAP_RESOLUTION = 1185.42760773333
  MAP_SCALE = 0.05
  MAXIMUM_LATITUDE = 29.0199
  MINIMUM_LATITUDE = 14.1848
  POSITIVE_LONGITUDE_DIRECTION = EAST
  REFERENCE_LATITUDE = "N/A"
  REFERENCE_LONGITUDE = "N/A"
  SAMPLE_FIRST_PIXEL = 1
  SAMPLE_LAST_PIXEL = 2116
  SAMPLE_PROJECTION_OFFSET = 1286.625
  SECOND_STANDARD_PARALLEL = "N/A"
  WESTERNMOST_LONGITUDE = 18.9481
END_OBJECT = IMAGE_MAP_PROJECTION
/* The JPEG2000 image data file associated with this label. */
OBJECT = COMPRESSED_FILE
  FILE_NAME = "H9484_0000_GR3.JP2"
  RECORD_TYPE = UNDEFINED
  FILE_RECORDS = UNK
  ENCODING_TYPE = "JP2"
  INTERCHANGE_FORMAT = BINARY
  UNCOMPRESSED_FILE_NAME = "H9484_0000_GR3.IMG"
  REQUIRED_STORAGE_BYTES = "37241600"
  ^DESCRIPTION = "JP2INFO.TXT"
END_OBJECT = COMPRESSED_FILE
END
