PDS_VERSION_ID = PDS3
/* FILE DATA ELEMENTS */
RECORD_TYPE = STREAM
/* POINTERS TO DATA OBJECTS */
^COMPRESSED_FILE = "H9482_0000_S23.JP2"
/* IDENTIFICATION DATA ELEMENTS */
DATA_SET_ID = "MEX-M-HRSC-5-REFDR-MAPPROJECTED-V3.0"
DATA_SET_NAME = "MARS EXPRESS HRSC MAP PROJECTED REFDR V3.0"
DETECTOR_ID = MEX_HRSC_S2
EVENT_TYPE = "MARS-REGIONAL-MAPPING-Vo-Te-Mw"
INSTRUMENT_HOST_ID = MEX
INSTRUMENT_HOST_NAME = "MARS EXPRESS"
INSTRUMENT_ID = HRSC
INSTRUMENT_NAME = "HIGH RESOLUTION STEREO CAMERA"
MISSION_NAME = "MARS EXPRESS"
MISSION_PHASE_NAME = ME_Phase_23
PROCESSING_LEVEL_ID = 3
PRODUCT_CREATION_TIME = 2016-07-15T11:06:14.000Z
PRODUCT_ID = "H9482_0000_S23.JP2"
RELEASE_ID = 0097
REVISION_ID = 0000
/* QUALITY DATA ELEMENTS */
DATA_QUALITY_ID = 1
DATA_QUALITY_DESC = "Data calculated based on original SPICE kernels"
/* TIME DATA ELEMENTS */
SPACECRAFT_CLOCK_START_COUNT = "1/0255448665.07298"
SPACECRAFT_CLOCK_STOP_COUNT = "1/0255448900.39289"
START_TIME = 2011-06-06T13:58:55.592Z
STOP_TIME = 2011-06-06T14:01:41.617Z
/* ORBITAL DATA ELEMENTS */
ASCENDING_NODE_LONGITUDE = 36.21
MAXIMUM_RESOLUTION = 31.1
FOOTPRINT_POINT_LATITUDE = (41.1921,41.1979,41.2034,41.2088, 41.2138,41.2864,41.0896,40.8936,40.6974 ,40.4035,40.1099,39.9137,39.7161, 39.4177,39.2184,39.0209,38.635,38.4397, 38.2462,38.0491,37.7582,37.5628,37.3707 ,37.1778,36.9855,36.6945,36.4045, 36.2112,35.998,35.767,35.5355,35.1891, 34.9591,34.7337,34.5054,34.2728,33.9273 ,33.5846,33.3565,33.1277,32.8996, 32.6708,32.443,32.2156,31.8746,31.6481, 31.4203,31.194,30.9696,30.7323,30.7207, 30.7067,30.691,30.6745,30.8997,31.1302, 31.3553,31.5837,31.9252,32.1526,32.3811 ,32.6099,32.8382,33.0674,33.2951, 33.5249,33.7542,34.0992,34.3292,34.674, 34.904,35.1334,35.3637,35.5946,35.8258, 36.1553,36.3485,36.5422,36.7355,36.9322 ,37.1312,37.5111,37.7055,37.8997, 38.0937,38.2885,38.4876,38.7835,38.9863 ,39.1814,39.3721,39.6688,39.868,40.065, 40.2611,40.4578,40.6541,40.949,41.146, 41.1921)
FOOTPRINT_POINT_LONGITUDE = (223.711,223.449,223.183,222.915, 222.642,222.3,222.315,222.328,222.342, 222.361,222.38,222.393,222.408,222.432, 222.448,222.462,222.48,222.491,222.5, 222.513,222.528,222.539,222.547,222.555 ,222.563,222.577,222.59,222.599,222.608 ,222.619,222.63,222.645,222.655,222.659 ,222.667,222.679,222.693,222.705, 222.712,222.72,222.728,222.736,222.743, 222.75,222.76,222.766,222.773,222.779, 222.783,222.985,223.26,223.64,224.014, 224.417,224.411,224.405,224.4,224.394, 224.385,224.379,224.373,224.367,224.361 ,224.355,224.349,224.343,224.336, 224.326,224.32,224.31,224.303,224.297, 224.29,224.283,224.276,224.265,224.259, 224.253,224.247,224.24,224.233,224.222, 224.216,224.209,224.203,224.196,224.188 ,224.177,224.168,224.161,224.155, 224.143,224.135,224.127,224.12,224.112, 224.104,224.092,224.084,223.711)
ORBIT_NUMBER = 9482
ORBITAL_ECCENTRICITY = 0.575
ORBITAL_INCLINATION = 86.88
ORBITAL_SEMIMAJOR_AXIS = 8822.17
PERIAPSIS_ALTITUDE = 362.86
PERIAPSIS_ARGUMENT_ANGLE = 141.19
PERIAPSIS_TIME = 2011-06-06T13:59:01.000Z
SPACECRAFT_ORIENTATION = (0.0,-1.0,0.0)
^MEX_ORIENTATION_DESC = "MEX_ORIENTATION_DESC.TXT"
SPACECRAFT_POINTING_MODE = ACROSSTRACK
^MEX_POINTING_DESC = "MEX_POINTING_DESC.TXT"
RIGHT_ASCENSION = -1e+32
DECLINATION = -1e+32
OFFSET_ANGLE = -1.0
SPACECRAFT_SOLAR_DISTANCE = 2.14485e+08
TARGET_NAME = MARS
/* CAMERA DATA ELEMENTS */
DETECTOR_TEMPERATURE = 18.9822
FOCAL_PLANE_TEMPERATURE = 8.5833
INST_CMPRS_NAME = "DISCRETE COSINE TRANSFORMATION (DCT)"
INST_CMPRS_RATIO = 7.01351
INST_CMPRS_QUALITY = 0
INST_CMPRS_QUANTZ_TBL_ID = 0
INSTRUMENT_TEMPERATURE = 11.4379
LENS_TEMPERATURE = 8.9911
MACROPIXEL_SIZE = 2
MISSING_FRAMES = 0
PIXEL_SUBSAMPLING_FLAG = N
SIGNAL_CHAIN_ID = 1
/* RADIOMETRIC DATA ELEMENTS */
BANDWIDTH = 178.0
CENTER_FILTER_WAVELENGTH = 679.0
RADIANCE_OFFSET = 2.93718
RADIANCE_SCALING_FACTOR = 0.0234884
REFLECTANCE_SCALING_FACTOR = 0.000572241
MEX:REFLECTANCE_OFFSET = 0.0715576
/* IMAGE OBJECT DEFINITIONS */
OBJECT = IMAGE
  INTERCHANGE_FORMAT = BINARY
  LINES = 25120
  LINE_SAMPLES = 4196
  SAMPLE_TYPE = UNSIGNED_INTEGER
  SAMPLE_BITS = 8
  BANDS = 1
  BAND_STORAGE_TYPE = BAND_SEQUENTIAL
  MAXIMUM = 255
  MEAN = 130.017
  MINIMUM = 1
  STANDARD_DEVIATION = 30.1348
END_OBJECT = IMAGE
/* MAP OBJECT DEFINITIONS */
OBJECT = IMAGE_MAP_PROJECTION
  ^DATA_SET_MAP_PROJECTION_CATALOG= "DSMAP.CAT"
  A_AXIS_RADIUS = 3396.0
  B_AXIS_RADIUS = 3396.0
  C_AXIS_RADIUS = 3396.0
  CENTER_LATITUDE = 0.0
  CENTER_LONGITUDE = 223.0
  COORDINATE_SYSTEM_NAME = PLANETOGRAPHIC
  COORDINATE_SYSTEM_TYPE = "BODY-FIXED ROTATING"
  EASTERNMOST_LONGITUDE = 224.417
  FIRST_STANDARD_PARALLEL = "N/A"
  LINE_FIRST_PIXEL = 1
  LINE_LAST_PIXEL = 25120
  LINE_PROJECTION_OFFSET = 97866.75
  MAP_PROJECTION_ROTATION = 0.0
  MAP_PROJECTION_TYPE = SINUSOIDAL
  MAP_RESOLUTION = 2370.85521546667
  MAP_SCALE = 0.025
  MAXIMUM_LATITUDE = 41.2864
  MINIMUM_LATITUDE = 30.6745
  POSITIVE_LONGITUDE_DIRECTION = EAST
  REFERENCE_LATITUDE = "N/A"
  REFERENCE_LONGITUDE = "N/A"
  SAMPLE_FIRST_PIXEL = 1
  SAMPLE_LAST_PIXEL = 4196
  SAMPLE_PROJECTION_OFFSET = 1328.75
  SECOND_STANDARD_PARALLEL = "N/A"
  WESTERNMOST_LONGITUDE = 222.3
END_OBJECT = IMAGE_MAP_PROJECTION
/* The JPEG2000 image data file associated with this label. */
OBJECT = COMPRESSED_FILE
  FILE_NAME = "H9482_0000_S23.JP2"
  RECORD_TYPE = UNDEFINED
  FILE_RECORDS = UNK
  ENCODING_TYPE = "JP2"
  INTERCHANGE_FORMAT = BINARY
  UNCOMPRESSED_FILE_NAME = "H9482_0000_S23.IMG"
  REQUIRED_STORAGE_BYTES = "105428696"
  ^DESCRIPTION = "JP2INFO.TXT"
END_OBJECT = COMPRESSED_FILE
END
