PDS_VERSION_ID = PDS3
/* FILE DATA ELEMENTS */
RECORD_TYPE = STREAM
/* POINTERS TO DATA OBJECTS */
^COMPRESSED_FILE = "H9481_0000_ND3.JP2"
/* IDENTIFICATION DATA ELEMENTS */
DATA_SET_ID = "MEX-M-HRSC-5-REFDR-MAPPROJECTED-V3.0"
DATA_SET_NAME = "MARS EXPRESS HRSC MAP PROJECTED REFDR V3.0"
DETECTOR_ID = MEX_HRSC_NADIR
EVENT_TYPE = "MARS-REGIONAL-MAPPING-Vo-Te-Fl"
INSTRUMENT_HOST_ID = MEX
INSTRUMENT_HOST_NAME = "MARS EXPRESS"
INSTRUMENT_ID = HRSC
INSTRUMENT_NAME = "HIGH RESOLUTION STEREO CAMERA"
MISSION_NAME = "MARS EXPRESS"
MISSION_PHASE_NAME = ME_Phase_23
PROCESSING_LEVEL_ID = 3
PRODUCT_CREATION_TIME = 2016-07-15T11:06:14.000Z
PRODUCT_ID = "H9481_0000_ND3.JP2"
RELEASE_ID = 0097
REVISION_ID = 0000
/* QUALITY DATA ELEMENTS */
DATA_QUALITY_ID = 1
DATA_QUALITY_DESC = "Data calculated based on original SPICE kernels"
/* TIME DATA ELEMENTS */
SPACECRAFT_CLOCK_START_COUNT = "1/0255423610.09085"
SPACECRAFT_CLOCK_STOP_COUNT = "1/0255423829.49526"
START_TIME = 2011-06-06T07:00:46.364Z
STOP_TIME = 2011-06-06T07:03:11.382Z
/* ORBITAL DATA ELEMENTS */
ASCENDING_NODE_LONGITUDE = 36.22
MAXIMUM_RESOLUTION = 14.9
FOOTPRINT_POINT_LATITUDE = (33.4649,33.4614,33.4575,33.453,33.448, 33.4424,33.3434,33.1573,32.9713,32.7853 ,32.5994,32.4135,32.2276,32.0418,31.856 ,31.6703,31.4847,31.299,31.1135,30.928, 30.7425,30.5571,30.3718,30.1865,30.0013 ,29.8161,29.631,29.446,29.261,29.0762, 28.8913,28.7066,28.5219,28.3373,28.1528 ,27.9683,27.7839,27.5996,27.4154, 27.2313,27.0473,26.8633,26.6794,26.3119 ,25.9448,25.5781,25.2117,24.8457, 24.4801,24.1969,24.1996,24.202,24.2039, 24.206,24.2068,24.4817,24.848,25.2147, 25.5818,25.9492,26.1331,26.3171,26.5011 ,26.6853,26.8695,27.0538,27.2383, 27.4228,27.6073,27.792,27.9768,28.1616, 28.3465,28.5314,28.7165,28.9016,29.0868 ,29.2721,29.4574,29.6428,29.8283, 30.0139,30.1995,30.3851,30.5709,30.7567 ,30.9425,31.1284,31.3144,31.5004, 31.6865,31.8726,32.0588,32.245,32.4312, 32.6176,32.8039,32.9903,33.1768, 33.4649)
FOOTPRINT_POINT_LONGITUDE = (326.61,326.371,326.13,325.886,325.639, 325.389,325.122,325.128,325.134,325.141 ,325.147,325.152,325.158,325.164, 325.169,325.175,325.18,325.185,325.19, 325.195,325.2,325.205,325.209,325.214, 325.218,325.222,325.226,325.23,325.234, 325.238,325.241,325.245,325.249,325.251 ,325.255,325.258,325.261,325.264, 325.267,325.269,325.272,325.274,325.276 ,325.281,325.285,325.289,325.292, 325.295,325.298,325.397,325.64,325.91, 326.162,326.55,326.796,326.891,326.885, 326.879,326.873,326.868,326.865,326.862 ,326.858,326.855,326.852,326.849, 326.846,326.843,326.839,326.836,326.833 ,326.829,326.826,326.823,326.819, 326.816,326.812,326.809,326.805,326.801 ,326.798,326.794,326.79,326.787,326.783 ,326.779,326.775,326.771,326.767, 326.763,326.759,326.755,326.751,326.747 ,326.742,326.738,326.734,326.73,326.725 ,326.61)
ORBIT_NUMBER = 9481
ORBITAL_ECCENTRICITY = 0.574
ORBITAL_INCLINATION = 86.88
ORBITAL_SEMIMAJOR_AXIS = 8816.18
PERIAPSIS_ALTITUDE = 363.37
PERIAPSIS_ARGUMENT_ANGLE = 141.39
PERIAPSIS_TIME = 2011-06-06T06:59:27.000Z
SPACECRAFT_ORIENTATION = (0.0,-1.0,0.0)
^MEX_ORIENTATION_DESC = "MEX_ORIENTATION_DESC.TXT"
SPACECRAFT_POINTING_MODE = ACROSSTRACK
^MEX_POINTING_DESC = "MEX_POINTING_DESC.TXT"
RIGHT_ASCENSION = -1e+32
DECLINATION = -1e+32
OFFSET_ANGLE = -0.9
SPACECRAFT_SOLAR_DISTANCE = 2.14439e+08
TARGET_NAME = MARS
/* CAMERA DATA ELEMENTS */
DETECTOR_TEMPERATURE = 18.5744
FOCAL_PLANE_TEMPERATURE = 10.2145
INST_CMPRS_NAME = "DISCRETE COSINE TRANSFORMATION (DCT)"
INST_CMPRS_RATIO = 7.00623
INST_CMPRS_QUALITY = 0
INST_CMPRS_QUANTZ_TBL_ID = 0
INSTRUMENT_TEMPERATURE = 11.6418
LENS_TEMPERATURE = 10.4184
MACROPIXEL_SIZE = 1
MISSING_FRAMES = 0
PIXEL_SUBSAMPLING_FLAG = N
SIGNAL_CHAIN_ID = 0
/* RADIOMETRIC DATA ELEMENTS */
BANDWIDTH = 177.0
CENTER_FILTER_WAVELENGTH = 677.5
RADIANCE_OFFSET = 2.63324
RADIANCE_SCALING_FACTOR = 0.0106442
REFLECTANCE_SCALING_FACTOR = 0.000260017
MEX:REFLECTANCE_OFFSET = 0.0643251
/* IMAGE OBJECT DEFINITIONS */
OBJECT = IMAGE
  INTERCHANGE_FORMAT = BINARY
  LINES = 43967
  LINE_SAMPLES = 7606
  SAMPLE_TYPE = UNSIGNED_INTEGER
  SAMPLE_BITS = 8
  BANDS = 1
  BAND_STORAGE_TYPE = BAND_SEQUENTIAL
  MAXIMUM = 255
  MEAN = 116.5
  MINIMUM = 1
  STANDARD_DEVIATION = 31.0749
END_OBJECT = IMAGE
/* MAP OBJECT DEFINITIONS */
OBJECT = IMAGE_MAP_PROJECTION
  ^DATA_SET_MAP_PROJECTION_CATALOG= "DSMAP.CAT"
  A_AXIS_RADIUS = 3396.0
  B_AXIS_RADIUS = 3396.0
  C_AXIS_RADIUS = 3396.0
  CENTER_LATITUDE = 0.0
  CENTER_LONGITUDE = 326.0
  COORDINATE_SYSTEM_NAME = PLANETOGRAPHIC
  COORDINATE_SYSTEM_TYPE = "BODY-FIXED ROTATING"
  EASTERNMOST_LONGITUDE = 326.891
  FIRST_STANDARD_PARALLEL = "N/A"
  LINE_FIRST_PIXEL = 1
  LINE_LAST_PIXEL = 43967
  LINE_PROJECTION_OFFSET = 158695.0
  MAP_PROJECTION_ROTATION = 0.0
  MAP_PROJECTION_TYPE = SINUSOIDAL
  MAP_RESOLUTION = 4741.71043093333
  MAP_SCALE = 0.0125
  MAXIMUM_LATITUDE = 33.4649
  MINIMUM_LATITUDE = 24.1969
  POSITIVE_LONGITUDE_DIRECTION = EAST
  REFERENCE_LATITUDE = "N/A"
  REFERENCE_LONGITUDE = "N/A"
  SAMPLE_FIRST_PIXEL = 1
  SAMPLE_LAST_PIXEL = 7606
  SAMPLE_PROJECTION_OFFSET = 3715.0
  SECOND_STANDARD_PARALLEL = "N/A"
  WESTERNMOST_LONGITUDE = 325.122
END_OBJECT = IMAGE_MAP_PROJECTION
/* The JPEG2000 image data file associated with this label. */
OBJECT = COMPRESSED_FILE
  FILE_NAME = "H9481_0000_ND3.JP2"
  RECORD_TYPE = UNDEFINED
  FILE_RECORDS = UNK
  ENCODING_TYPE = "JP2"
  INTERCHANGE_FORMAT = BINARY
  UNCOMPRESSED_FILE_NAME = "H9481_0000_ND3.IMG"
  REQUIRED_STORAGE_BYTES = "334443426"
  ^DESCRIPTION = "JP2INFO.TXT"
END_OBJECT = COMPRESSED_FILE
END
