PDS_VERSION_ID = PDS3
/* FILE DATA ELEMENTS */
RECORD_TYPE = STREAM
/* POINTERS TO DATA OBJECTS */
^COMPRESSED_FILE = "H9479_0000_P23.JP2"
/* IDENTIFICATION DATA ELEMENTS */
DATA_SET_ID = "MEX-M-HRSC-5-REFDR-MAPPROJECTED-V3.0"
DATA_SET_NAME = "MARS EXPRESS HRSC MAP PROJECTED REFDR V3.0"
DETECTOR_ID = MEX_HRSC_P2
EVENT_TYPE = "MARS-REGIONAL-MAPPING-Vo-Te"
INSTRUMENT_HOST_ID = MEX
INSTRUMENT_HOST_NAME = "MARS EXPRESS"
INSTRUMENT_ID = HRSC
INSTRUMENT_NAME = "HIGH RESOLUTION STEREO CAMERA"
MISSION_NAME = "MARS EXPRESS"
MISSION_PHASE_NAME = ME_Phase_23
PROCESSING_LEVEL_ID = 3
PRODUCT_CREATION_TIME = 2016-07-15T11:06:14.000Z
PRODUCT_ID = "H9479_0000_P23.JP2"
RELEASE_ID = 0097
REVISION_ID = 0000
/* QUALITY DATA ELEMENTS */
DATA_QUALITY_ID = 1
DATA_QUALITY_DESC = "Data calculated based on original SPICE kernels"
/* TIME DATA ELEMENTS */
SPACECRAFT_CLOCK_START_COUNT = "1/0255373418.09043"
SPACECRAFT_CLOCK_STOP_COUNT = "1/0255373643.41607"
START_TIME = 2011-06-05T17:04:43.539Z
STOP_TIME = 2011-06-05T17:07:06.774Z
/* ORBITAL DATA ELEMENTS */
ASCENDING_NODE_LONGITUDE = 36.25
MAXIMUM_RESOLUTION = 69.9
FOOTPRINT_POINT_LATITUDE = (22.7433,22.7392,22.7349,22.7306, 22.7262,22.7217,22.7432,22.5022,22.3405 ,22.1789,22.0175,21.8562,21.4539, 21.2082,21.0436,20.8792,20.715,20.5509, 20.387,20.2233,19.9734,19.806,19.6388, 19.4719,19.3053,19.0552,18.8855,18.715, 18.5448,18.2906,18.1209,17.9492,17.6896 ,17.5166,17.257,17.0874,16.9135,16.6521 ,16.4767,16.3011,16.1252,15.9506, 15.7763,15.5153,15.3413,15.1674,14.9939 ,14.8194,14.5604,14.3867,14.2706, 14.2738,14.2752,14.2798,14.2825,14.2839 ,14.4623,14.6337,14.8073,15.0681, 15.3287,15.5028,15.7646,15.9396,16.1149 ,16.2892,16.4656,16.6415,16.8166, 16.9934,17.1651,17.4238,17.6843,17.8572 ,18.1117,18.2811,18.4529,18.6234, 18.8786,19.0499,19.2966,19.4647,19.6333 ,19.7998,19.9665,20.2166,20.3796, 20.6239,20.8709,21.1188,21.2838,21.5308 ,21.6947,21.8557,22.0173,22.1788, 22.3406,22.5025,22.6644,22.7433)
FOOTPRINT_POINT_LONGITUDE = (173.044,172.801,172.56,172.321,172.084 ,171.848,171.639,171.635,171.633,171.63 ,171.628,171.625,171.619,171.615, 171.612,171.609,171.606,171.603,171.6, 171.597,171.592,171.589,171.585,171.582 ,171.579,171.573,171.57,171.566,171.563 ,171.557,171.553,171.549,171.543, 171.539,171.533,171.529,171.525,171.518 ,171.513,171.509,171.505,171.5,171.495, 171.488,171.484,171.479,171.474,171.469 ,171.462,171.457,171.704,171.941, 172.111,172.505,172.763,173.092,173.292 ,173.29,173.289,173.289,173.287,173.287 ,173.286,173.286,173.285,173.284, 173.284,173.284,173.283,173.283,173.281 ,173.281,173.281,173.28,173.277,173.276 ,173.277,173.277,173.276,173.277, 173.273,173.274,173.275,173.273,173.272 ,173.271,173.27,173.268,173.268,173.268 ,173.268,173.27,173.272,173.272,173.272 ,173.272,173.272,173.271,173.271, 173.044)
ORBIT_NUMBER = 9479
ORBITAL_ECCENTRICITY = 0.574
ORBITAL_INCLINATION = 86.87
ORBITAL_SEMIMAJOR_AXIS = 8816.34
PERIAPSIS_ALTITUDE = 363.53
PERIAPSIS_ARGUMENT_ANGLE = 141.75
PERIAPSIS_TIME = 2011-06-05T17:00:16.000Z
SPACECRAFT_ORIENTATION = (0.0,-1.0,0.0)
^MEX_ORIENTATION_DESC = "MEX_ORIENTATION_DESC.TXT"
SPACECRAFT_POINTING_MODE = ACROSSTRACK
^MEX_POINTING_DESC = "MEX_POINTING_DESC.TXT"
RIGHT_ASCENSION = -1e+32
DECLINATION = -1e+32
OFFSET_ANGLE = 0.7
SPACECRAFT_SOLAR_DISTANCE = 2.14345e+08
TARGET_NAME = MARS
/* CAMERA DATA ELEMENTS */
DETECTOR_TEMPERATURE = 18.5744
FOCAL_PLANE_TEMPERATURE = 8.5833
INST_CMPRS_NAME = "DISCRETE COSINE TRANSFORMATION (DCT)"
INST_CMPRS_RATIO = 7.41219
INST_CMPRS_QUALITY = 0
INST_CMPRS_QUANTZ_TBL_ID = 0
INSTRUMENT_TEMPERATURE = 11.234
LENS_TEMPERATURE = 8.7872
MACROPIXEL_SIZE = 4
MISSING_FRAMES = 0
PIXEL_SUBSAMPLING_FLAG = N
SIGNAL_CHAIN_ID = 3
/* RADIOMETRIC DATA ELEMENTS */
BANDWIDTH = 177.0
CENTER_FILTER_WAVELENGTH = 676.5
RADIANCE_OFFSET = 4.84027
RADIANCE_SCALING_FACTOR = 0.0186651
REFLECTANCE_SCALING_FACTOR = 0.000454692
MEX:REFLECTANCE_OFFSET = 0.117912
/* IMAGE OBJECT DEFINITIONS */
OBJECT = IMAGE
  INTERCHANGE_FORMAT = BINARY
  LINES = 10059
  LINE_SAMPLES = 2096
  SAMPLE_TYPE = UNSIGNED_INTEGER
  SAMPLE_BITS = 8
  BANDS = 1
  BAND_STORAGE_TYPE = BAND_SEQUENTIAL
  MAXIMUM = 255
  MEAN = 134.523
  MINIMUM = 1
  STANDARD_DEVIATION = 25.5521
END_OBJECT = IMAGE
/* MAP OBJECT DEFINITIONS */
OBJECT = IMAGE_MAP_PROJECTION
  ^DATA_SET_MAP_PROJECTION_CATALOG= "DSMAP.CAT"
  A_AXIS_RADIUS = 3396.0
  B_AXIS_RADIUS = 3396.0
  C_AXIS_RADIUS = 3396.0
  CENTER_LATITUDE = 0.0
  CENTER_LONGITUDE = 172.0
  COORDINATE_SYSTEM_NAME = PLANETOGRAPHIC
  COORDINATE_SYSTEM_TYPE = "BODY-FIXED ROTATING"
  EASTERNMOST_LONGITUDE = 173.292
  FIRST_STANDARD_PARALLEL = "N/A"
  LINE_FIRST_PIXEL = 1
  LINE_LAST_PIXEL = 10059
  LINE_PROJECTION_OFFSET = 26958.375
  MAP_PROJECTION_ROTATION = 0.0
  MAP_PROJECTION_TYPE = SINUSOIDAL
  MAP_RESOLUTION = 1185.42760773333
  MAP_SCALE = 0.05
  MAXIMUM_LATITUDE = 22.7433
  MINIMUM_LATITUDE = 14.2706
  POSITIVE_LONGITUDE_DIRECTION = EAST
  REFERENCE_LATITUDE = "N/A"
  REFERENCE_LONGITUDE = "N/A"
  SAMPLE_FIRST_PIXEL = 1
  SAMPLE_LAST_PIXEL = 2096
  SAMPLE_PROJECTION_OFFSET = 589.625
  SECOND_STANDARD_PARALLEL = "N/A"
  WESTERNMOST_LONGITUDE = 171.457
END_OBJECT = IMAGE_MAP_PROJECTION
/* The JPEG2000 image data file associated with this label. */
OBJECT = COMPRESSED_FILE
  FILE_NAME = "H9479_0000_P23.JP2"
  RECORD_TYPE = UNDEFINED
  FILE_RECORDS = UNK
  ENCODING_TYPE = "JP2"
  INTERCHANGE_FORMAT = BINARY
  UNCOMPRESSED_FILE_NAME = "H9479_0000_P23.IMG"
  REQUIRED_STORAGE_BYTES = "21104624"
  ^DESCRIPTION = "JP2INFO.TXT"
END_OBJECT = COMPRESSED_FILE
END
