PDS_VERSION_ID = PDS3
/* FILE DATA ELEMENTS */
RECORD_TYPE = STREAM
/* POINTERS TO DATA OBJECTS */
^COMPRESSED_FILE = "H9458_0000_S23.JP2"
/* IDENTIFICATION DATA ELEMENTS */
DATA_SET_ID = "MEX-M-HRSC-5-REFDR-MAPPROJECTED-V3.0"
DATA_SET_NAME = "MARS EXPRESS HRSC MAP PROJECTED REFDR V3.0"
DETECTOR_ID = MEX_HRSC_S2
EVENT_TYPE = "MARS-REGIONAL-MAPPING-Vo-Te-Pf"
INSTRUMENT_HOST_ID = MEX
INSTRUMENT_HOST_NAME = "MARS EXPRESS"
INSTRUMENT_ID = HRSC
INSTRUMENT_NAME = "HIGH RESOLUTION STEREO CAMERA"
MISSION_NAME = "MARS EXPRESS"
MISSION_PHASE_NAME = ME_Phase_23
PROCESSING_LEVEL_ID = 3
PRODUCT_CREATION_TIME = 2016-07-15T11:06:14.000Z
PRODUCT_ID = "H9458_0000_S23.JP2"
RELEASE_ID = 0097
REVISION_ID = 0000
/* QUALITY DATA ELEMENTS */
DATA_QUALITY_ID = 1
DATA_QUALITY_DESC = "Data calculated based on original SPICE kernels"
/* TIME DATA ELEMENTS */
SPACECRAFT_CLOCK_START_COUNT = "1/0254844401.07296"
SPACECRAFT_CLOCK_STOP_COUNT = "1/0254844673.65267"
START_TIME = 2011-05-30T14:07:50.335Z
STOP_TIME = 2011-05-30T14:11:14.938Z
/* ORBITAL DATA ELEMENTS */
ASCENDING_NODE_LONGITUDE = 36.65
MAXIMUM_RESOLUTION = 31.1
FOOTPRINT_POINT_LATITUDE = (37.9597,37.9567,37.951,38.0098,37.759, 37.5083,37.2576,37.0074,36.6323,36.3823 ,36.1324,35.8829,35.6336,35.3843, 35.1353,34.7615,34.5126,34.2643,33.892, 33.6442,33.2725,33.0247,32.7772,32.5301 ,32.1597,31.9133,31.667,31.2977,31.0518 ,30.8061,30.5607,30.3155,30.0707, 29.8261,29.5818,29.3378,29.0572,28.7666 ,28.4767,28.1865,27.8971,27.6083, 27.3198,26.8878,26.6,26.3129,26.0261, 25.7397,25.3105,25.0256,24.9998,25.0008 ,25.0002,25.0007,25.0015,25.4306, 25.8606,26.1474,26.4339,26.7215,27.1512 ,27.4529,27.7442,28.0321,28.3093, 28.6015,28.8922,29.3214,29.5677,29.9345 ,30.176,30.4207,30.6702,30.9162,31.1623 ,31.4086,31.6549,32.0254,32.2725, 32.5206,32.768,33.1401,33.3884,33.636, 33.885,34.2566,34.6314,34.8805,35.1297, 35.3793,35.6288,35.8787,36.1291,36.3796 ,36.7553,37.0058,37.3821,37.7587, 38.0097,37.9597)
FOOTPRINT_POINT_LONGITUDE = (159.851,159.606,159.176,158.59,158.599 ,158.609,158.618,158.627,158.64,158.648 ,158.656,158.664,158.671,158.679, 158.686,158.696,158.703,158.709,158.719 ,158.724,158.733,158.738,158.744, 158.749,158.756,158.76,158.765,158.771, 158.775,158.779,158.782,158.786,158.789 ,158.792,158.795,158.798,158.8,158.803, 158.806,158.808,158.81,158.812,158.814, 158.816,158.817,158.818,158.819,158.819 ,158.82,158.82,159.055,159.422,159.642, 159.922,160.339,160.336,160.333,160.331 ,160.329,160.327,160.323,160.326, 160.324,160.322,160.315,160.314,160.312 ,160.308,160.307,160.304,160.301, 160.299,160.299,160.297,160.295,160.293 ,160.291,160.288,160.286,160.284, 160.282,160.279,160.277,160.275,160.273 ,160.269,160.266,160.263,160.261, 160.258,160.256,160.253,160.251,160.248 ,160.244,160.241,160.237,160.233,160.23 ,159.851)
ORBIT_NUMBER = 9458
ORBITAL_ECCENTRICITY = 0.575
ORBITAL_INCLINATION = 86.87
ORBITAL_SEMIMAJOR_AXIS = 8823.84
PERIAPSIS_ALTITUDE = 361.41
PERIAPSIS_ARGUMENT_ANGLE = 145.4
PERIAPSIS_TIME = 2011-05-30T14:08:10.000Z
SPACECRAFT_ORIENTATION = (0.0,-1.0,0.0)
^MEX_ORIENTATION_DESC = "MEX_ORIENTATION_DESC.TXT"
SPACECRAFT_POINTING_MODE = NADIR
^MEX_POINTING_DESC = "MEX_POINTING_DESC.TXT"
RIGHT_ASCENSION = -1e+32
DECLINATION = -1e+32
OFFSET_ANGLE = -1e+32
SPACECRAFT_SOLAR_DISTANCE = 2.13392e+08
TARGET_NAME = MARS
/* CAMERA DATA ELEMENTS */
DETECTOR_TEMPERATURE = 18.7783
FOCAL_PLANE_TEMPERATURE = 8.9911
INST_CMPRS_NAME = "DISCRETE COSINE TRANSFORMATION (DCT)"
INST_CMPRS_RATIO = 5.48435
INST_CMPRS_QUALITY = 0
INST_CMPRS_QUANTZ_TBL_ID = 0
INSTRUMENT_TEMPERATURE = 11.4379
LENS_TEMPERATURE = 9.3989
MACROPIXEL_SIZE = 2
MISSING_FRAMES = 0
PIXEL_SUBSAMPLING_FLAG = N
SIGNAL_CHAIN_ID = 1
/* RADIOMETRIC DATA ELEMENTS */
BANDWIDTH = 178.0
CENTER_FILTER_WAVELENGTH = 679.0
RADIANCE_OFFSET = 2.6044
RADIANCE_SCALING_FACTOR = 0.0214368
REFLECTANCE_SCALING_FACTOR = 0.000516947
MEX:REFLECTANCE_OFFSET = 0.062805
/* IMAGE OBJECT DEFINITIONS */
OBJECT = IMAGE
  INTERCHANGE_FORMAT = BINARY
  LINES = 30905
  LINE_SAMPLES = 3417
  SAMPLE_TYPE = UNSIGNED_INTEGER
  SAMPLE_BITS = 8
  BANDS = 1
  BAND_STORAGE_TYPE = BAND_SEQUENTIAL
  MAXIMUM = 255
  MEAN = 110.374
  MINIMUM = 1
  STANDARD_DEVIATION = 29.2645
END_OBJECT = IMAGE
/* MAP OBJECT DEFINITIONS */
OBJECT = IMAGE_MAP_PROJECTION
  ^DATA_SET_MAP_PROJECTION_CATALOG= "DSMAP.CAT"
  A_AXIS_RADIUS = 3396.0
  B_AXIS_RADIUS = 3396.0
  C_AXIS_RADIUS = 3396.0
  CENTER_LATITUDE = 0.0
  CENTER_LONGITUDE = 160.0
  COORDINATE_SYSTEM_NAME = PLANETOGRAPHIC
  COORDINATE_SYSTEM_TYPE = "BODY-FIXED ROTATING"
  EASTERNMOST_LONGITUDE = 160.339
  FIRST_STANDARD_PARALLEL = "N/A"
  LINE_FIRST_PIXEL = 1
  LINE_LAST_PIXEL = 30905
  LINE_PROJECTION_OFFSET = 90126.25
  MAP_PROJECTION_ROTATION = 0.0
  MAP_PROJECTION_TYPE = SINUSOIDAL
  MAP_RESOLUTION = 2370.85521546667
  MAP_SCALE = 0.025
  MAXIMUM_LATITUDE = 38.0098
  MINIMUM_LATITUDE = 24.9998
  POSITIVE_LONGITUDE_DIRECTION = EAST
  REFERENCE_LATITUDE = "N/A"
  REFERENCE_LONGITUDE = "N/A"
  SAMPLE_FIRST_PIXEL = 1
  SAMPLE_LAST_PIXEL = 3417
  SAMPLE_PROJECTION_OFFSET = 2675.75
  SECOND_STANDARD_PARALLEL = "N/A"
  WESTERNMOST_LONGITUDE = 158.59
END_OBJECT = IMAGE_MAP_PROJECTION
/* The JPEG2000 image data file associated with this label. */
OBJECT = COMPRESSED_FILE
  FILE_NAME = "H9458_0000_S23.JP2"
  RECORD_TYPE = UNDEFINED
  FILE_RECORDS = UNK
  ENCODING_TYPE = "JP2"
  INTERCHANGE_FORMAT = BINARY
  UNCOMPRESSED_FILE_NAME = "H9458_0000_S23.IMG"
  REQUIRED_STORAGE_BYTES = "105626304"
  ^DESCRIPTION = "JP2INFO.TXT"
END_OBJECT = COMPRESSED_FILE
END
