PDS_VERSION_ID = PDS3
/* FILE DATA ELEMENTS */
RECORD_TYPE = STREAM
/* POINTERS TO DATA OBJECTS */
^COMPRESSED_FILE = "H9452_0000_RE3.JP2"
/* IDENTIFICATION DATA ELEMENTS */
DATA_SET_ID = "MEX-M-HRSC-5-REFDR-MAPPROJECTED-V3.0"
DATA_SET_NAME = "MARS EXPRESS HRSC MAP PROJECTED REFDR V3.0"
DETECTOR_ID = MEX_HRSC_RED
EVENT_TYPE = "MARS-REGIONAL-MAPPING-Im-Fl-La"
INSTRUMENT_HOST_ID = MEX
INSTRUMENT_HOST_NAME = "MARS EXPRESS"
INSTRUMENT_ID = HRSC
INSTRUMENT_NAME = "HIGH RESOLUTION STEREO CAMERA"
MISSION_NAME = "MARS EXPRESS"
MISSION_PHASE_NAME = ME_Phase_23
PROCESSING_LEVEL_ID = 3
PRODUCT_CREATION_TIME = 2016-07-15T11:06:14.000Z
PRODUCT_ID = "H9452_0000_RE3.JP2"
RELEASE_ID = 0097
REVISION_ID = 0000
/* QUALITY DATA ELEMENTS */
DATA_QUALITY_ID = 1
DATA_QUALITY_DESC = "Data calculated based on original SPICE kernels"
/* TIME DATA ELEMENTS */
SPACECRAFT_CLOCK_START_COUNT = "1/0254693553.07290"
SPACECRAFT_CLOCK_STOP_COUNT = "1/0254693806.20703"
START_TIME = 2011-05-28T20:13:40.058Z
STOP_TIME = 2011-05-28T20:16:38.978Z
/* ORBITAL DATA ELEMENTS */
ASCENDING_NODE_LONGITUDE = 36.77
MAXIMUM_RESOLUTION = 65.5
FOOTPRINT_POINT_LATITUDE = (22.6145,22.6149,22.6152,22.6156, 22.5238,22.3195,22.1128,21.9053,21.6958 ,21.488,21.2825,21.0774,20.8728,20.6685 ,20.4634,20.1557,19.952,19.7476,19.3403 ,19.1342,18.9248,18.717,18.5091,18.3014 ,18.097,17.89,17.6777,17.4677,17.256, 17.0412,16.8292,16.6185,16.403,16.187, 15.8642,15.6511,15.3238,15.105,14.7769, 14.5592,14.2268,14.0035,13.6705,13.4483 ,13.2232,12.9966,12.7712,12.4331, 12.2028,11.9132,11.9115,11.9039,11.9001 ,11.9002,12.014,12.2442,12.4737,12.6996 ,12.9251,13.152,13.3782,13.5998,13.8259 ,14.1623,14.3825,14.5989,14.8144,15.034 ,15.3632,15.5802,15.7942,16.0092, 16.2253,16.4415,16.6575,16.8683,17.1853 ,17.3969,17.6101,17.9282,18.1353,18.343 ,18.5495,18.7629,19.078,19.4885,19.7914 ,19.9959,20.3028,20.5086,20.7144,20.919 ,21.2282,21.4346,21.6408,21.8473,22.054 ,22.2603,22.4672,22.6145)
FOOTPRINT_POINT_LONGITUDE = (53.6669,53.392,53.1585,52.7602,52.5585 ,52.5566,52.5556,52.5549,52.555,52.5544 ,52.5529,52.5513,52.5495,52.5476,52.546 ,52.5436,52.5415,52.5397,52.5355,52.533 ,52.531,52.5284,52.5258,52.5232,52.5194 ,52.5165,52.5136,52.5098,52.5067, 52.5048,52.5018,52.4983,52.4946,52.4912 ,52.4856,52.4812,52.476,52.4717,52.4653 ,52.4607,52.4544,52.4499,52.4427, 52.4379,52.4328,52.4278,52.4224,52.4143 ,52.4088,52.4802,52.9085,53.1625,53.527 ,53.8926,54.1036,54.102,54.1005,54.099, 54.0973,54.0959,54.0942,54.0925,54.0925 ,54.0911,54.0885,54.0862,54.0836, 54.0825,54.0804,54.079,54.0774,54.076, 54.0749,54.0738,54.0728,54.0715,54.0696 ,54.0683,54.0675,54.0658,54.0646, 54.0635,54.0618,54.0626,54.0618,54.059, 54.0562,54.0552,54.0536,54.0528,54.052, 54.0507,54.0493,54.0484,54.0473,54.0463 ,54.0452,54.0439,54.0427,53.6669)
ORBIT_NUMBER = 9452
ORBITAL_ECCENTRICITY = 0.575
ORBITAL_INCLINATION = 86.87
ORBITAL_SEMIMAJOR_AXIS = 8832.76
PERIAPSIS_ALTITUDE = 359.92
PERIAPSIS_ARGUMENT_ANGLE = 146.45
PERIAPSIS_TIME = 2011-05-28T20:10:21.000Z
SPACECRAFT_ORIENTATION = (0.0,-1.0,0.0)
^MEX_ORIENTATION_DESC = "MEX_ORIENTATION_DESC.TXT"
SPACECRAFT_POINTING_MODE = NADIR
^MEX_POINTING_DESC = "MEX_POINTING_DESC.TXT"
RIGHT_ASCENSION = -1e+32
DECLINATION = -1e+32
OFFSET_ANGLE = -1e+32
SPACECRAFT_SOLAR_DISTANCE = 2.13129e+08
TARGET_NAME = MARS
/* CAMERA DATA ELEMENTS */
DETECTOR_TEMPERATURE = 18.7783
FOCAL_PLANE_TEMPERATURE = 9.3989
INST_CMPRS_NAME = "DISCRETE COSINE TRANSFORMATION (DCT)"
INST_CMPRS_RATIO = 9.02548
INST_CMPRS_QUALITY = 0
INST_CMPRS_QUANTZ_TBL_ID = 0
INSTRUMENT_TEMPERATURE = 11.234
LENS_TEMPERATURE = 9.8067
MACROPIXEL_SIZE = 4
MISSING_FRAMES = 0
PIXEL_SUBSAMPLING_FLAG = N
SIGNAL_CHAIN_ID = 2
/* RADIOMETRIC DATA ELEMENTS */
BANDWIDTH = 48.0
CENTER_FILTER_WAVELENGTH = 748.0
RADIANCE_OFFSET = 1.07701
RADIANCE_SCALING_FACTOR = 0.00668289
REFLECTANCE_SCALING_FACTOR = 0.000692745
MEX:REFLECTANCE_OFFSET = 0.111643
/* IMAGE OBJECT DEFINITIONS */
OBJECT = IMAGE
  INTERCHANGE_FORMAT = BINARY
  LINES = 12726
  LINE_SAMPLES = 1972
  SAMPLE_TYPE = UNSIGNED_INTEGER
  SAMPLE_BITS = 8
  BANDS = 1
  BAND_STORAGE_TYPE = BAND_SEQUENTIAL
  MAXIMUM = 255
  MEAN = 125.507
  MINIMUM = 1
  STANDARD_DEVIATION = 28.417
END_OBJECT = IMAGE
/* MAP OBJECT DEFINITIONS */
OBJECT = IMAGE_MAP_PROJECTION
  ^DATA_SET_MAP_PROJECTION_CATALOG= "DSMAP.CAT"
  A_AXIS_RADIUS = 3396.0
  B_AXIS_RADIUS = 3396.0
  C_AXIS_RADIUS = 3396.0
  CENTER_LATITUDE = 0.0
  CENTER_LONGITUDE = 53.0
  COORDINATE_SYSTEM_NAME = PLANETOGRAPHIC
  COORDINATE_SYSTEM_TYPE = "BODY-FIXED ROTATING"
  EASTERNMOST_LONGITUDE = 54.1036
  FIRST_STANDARD_PARALLEL = "N/A"
  LINE_FIRST_PIXEL = 1
  LINE_LAST_PIXEL = 12726
  LINE_PROJECTION_OFFSET = 26845.375
  MAP_PROJECTION_ROTATION = 0.0
  MAP_PROJECTION_TYPE = SINUSOIDAL
  MAP_RESOLUTION = 1185.42760773333
  MAP_SCALE = 0.05
  MAXIMUM_LATITUDE = 22.6156
  MINIMUM_LATITUDE = 11.9001
  POSITIVE_LONGITUDE_DIRECTION = EAST
  REFERENCE_LATITUDE = "N/A"
  REFERENCE_LONGITUDE = "N/A"
  SAMPLE_FIRST_PIXEL = 1
  SAMPLE_LAST_PIXEL = 1972
  SAMPLE_PROJECTION_OFFSET = 693.125
  SECOND_STANDARD_PARALLEL = "N/A"
  WESTERNMOST_LONGITUDE = 52.4088
END_OBJECT = IMAGE_MAP_PROJECTION
/* The JPEG2000 image data file associated with this label. */
OBJECT = COMPRESSED_FILE
  FILE_NAME = "H9452_0000_RE3.JP2"
  RECORD_TYPE = UNDEFINED
  FILE_RECORDS = UNK
  ENCODING_TYPE = "JP2"
  INTERCHANGE_FORMAT = BINARY
  UNCOMPRESSED_FILE_NAME = "H9452_0000_RE3.IMG"
  REQUIRED_STORAGE_BYTES = "25115392"
  ^DESCRIPTION = "JP2INFO.TXT"
END_OBJECT = COMPRESSED_FILE
END
