PDS_VERSION_ID = PDS3
/* FILE DATA ELEMENTS */
RECORD_TYPE = STREAM
/* POINTERS TO DATA OBJECTS */
^COMPRESSED_FILE = "H9422_0000_ND3.JP2"
/* IDENTIFICATION DATA ELEMENTS */
DATA_SET_ID = "MEX-M-HRSC-5-REFDR-MAPPROJECTED-V3.0"
DATA_SET_NAME = "MARS EXPRESS HRSC MAP PROJECTED REFDR V3.0"
DETECTOR_ID = MEX_HRSC_NADIR
EVENT_TYPE = "MARS-REGIONAL-MAPPING-Vo-Eo"
INSTRUMENT_HOST_ID = MEX
INSTRUMENT_HOST_NAME = "MARS EXPRESS"
INSTRUMENT_ID = HRSC
INSTRUMENT_NAME = "HIGH RESOLUTION STEREO CAMERA"
MISSION_NAME = "MARS EXPRESS"
MISSION_PHASE_NAME = ME_Phase_23
PROCESSING_LEVEL_ID = 3
PRODUCT_CREATION_TIME = 2016-07-15T11:06:14.000Z
PRODUCT_ID = "H9422_0000_ND3.JP2"
RELEASE_ID = 0097
REVISION_ID = 0000
/* QUALITY DATA ELEMENTS */
DATA_QUALITY_ID = 1
DATA_QUALITY_DESC = "Data calculated based on original SPICE kernels"
/* TIME DATA ELEMENTS */
SPACECRAFT_CLOCK_START_COUNT = "1/0253938236.08246"
SPACECRAFT_CLOCK_STOP_COUNT = "1/0253938494.30472"
START_TIME = 2011-05-20T02:24:34.838Z
STOP_TIME = 2011-05-20T02:27:23.841Z
/* ORBITAL DATA ELEMENTS */
ASCENDING_NODE_LONGITUDE = 37.35
MAXIMUM_RESOLUTION = 15.8
FOOTPRINT_POINT_LATITUDE = (13.5633,13.5644,13.5654,13.5662, 13.5668,13.5671,13.1755,12.7847,12.3944 ,12.0047,11.8055,11.6057,11.4061, 11.2066,11.0073,10.8082,10.6092,10.3042 ,10.1004,9.89677,9.69328,9.48993, 9.28677,9.07887,8.76698,8.55929,8.35181 ,8.14453,7.82796,7.61601,7.40427, 7.19276,6.98145,6.76588,6.54987,6.33408 ,6.11853,5.79315,5.57308,5.35325, 5.13367,4.91435,4.69057,4.46668,4.24305 ,4.0197,3.79662,3.57382,3.35129,3.12674 ,3.123,3.11984,3.117,3.11396,3.11129, 3.10836,3.33098,3.55387,3.77705,4.0005, 4.22422,4.44821,4.67247,4.89662,5.1163, 5.33623,5.55641,5.77684,6.10274,6.31863 ,6.53475,6.75111,6.96703,7.17866, 7.39051,7.60257,7.81485,8.13193,8.33954 ,8.54735,8.75535,8.96354,9.27587, 9.47929,9.68289,9.88666,10.0906,10.2947 ,10.6001,10.7994,10.9988,11.1984, 11.3982,11.5981,11.7981,11.9977,12.3879 ,12.7788,13.1701,13.5633)
FOOTPRINT_POINT_LONGITUDE = (241.746,241.522,241.295,241.066, 240.836,240.602,240.395,240.391,240.387 ,240.382,240.379,240.377,240.374, 240.371,240.368,240.365,240.362,240.357 ,240.354,240.351,240.348,240.346, 240.344,240.342,240.337,240.334,240.33, 240.326,240.319,240.315,240.31,240.305, 240.3,240.295,240.29,240.285,240.28, 240.272,240.266,240.26,240.255,240.249, 240.243,240.237,240.231,240.225,240.218 ,240.212,240.206,240.354,240.678, 240.949,241.184,241.434,241.65,241.905, 241.903,241.902,241.9,241.899,241.898, 241.896,241.895,241.893,241.892,241.891 ,241.889,241.888,241.886,241.885, 241.884,241.882,241.881,241.88,241.879, 241.878,241.876,241.875,241.873,241.872 ,241.871,241.87,241.868,241.867,241.866 ,241.865,241.864,241.863,241.861,241.86 ,241.859,241.858,241.857,241.855, 241.854,241.853,241.851,241.849,241.847 ,241.746)
ORBIT_NUMBER = 9422
ORBITAL_ECCENTRICITY = 0.576
ORBITAL_INCLINATION = 86.86
ORBITAL_SEMIMAJOR_AXIS = 8846.33
PERIAPSIS_ALTITUDE = 355.87
PERIAPSIS_ARGUMENT_ANGLE = 151.6
PERIAPSIS_TIME = 2011-05-20T02:20:44.000Z
SPACECRAFT_ORIENTATION = (0.0,-1.0,0.0)
^MEX_ORIENTATION_DESC = "MEX_ORIENTATION_DESC.TXT"
SPACECRAFT_POINTING_MODE = ACROSSTRACK
^MEX_POINTING_DESC = "MEX_POINTING_DESC.TXT"
RIGHT_ASCENSION = -1e+32
DECLINATION = -1e+32
OFFSET_ANGLE = -0.8
SPACECRAFT_SOLAR_DISTANCE = 2.11872e+08
TARGET_NAME = MARS
/* CAMERA DATA ELEMENTS */
DETECTOR_TEMPERATURE = 18.3705
FOCAL_PLANE_TEMPERATURE = 8.9911
INST_CMPRS_NAME = "DISCRETE COSINE TRANSFORMATION (DCT)"
INST_CMPRS_RATIO = 6.09193
INST_CMPRS_QUALITY = 0
INST_CMPRS_QUANTZ_TBL_ID = 0
INSTRUMENT_TEMPERATURE = 11.234
LENS_TEMPERATURE = 9.3989
MACROPIXEL_SIZE = 1
MISSING_FRAMES = 0
PIXEL_SUBSAMPLING_FLAG = N
SIGNAL_CHAIN_ID = 0
/* RADIOMETRIC DATA ELEMENTS */
BANDWIDTH = 177.0
CENTER_FILTER_WAVELENGTH = 677.5
RADIANCE_OFFSET = 3.84811
RADIANCE_SCALING_FACTOR = 0.02844
REFLECTANCE_SCALING_FACTOR = 0.000678212
MEX:REFLECTANCE_OFFSET = 0.0917662
/* IMAGE OBJECT DEFINITIONS */
OBJECT = IMAGE
  INTERCHANGE_FORMAT = BINARY
  LINES = 49592
  LINE_SAMPLES = 8541
  SAMPLE_TYPE = UNSIGNED_INTEGER
  SAMPLE_BITS = 8
  BANDS = 1
  BAND_STORAGE_TYPE = BAND_SEQUENTIAL
  MAXIMUM = 255
  MEAN = 123.937
  MINIMUM = 1
  STANDARD_DEVIATION = 21.121
END_OBJECT = IMAGE
/* MAP OBJECT DEFINITIONS */
OBJECT = IMAGE_MAP_PROJECTION
  ^DATA_SET_MAP_PROJECTION_CATALOG= "DSMAP.CAT"
  A_AXIS_RADIUS = 3396.0
  B_AXIS_RADIUS = 3396.0
  C_AXIS_RADIUS = 3396.0
  CENTER_LATITUDE = 0.0
  CENTER_LONGITUDE = 241.0
  COORDINATE_SYSTEM_NAME = PLANETOGRAPHIC
  COORDINATE_SYSTEM_TYPE = "BODY-FIXED ROTATING"
  EASTERNMOST_LONGITUDE = 241.905
  FIRST_STANDARD_PARALLEL = "N/A"
  LINE_FIRST_PIXEL = 1
  LINE_LAST_PIXEL = 49592
  LINE_PROJECTION_OFFSET = 64332.0
  MAP_PROJECTION_ROTATION = 0.0
  MAP_PROJECTION_TYPE = SINUSOIDAL
  MAP_RESOLUTION = 4741.71043093333
  MAP_SCALE = 0.0125
  MAXIMUM_LATITUDE = 13.5671
  MINIMUM_LATITUDE = 3.10836
  POSITIVE_LONGITUDE_DIRECTION = EAST
  REFERENCE_LATITUDE = "N/A"
  REFERENCE_LONGITUDE = "N/A"
  SAMPLE_FIRST_PIXEL = 1
  SAMPLE_LAST_PIXEL = 8541
  SAMPLE_PROJECTION_OFFSET = 4253.0
  SECOND_STANDARD_PARALLEL = "N/A"
  WESTERNMOST_LONGITUDE = 240.206
END_OBJECT = IMAGE_MAP_PROJECTION
/* The JPEG2000 image data file associated with this label. */
OBJECT = COMPRESSED_FILE
  FILE_NAME = "H9422_0000_ND3.JP2"
  RECORD_TYPE = UNDEFINED
  FILE_RECORDS = UNK
  ENCODING_TYPE = "JP2"
  INTERCHANGE_FORMAT = BINARY
  UNCOMPRESSED_FILE_NAME = "H9422_0000_ND3.IMG"
  REQUIRED_STORAGE_BYTES = "423599436"
  ^DESCRIPTION = "JP2INFO.TXT"
END_OBJECT = COMPRESSED_FILE
END
