PDS_VERSION_ID = PDS3
/* FILE DATA ELEMENTS */
RECORD_TYPE = STREAM
/* POINTERS TO DATA OBJECTS */
^COMPRESSED_FILE = "H9422_0000_GR3.JP2"
/* IDENTIFICATION DATA ELEMENTS */
DATA_SET_ID = "MEX-M-HRSC-5-REFDR-MAPPROJECTED-V3.0"
DATA_SET_NAME = "MARS EXPRESS HRSC MAP PROJECTED REFDR V3.0"
DETECTOR_ID = MEX_HRSC_GREEN
EVENT_TYPE = "MARS-REGIONAL-MAPPING-Vo-Eo"
INSTRUMENT_HOST_ID = MEX
INSTRUMENT_HOST_NAME = "MARS EXPRESS"
INSTRUMENT_ID = HRSC
INSTRUMENT_NAME = "HIGH RESOLUTION STEREO CAMERA"
MISSION_NAME = "MARS EXPRESS"
MISSION_PHASE_NAME = ME_Phase_23
PROCESSING_LEVEL_ID = 3
PRODUCT_CREATION_TIME = 2016-07-15T11:06:14.000Z
PRODUCT_ID = "H9422_0000_GR3.JP2"
RELEASE_ID = 0097
REVISION_ID = 0000
/* QUALITY DATA ELEMENTS */
DATA_QUALITY_ID = 1
DATA_QUALITY_DESC = "Data calculated based on original SPICE kernels"
/* TIME DATA ELEMENTS */
SPACECRAFT_CLOCK_START_COUNT = "1/0253938236.08246"
SPACECRAFT_CLOCK_STOP_COUNT = "1/0253938494.30472"
START_TIME = 2011-05-20T02:24:28.699Z
STOP_TIME = 2011-05-20T02:27:15.869Z
/* ORBITAL DATA ELEMENTS */
ASCENDING_NODE_LONGITUDE = 37.35
MAXIMUM_RESOLUTION = 125.9
FOOTPRINT_POINT_LATITUDE = (13.5627,13.5625,13.5621,13.5614, 13.5606,13.5595,13.5582,13.1725,12.7878 ,12.4036,12.0198,11.6365,11.3433, 11.1468,10.9505,10.7543,10.5582,10.1665 ,9.966,9.76545,9.56527,9.3652,9.06546, 8.86559,8.66118,8.45644,8.25183,8.04736 ,7.84303,7.63882,7.42973,7.22067, 7.01193,6.80334,6.59496,6.3838,6.17074, 5.95785,5.7452,5.53273,5.3175,5.1004, 4.88354,4.6669,4.4505,4.22969,4.00874, 3.788,3.56752,3.34731,3.1319,3.13015, 3.12777,3.12606,3.12338,3.12391,3.34425 ,3.56481,3.78562,4.00669,4.228,4.449, 4.66576,4.88272,5.09991,5.3173,5.53271, 5.74548,5.95846,6.17165,6.38503,6.5964, 6.80506,7.01392,7.22297,7.43221,7.64153 ,7.84588,8.0504,8.25503,8.45987,8.66472 ,8.86921,9.06948,9.26996,9.47054, 9.67128,9.87213,10.1732,10.5655,10.7619 ,10.9584,11.155,11.3517,11.6452,12.0291 ,12.4134,12.7982,13.1834,13.5627)
FOOTPRINT_POINT_LONGITUDE = (241.839,241.63,241.419,241.206,240.991 ,240.775,240.556,240.417,240.414, 240.409,240.405,240.4,240.396,240.393, 240.391,240.388,240.385,240.379,240.376 ,240.373,240.371,240.369,240.366, 240.363,240.36,240.357,240.353,240.349, 240.345,240.341,240.336,240.331,240.327 ,240.322,240.317,240.313,240.308, 240.303,240.297,240.292,240.287,240.281 ,240.276,240.27,240.265,240.259,240.253 ,240.247,240.241,240.235,240.229, 240.594,241.003,241.268,241.655,241.895 ,241.894,241.892,241.891,241.89,241.889 ,241.887,241.886,241.885,241.884, 241.882,241.881,241.88,241.879,241.878, 241.877,241.876,241.874,241.873,241.872 ,241.871,241.87,241.869,241.868,241.867 ,241.866,241.865,241.864,241.863, 241.862,241.861,241.86,241.859,241.857, 241.855,241.854,241.853,241.852,241.851 ,241.85,241.848,241.846,241.844,241.842 ,241.839)
ORBIT_NUMBER = 9422
ORBITAL_ECCENTRICITY = 0.576
ORBITAL_INCLINATION = 86.86
ORBITAL_SEMIMAJOR_AXIS = 8846.33
PERIAPSIS_ALTITUDE = 355.87
PERIAPSIS_ARGUMENT_ANGLE = 151.6
PERIAPSIS_TIME = 2011-05-20T02:20:44.000Z
SPACECRAFT_ORIENTATION = (0.0,-1.0,0.0)
^MEX_ORIENTATION_DESC = "MEX_ORIENTATION_DESC.TXT"
SPACECRAFT_POINTING_MODE = ACROSSTRACK
^MEX_POINTING_DESC = "MEX_POINTING_DESC.TXT"
RIGHT_ASCENSION = -1e+32
DECLINATION = -1e+32
OFFSET_ANGLE = -0.8
SPACECRAFT_SOLAR_DISTANCE = 2.11872e+08
TARGET_NAME = MARS
/* CAMERA DATA ELEMENTS */
DETECTOR_TEMPERATURE = 18.3705
FOCAL_PLANE_TEMPERATURE = 8.9911
INST_CMPRS_NAME = "DISCRETE COSINE TRANSFORMATION (DCT)"
INST_CMPRS_RATIO = 10.8285
INST_CMPRS_QUALITY = 0
INST_CMPRS_QUANTZ_TBL_ID = 0
INSTRUMENT_TEMPERATURE = 11.234
LENS_TEMPERATURE = 9.3989
MACROPIXEL_SIZE = 8
MISSING_FRAMES = 0
PIXEL_SUBSAMPLING_FLAG = N
SIGNAL_CHAIN_ID = 2
/* RADIOMETRIC DATA ELEMENTS */
BANDWIDTH = 88.0
CENTER_FILTER_WAVELENGTH = 538.0
RADIANCE_OFFSET = 1.35517
RADIANCE_SCALING_FACTOR = 0.00739393
REFLECTANCE_SCALING_FACTOR = 0.000285769
MEX:REFLECTANCE_OFFSET = 0.0523762
/* IMAGE OBJECT DEFINITIONS */
OBJECT = IMAGE
  INTERCHANGE_FORMAT = BINARY
  LINES = 6199
  LINE_SAMPLES = 1068
  SAMPLE_TYPE = UNSIGNED_INTEGER
  SAMPLE_BITS = 8
  BANDS = 1
  BAND_STORAGE_TYPE = BAND_SEQUENTIAL
  MAXIMUM = 255
  MEAN = 132.192
  MINIMUM = 1
  STANDARD_DEVIATION = 21.5219
END_OBJECT = IMAGE
/* MAP OBJECT DEFINITIONS */
OBJECT = IMAGE_MAP_PROJECTION
  ^DATA_SET_MAP_PROJECTION_CATALOG= "DSMAP.CAT"
  A_AXIS_RADIUS = 3396.0
  B_AXIS_RADIUS = 3396.0
  C_AXIS_RADIUS = 3396.0
  CENTER_LATITUDE = 0.0
  CENTER_LONGITUDE = 241.0
  COORDINATE_SYSTEM_NAME = PLANETOGRAPHIC
  COORDINATE_SYSTEM_TYPE = "BODY-FIXED ROTATING"
  EASTERNMOST_LONGITUDE = 241.895
  FIRST_STANDARD_PARALLEL = "N/A"
  LINE_FIRST_PIXEL = 1
  LINE_LAST_PIXEL = 6199
  LINE_PROJECTION_OFFSET = 8041.0625
  MAP_PROJECTION_ROTATION = 0.0
  MAP_PROJECTION_TYPE = SINUSOIDAL
  MAP_RESOLUTION = 592.713803866667
  MAP_SCALE = 0.1
  MAXIMUM_LATITUDE = 13.5627
  MINIMUM_LATITUDE = 3.12338
  POSITIVE_LONGITUDE_DIRECTION = EAST
  REFERENCE_LATITUDE = "N/A"
  REFERENCE_LONGITUDE = "N/A"
  SAMPLE_FIRST_PIXEL = 1
  SAMPLE_LAST_PIXEL = 1068
  SAMPLE_PROJECTION_OFFSET = 531.1875
  SECOND_STANDARD_PARALLEL = "N/A"
  WESTERNMOST_LONGITUDE = 240.229
END_OBJECT = IMAGE_MAP_PROJECTION
/* The JPEG2000 image data file associated with this label. */
OBJECT = COMPRESSED_FILE
  FILE_NAME = "H9422_0000_GR3.JP2"
  RECORD_TYPE = UNDEFINED
  FILE_RECORDS = UNK
  ENCODING_TYPE = "JP2"
  INTERCHANGE_FORMAT = BINARY
  UNCOMPRESSED_FILE_NAME = "H9422_0000_GR3.IMG"
  REQUIRED_STORAGE_BYTES = "6638688"
  ^DESCRIPTION = "JP2INFO.TXT"
END_OBJECT = COMPRESSED_FILE
END
