PDS_VERSION_ID = PDS3
/* FILE DATA ELEMENTS */
RECORD_TYPE = STREAM
/* POINTERS TO DATA OBJECTS */
^COMPRESSED_FILE = "H9419_0000_P23.JP2"
/* IDENTIFICATION DATA ELEMENTS */
DATA_SET_ID = "MEX-M-HRSC-5-REFDR-MAPPROJECTED-V3.0"
DATA_SET_NAME = "MARS EXPRESS HRSC MAP PROJECTED REFDR V3.0"
DETECTOR_ID = MEX_HRSC_P2
EVENT_TYPE = "MARS-REGIONAL-MAPPING-Vo-Te-Pf"
INSTRUMENT_HOST_ID = MEX
INSTRUMENT_HOST_NAME = "MARS EXPRESS"
INSTRUMENT_ID = HRSC
INSTRUMENT_NAME = "HIGH RESOLUTION STEREO CAMERA"
MISSION_NAME = "MARS EXPRESS"
MISSION_PHASE_NAME = ME_Phase_23
PROCESSING_LEVEL_ID = 3
PRODUCT_CREATION_TIME = 2016-07-15T11:06:14.000Z
PRODUCT_ID = "H9419_0000_P23.JP2"
RELEASE_ID = 0097
REVISION_ID = 0000
/* QUALITY DATA ELEMENTS */
DATA_QUALITY_ID = 1
DATA_QUALITY_DESC = "Data calculated based on original SPICE kernels"
/* TIME DATA ELEMENTS */
SPACECRAFT_CLOCK_START_COUNT = "1/0253862648.08264"
SPACECRAFT_CLOCK_STOP_COUNT = "1/0253862955.24623"
START_TIME = 2011-05-19T05:25:08.175Z
STOP_TIME = 2011-05-19T05:28:58.059Z
/* ORBITAL DATA ELEMENTS */
ASCENDING_NODE_LONGITUDE = 37.4
MAXIMUM_RESOLUTION = 64.4
FOOTPRINT_POINT_LATITUDE = (16.7182,16.72,16.7214,16.7466,16.4851, 16.2238,15.9628,15.5723,15.3122,15.0525 ,14.7931,14.534,14.2752,14.017,13.7591, 13.5015,12.9881,12.7308,12.4675,12.2055 ,11.9434,11.6815,11.4201,11.1527, 10.7521,10.4854,10.2191,9.94787,9.67599 ,9.40402,9.1328,8.71931,8.44293,8.16659 ,7.8887,7.60717,7.32627,7.04565,6.76016 ,6.47527,5.9017,5.46685,5.17697,4.88255 ,4.58744,4.29273,3.99116,3.6933,3.39423 ,2.99587,2.99119,2.98482,2.97971, 2.97664,3.12654,3.43117,3.73073,4.0308, 4.47662,4.7713,5.21344,5.50378,5.79481, 6.0842,6.36987,6.65619,6.94288,7.22372, 7.5051,7.92823,8.34372,8.75833,9.03547, 9.30687,9.57878,9.85113,10.2576,10.5244 ,10.7915,11.0591,11.4592,11.721,11.9832 ,12.2457,12.5087,12.7705,13.0275, 13.5416,13.8,14.0583,14.3171,14.5762, 14.8356,15.0953,15.3554,15.7464,16.1374 ,16.3982,16.6595,16.7182)
FOOTPRINT_POINT_LONGITUDE = (189.121,188.714,188.387,188.096, 188.093,188.091,188.088,188.083,188.08, 188.077,188.074,188.07,188.067,188.063, 188.059,188.055,188.047,188.043,188.039 ,188.034,188.029,188.025,188.02,188.015 ,188.007,188.001,187.996,187.99,187.984 ,187.978,187.972,187.963,187.956,187.95 ,187.943,187.936,187.928,187.921, 187.914,187.906,187.89,187.877,187.869, 187.86,187.851,187.843,187.834,187.824, 187.814,187.801,188.134,188.534,188.884 ,189.201,189.589,189.587,189.584, 189.582,189.579,189.576,189.573,189.571 ,189.569,189.567,189.566,189.564, 189.562,189.561,189.559,189.557,189.555 ,189.552,189.551,189.55,189.549,189.547 ,189.546,189.545,189.544,189.542, 189.541,189.54,189.539,189.538,189.537, 189.536,189.536,189.534,189.533,189.533 ,189.532,189.531,189.531,189.53,189.529 ,189.529,189.528,189.527,189.526, 189.121)
ORBIT_NUMBER = 9419
ORBITAL_ECCENTRICITY = 0.576
ORBITAL_INCLINATION = 86.87
ORBITAL_SEMIMAJOR_AXIS = 8831.51
PERIAPSIS_ALTITUDE = 356.16
PERIAPSIS_ARGUMENT_ANGLE = 152.13
PERIAPSIS_TIME = 2011-05-19T05:21:52.000Z
SPACECRAFT_ORIENTATION = (0.0,-1.0,0.0)
^MEX_ORIENTATION_DESC = "MEX_ORIENTATION_DESC.TXT"
SPACECRAFT_POINTING_MODE = NADIR
^MEX_POINTING_DESC = "MEX_POINTING_DESC.TXT"
RIGHT_ASCENSION = -1e+32
DECLINATION = -1e+32
OFFSET_ANGLE = -1e+32
SPACECRAFT_SOLAR_DISTANCE = 2.11753e+08
TARGET_NAME = MARS
/* CAMERA DATA ELEMENTS */
DETECTOR_TEMPERATURE = 18.9822
FOCAL_PLANE_TEMPERATURE = 9.8067
INST_CMPRS_NAME = "DISCRETE COSINE TRANSFORMATION (DCT)"
INST_CMPRS_RATIO = 8.60882
INST_CMPRS_QUALITY = 0
INST_CMPRS_QUANTZ_TBL_ID = 0
INSTRUMENT_TEMPERATURE = 11.8457
LENS_TEMPERATURE = 10.2145
MACROPIXEL_SIZE = 4
MISSING_FRAMES = 0
PIXEL_SUBSAMPLING_FLAG = N
SIGNAL_CHAIN_ID = 3
/* RADIOMETRIC DATA ELEMENTS */
BANDWIDTH = 177.0
CENTER_FILTER_WAVELENGTH = 676.5
RADIANCE_OFFSET = 4.3323
RADIANCE_SCALING_FACTOR = 0.0184494
REFLECTANCE_SCALING_FACTOR = 0.00043863
MEX:REFLECTANCE_OFFSET = 0.102999
/* IMAGE OBJECT DEFINITIONS */
OBJECT = IMAGE
  INTERCHANGE_FORMAT = BINARY
  LINES = 16336
  LINE_SAMPLES = 2106
  SAMPLE_TYPE = UNSIGNED_INTEGER
  SAMPLE_BITS = 8
  BANDS = 1
  BAND_STORAGE_TYPE = BAND_SEQUENTIAL
  MAXIMUM = 255
  MEAN = 121.204
  MINIMUM = 1
  STANDARD_DEVIATION = 28.9875
END_OBJECT = IMAGE
/* MAP OBJECT DEFINITIONS */
OBJECT = IMAGE_MAP_PROJECTION
  ^DATA_SET_MAP_PROJECTION_CATALOG= "DSMAP.CAT"
  A_AXIS_RADIUS = 3396.0
  B_AXIS_RADIUS = 3396.0
  C_AXIS_RADIUS = 3396.0
  CENTER_LATITUDE = 0.0
  CENTER_LONGITUDE = 189.0
  COORDINATE_SYSTEM_NAME = PLANETOGRAPHIC
  COORDINATE_SYSTEM_TYPE = "BODY-FIXED ROTATING"
  EASTERNMOST_LONGITUDE = 189.589
  FIRST_STANDARD_PARALLEL = "N/A"
  LINE_FIRST_PIXEL = 1
  LINE_LAST_PIXEL = 16336
  LINE_PROJECTION_OFFSET = 19841.125
  MAP_PROJECTION_ROTATION = 0.0
  MAP_PROJECTION_TYPE = SINUSOIDAL
  MAP_RESOLUTION = 1185.42760773333
  MAP_SCALE = 0.05
  MAXIMUM_LATITUDE = 16.7466
  MINIMUM_LATITUDE = 2.97664
  POSITIVE_LONGITUDE_DIRECTION = EAST
  REFERENCE_LATITUDE = "N/A"
  REFERENCE_LONGITUDE = "N/A"
  SAMPLE_FIRST_PIXEL = 1
  SAMPLE_LAST_PIXEL = 2106
  SAMPLE_PROJECTION_OFFSET = 1416.625
  SECOND_STANDARD_PARALLEL = "N/A"
  WESTERNMOST_LONGITUDE = 187.801
END_OBJECT = IMAGE_MAP_PROJECTION
/* The JPEG2000 image data file associated with this label. */
OBJECT = COMPRESSED_FILE
  FILE_NAME = "H9419_0000_P23.JP2"
  RECORD_TYPE = UNDEFINED
  FILE_RECORDS = UNK
  ENCODING_TYPE = "JP2"
  INTERCHANGE_FORMAT = BINARY
  UNCOMPRESSED_FILE_NAME = "H9419_0000_P23.IMG"
  REQUIRED_STORAGE_BYTES = "34424676"
  ^DESCRIPTION = "JP2INFO.TXT"
END_OBJECT = COMPRESSED_FILE
END
