PDS_VERSION_ID = PDS3
/* FILE DATA ELEMENTS */
RECORD_TYPE = STREAM
/* POINTERS TO DATA OBJECTS */
^COMPRESSED_FILE = "H9410_0000_IR3.JP2"
/* IDENTIFICATION DATA ELEMENTS */
DATA_SET_ID = "MEX-M-HRSC-5-REFDR-MAPPROJECTED-V3.0"
DATA_SET_NAME = "MARS EXPRESS HRSC MAP PROJECTED REFDR V3.0"
DETECTOR_ID = MEX_HRSC_IR
EVENT_TYPE = "MARS-REGIONAL-MAPPING-Im-Fl-La"
INSTRUMENT_HOST_ID = MEX
INSTRUMENT_HOST_NAME = "MARS EXPRESS"
INSTRUMENT_ID = HRSC
INSTRUMENT_NAME = "HIGH RESOLUTION STEREO CAMERA"
MISSION_NAME = "MARS EXPRESS"
MISSION_PHASE_NAME = ME_Phase_23
PROCESSING_LEVEL_ID = 3
PRODUCT_CREATION_TIME = 2016-07-15T11:06:14.000Z
PRODUCT_ID = "H9410_0000_IR3.JP2"
RELEASE_ID = 0097
REVISION_ID = 0000
/* QUALITY DATA ELEMENTS */
DATA_QUALITY_ID = 1
DATA_QUALITY_DESC = "Data calculated based on original SPICE kernels"
/* TIME DATA ELEMENTS */
SPACECRAFT_CLOCK_START_COUNT = "1/0253636008.08252"
SPACECRAFT_CLOCK_STOP_COUNT = "1/0253636271.00262"
START_TIME = 2011-05-16T14:26:56.693Z
STOP_TIME = 2011-05-16T14:29:55.132Z
/* ORBITAL DATA ELEMENTS */
ASCENDING_NODE_LONGITUDE = 37.58
MAXIMUM_RESOLUTION = 60.9
FOOTPRINT_POINT_LATITUDE = (17.696,17.7002,17.7041,17.7075,17.7106 ,17.6987,17.4965,17.2955,17.0938, 16.7914,16.5896,16.2872,16.0852,15.7832 ,15.5812,15.3789,15.1463,14.9052, 14.6643,14.3026,13.9416,13.5802,13.2185 ,12.8559,12.6139,12.2541,11.8928, 11.6518,11.412,11.1713,10.8102,10.4481, 10.088,9.84763,9.60758,9.36854,9.00994, 8.7704,8.52467,8.28475,8.05111,7.8104, 7.57006,7.20174,6.83273,6.58658,6.33997 ,6.0944,6.07949,6.07623,6.07055,6.0626, 6.05703,6.05198,6.29624,6.54204,6.91061 ,7.15725,7.5252,7.76478,8.00401,8.24499 ,8.60432,8.84558,9.08491,9.44546, 9.68599,9.92589,10.2885,10.6495,10.8906 ,11.2524,11.4934,11.7346,11.9753, 12.2165,12.4569,12.6979,12.9392,13.1807 ,13.4218,13.7847,14.0266,14.266,14.6289 ,14.8714,15.1072,15.3432,15.5471, 15.7483,15.9503,16.1515,16.3534,16.5553 ,16.7577,16.96,17.2629,17.4654,17.6664, 17.696)
FOOTPRINT_POINT_LONGITUDE = (30.1461,29.9469,29.7483,29.5505, 29.3535,29.0282,29.0269,29.0259,29.0246 ,29.0227,29.0212,29.019,29.0174,29.0151 ,29.0133,29.0114,29.0092,29.0068, 29.0044,29.0006,28.9967,28.9925,28.9881 ,28.9832,28.9798,28.9753,28.9702, 28.9666,28.9633,28.9596,28.954,28.9479, 28.9421,28.938,28.9339,28.9299,28.9238, 28.9195,28.9137,28.9092,28.9059,28.9009 ,28.896,28.8883,28.8805,28.8752,28.8696 ,28.8642,29.0824,29.2474,29.4678, 29.8275,30.0498,30.2309,30.3469,30.3468 ,30.3467,30.3464,30.3462,30.3463, 30.3467,30.3462,30.3468,30.3464,30.347, 30.3473,30.3474,30.348,30.3475,30.348, 30.3482,30.3484,30.3487,30.349,30.3496, 30.35,30.3508,30.3514,30.3518,30.3522, 30.3528,30.3531,30.3534,30.355,30.3555, 30.3555,30.3592,30.3589,30.3586,30.3598 ,30.3605,30.3617,30.3625,30.3634,30.364 ,30.3646,30.3658,30.3664,30.3677, 30.1461)
ORBIT_NUMBER = 9410
ORBITAL_ECCENTRICITY = 0.576
ORBITAL_INCLINATION = 86.85
ORBITAL_SEMIMAJOR_AXIS = 8842.04
PERIAPSIS_ALTITUDE = 355.02
PERIAPSIS_ARGUMENT_ANGLE = 153.71
PERIAPSIS_TIME = 2011-05-16T14:25:11.000Z
SPACECRAFT_ORIENTATION = (0.0,-1.0,0.0)
^MEX_ORIENTATION_DESC = "MEX_ORIENTATION_DESC.TXT"
SPACECRAFT_POINTING_MODE = ACROSSTRACK
^MEX_POINTING_DESC = "MEX_POINTING_DESC.TXT"
RIGHT_ASCENSION = -1e+32
DECLINATION = -1e+32
OFFSET_ANGLE = 0.3
SPACECRAFT_SOLAR_DISTANCE = 2.11401e+08
TARGET_NAME = MARS
/* CAMERA DATA ELEMENTS */
DETECTOR_TEMPERATURE = 17.7588
FOCAL_PLANE_TEMPERATURE = 8.7872
INST_CMPRS_NAME = "DISCRETE COSINE TRANSFORMATION (DCT)"
INST_CMPRS_RATIO = 5.90824
INST_CMPRS_QUALITY = 0
INST_CMPRS_QUANTZ_TBL_ID = 0
INSTRUMENT_TEMPERATURE = 11.234
LENS_TEMPERATURE = 9.195
MACROPIXEL_SIZE = 4
MISSING_FRAMES = 0
PIXEL_SUBSAMPLING_FLAG = N
SIGNAL_CHAIN_ID = 2
/* RADIOMETRIC DATA ELEMENTS */
BANDWIDTH = 81.0
CENTER_FILTER_WAVELENGTH = 955.5
RADIANCE_OFFSET = 1.00308
RADIANCE_SCALING_FACTOR = 0.00561367
REFLECTANCE_SCALING_FACTOR = 0.000541236
MEX:REFLECTANCE_OFFSET = 0.0967114
/* IMAGE OBJECT DEFINITIONS */
OBJECT = IMAGE
  INTERCHANGE_FORMAT = BINARY
  LINES = 13800
  LINE_SAMPLES = 1902
  SAMPLE_TYPE = UNSIGNED_INTEGER
  SAMPLE_BITS = 8
  BANDS = 1
  BAND_STORAGE_TYPE = BAND_SEQUENTIAL
  MAXIMUM = 255
  MEAN = 108.763
  MINIMUM = 1
  STANDARD_DEVIATION = 20.8553
END_OBJECT = IMAGE
/* MAP OBJECT DEFINITIONS */
OBJECT = IMAGE_MAP_PROJECTION
  ^DATA_SET_MAP_PROJECTION_CATALOG= "DSMAP.CAT"
  A_AXIS_RADIUS = 3396.0
  B_AXIS_RADIUS = 3396.0
  C_AXIS_RADIUS = 3396.0
  CENTER_LATITUDE = 0.0
  CENTER_LONGITUDE = 30.0
  COORDINATE_SYSTEM_NAME = PLANETOGRAPHIC
  COORDINATE_SYSTEM_TYPE = "BODY-FIXED ROTATING"
  EASTERNMOST_LONGITUDE = 30.3677
  FIRST_STANDARD_PARALLEL = "N/A"
  LINE_FIRST_PIXEL = 1
  LINE_LAST_PIXEL = 13800
  LINE_PROJECTION_OFFSET = 20977.875
  MAP_PROJECTION_ROTATION = 0.0
  MAP_PROJECTION_TYPE = SINUSOIDAL
  MAP_RESOLUTION = 1185.42760773333
  MAP_SCALE = 0.05
  MAXIMUM_LATITUDE = 17.7106
  MINIMUM_LATITUDE = 6.05198
  POSITIVE_LONGITUDE_DIRECTION = EAST
  REFERENCE_LATITUDE = "N/A"
  REFERENCE_LONGITUDE = "N/A"
  SAMPLE_FIRST_PIXEL = 1
  SAMPLE_LAST_PIXEL = 1902
  SAMPLE_PROJECTION_OFFSET = 1397.375
  SECOND_STANDARD_PARALLEL = "N/A"
  WESTERNMOST_LONGITUDE = 28.8642
END_OBJECT = IMAGE_MAP_PROJECTION
/* The JPEG2000 image data file associated with this label. */
OBJECT = COMPRESSED_FILE
  FILE_NAME = "H9410_0000_IR3.JP2"
  RECORD_TYPE = UNDEFINED
  FILE_RECORDS = UNK
  ENCODING_TYPE = "JP2"
  INTERCHANGE_FORMAT = BINARY
  UNCOMPRESSED_FILE_NAME = "H9410_0000_IR3.IMG"
  REQUIRED_STORAGE_BYTES = "26266620"
  ^DESCRIPTION = "JP2INFO.TXT"
END_OBJECT = COMPRESSED_FILE
END
