PDS_VERSION_ID = PDS3
/* FILE DATA ELEMENTS */
RECORD_TYPE = STREAM
/* POINTERS TO DATA OBJECTS */
^COMPRESSED_FILE = "H9389_0000_BL3.JP2"
/* IDENTIFICATION DATA ELEMENTS */
DATA_SET_ID = "MEX-M-HRSC-5-REFDR-MAPPROJECTED-V3.0"
DATA_SET_NAME = "MARS EXPRESS HRSC MAP PROJECTED REFDR V3.0"
DETECTOR_ID = MEX_HRSC_BLUE
EVENT_TYPE = "MARS-REGIONAL-MAPPING-Im-Fl-La"
INSTRUMENT_HOST_ID = MEX
INSTRUMENT_HOST_NAME = "MARS EXPRESS"
INSTRUMENT_ID = HRSC
INSTRUMENT_NAME = "HIGH RESOLUTION STEREO CAMERA"
MISSION_NAME = "MARS EXPRESS"
MISSION_PHASE_NAME = ME_Phase_23
PROCESSING_LEVEL_ID = 3
PRODUCT_CREATION_TIME = 2016-07-15T03:41:52.000Z
PRODUCT_ID = "H9389_0000_BL3.JP2"
RELEASE_ID = 0096
REVISION_ID = 0000
/* QUALITY DATA ELEMENTS */
DATA_QUALITY_ID = 1
DATA_QUALITY_DESC = "Data calculated based on original SPICE kernels"
/* TIME DATA ELEMENTS */
SPACECRAFT_CLOCK_START_COUNT = "1/0253107285.07311"
SPACECRAFT_CLOCK_STOP_COUNT = "1/0253107546.46297"
START_TIME = 2011-05-10T11:35:26.686Z
STOP_TIME = 2011-05-10T11:38:30.015Z
/* ORBITAL DATA ELEMENTS */
ASCENDING_NODE_LONGITUDE = 37.99
MAXIMUM_RESOLUTION = 59.7
FOOTPRINT_POINT_LATITUDE = (13.1939,13.196,13.1974,13.1989,13.202, 12.9741,12.6327,12.4051,12.1779,11.9509 ,11.6105,11.3838,11.1573,10.9308, 10.7046,10.4786,10.2529,9.91421,9.68879 ,9.46349,9.23841,9.01349,8.7888,8.56424 ,8.33998,8.11562,7.89173,7.66801, 7.44444,7.22107,6.99802,6.77513,6.44107 ,6.21848,5.99669,5.6546,5.42686,5.19952 ,4.97279,4.74586,4.39874,4.16643, 3.93428,3.7026,3.47111,3.11609,2.87939, 2.64282,2.40662,2.04625,1.80482,1.73088 ,1.7264,1.72331,1.71945,1.96037,2.20212 ,2.44056,2.67691,2.91367,3.15076, 3.50482,3.73645,3.96874,4.20106,4.43363 ,4.66542,4.89242,5.23346,5.46103, 5.68873,6.0303,6.25225,6.47544,6.70005, 7.14392,7.36747,7.59209,7.92914,8.15343 ,8.37749,8.60165,8.82499,9.05013, 9.27544,9.61359,9.95219,10.1779,10.4042 ,10.6303,10.9696,11.1978,11.4251, 11.6506,11.8775,12.1046,12.3321,12.5599 ,12.7876,13.1939)
FOOTPRINT_POINT_LONGITUDE = (17.9108,17.5906,17.3443,17.0367, 16.6595,16.6575,16.6544,16.6523,16.6499 ,16.6472,16.6434,16.6407,16.6379, 16.6352,16.6322,16.6292,16.6258,16.6214 ,16.6181,16.6148,16.6114,16.6079, 16.6043,16.6007,16.5969,16.5934,16.5895 ,16.5855,16.5815,16.5775,16.5732, 16.5689,16.5625,16.5584,16.5532,16.5465 ,16.5419,16.537,16.5314,16.5265,16.5201 ,16.5149,16.5097,16.5042,16.4987, 16.4902,16.4844,16.4787,16.4728,16.4641 ,16.458,16.7882,17.1789,17.4685,17.8452 ,18.0085,18.0072,18.0063,18.005,18.004, 18.003,18.0014,18.0003,17.9998,17.999, 17.9981,17.9972,17.9963,17.9952,17.9944 ,17.9934,17.9934,17.992,17.9923,17.9947 ,17.9896,17.9893,17.9905,17.9918, 17.9916,17.9908,17.9899,17.9872,17.9873 ,17.9874,17.9874,17.9874,17.9872, 17.9875,17.9873,17.9867,17.9894,17.9904 ,17.988,17.9878,17.9878,17.988,17.9886, 17.9887,17.9108)
ORBIT_NUMBER = 9389
ORBITAL_ECCENTRICITY = 0.577
ORBITAL_INCLINATION = 86.85
ORBITAL_SEMIMAJOR_AXIS = 8845.45
PERIAPSIS_ALTITUDE = 352.78
PERIAPSIS_ARGUMENT_ANGLE = 157.34
PERIAPSIS_TIME = 2011-05-10T11:32:54.000Z
SPACECRAFT_ORIENTATION = (0.0,-1.0,0.0)
^MEX_ORIENTATION_DESC = "MEX_ORIENTATION_DESC.TXT"
SPACECRAFT_POINTING_MODE = NADIR
^MEX_POINTING_DESC = "MEX_POINTING_DESC.TXT"
RIGHT_ASCENSION = -1e+32
DECLINATION = -1e+32
OFFSET_ANGLE = -1e+32
SPACECRAFT_SOLAR_DISTANCE = 2.1062e+08
TARGET_NAME = MARS
/* CAMERA DATA ELEMENTS */
DETECTOR_TEMPERATURE = 18.3705
FOCAL_PLANE_TEMPERATURE = 9.195
INST_CMPRS_NAME = "DISCRETE COSINE TRANSFORMATION (DCT)"
INST_CMPRS_RATIO = 7.67533
INST_CMPRS_QUALITY = 0
INST_CMPRS_QUANTZ_TBL_ID = 0
INSTRUMENT_TEMPERATURE = 11.234
LENS_TEMPERATURE = 10.2145
MACROPIXEL_SIZE = 4
MISSING_FRAMES = 0
PIXEL_SUBSAMPLING_FLAG = N
SIGNAL_CHAIN_ID = 2
/* RADIOMETRIC DATA ELEMENTS */
BANDWIDTH = 76.0
CENTER_FILTER_WAVELENGTH = 444.0
RADIANCE_OFFSET = 0.528227
RADIANCE_SCALING_FACTOR = 0.00152635
REFLECTANCE_SCALING_FACTOR = 6.95685e-05
MEX:REFLECTANCE_OFFSET = 0.0240757
/* IMAGE OBJECT DEFINITIONS */
OBJECT = IMAGE
  INTERCHANGE_FORMAT = BINARY
  LINES = 13622
  LINE_SAMPLES = 1923
  SAMPLE_TYPE = UNSIGNED_INTEGER
  SAMPLE_BITS = 8
  BANDS = 1
  BAND_STORAGE_TYPE = BAND_SEQUENTIAL
  MAXIMUM = 255
  MEAN = 125.484
  MINIMUM = 1
  STANDARD_DEVIATION = 24.1451
END_OBJECT = IMAGE
/* MAP OBJECT DEFINITIONS */
OBJECT = IMAGE_MAP_PROJECTION
  ^DATA_SET_MAP_PROJECTION_CATALOG= "DSMAP.CAT"
  A_AXIS_RADIUS = 3396.0
  B_AXIS_RADIUS = 3396.0
  C_AXIS_RADIUS = 3396.0
  CENTER_LATITUDE = 0.0
  CENTER_LONGITUDE = 17.0
  COORDINATE_SYSTEM_NAME = PLANETOGRAPHIC
  COORDINATE_SYSTEM_TYPE = "BODY-FIXED ROTATING"
  EASTERNMOST_LONGITUDE = 18.0085
  FIRST_STANDARD_PARALLEL = "N/A"
  LINE_FIRST_PIXEL = 1
  LINE_LAST_PIXEL = 13622
  LINE_PROJECTION_OFFSET = 15652.875
  MAP_PROJECTION_ROTATION = 0.0
  MAP_PROJECTION_TYPE = SINUSOIDAL
  MAP_RESOLUTION = 1185.42760773333
  MAP_SCALE = 0.05
  MAXIMUM_LATITUDE = 13.202
  MINIMUM_LATITUDE = 1.71945
  POSITIVE_LONGITUDE_DIRECTION = EAST
  REFERENCE_LATITUDE = "N/A"
  REFERENCE_LONGITUDE = "N/A"
  SAMPLE_FIRST_PIXEL = 1
  SAMPLE_LAST_PIXEL = 1923
  SAMPLE_PROJECTION_OFFSET = 687.625
  SECOND_STANDARD_PARALLEL = "N/A"
  WESTERNMOST_LONGITUDE = 16.458
END_OBJECT = IMAGE_MAP_PROJECTION
/* The JPEG2000 image data file associated with this label. */
OBJECT = COMPRESSED_FILE
  FILE_NAME = "H9389_0000_BL3.JP2"
  RECORD_TYPE = UNDEFINED
  FILE_RECORDS = UNK
  ENCODING_TYPE = "JP2"
  INTERCHANGE_FORMAT = BINARY
  UNCOMPRESSED_FILE_NAME = "H9389_0000_BL3.IMG"
  REQUIRED_STORAGE_BYTES = "26214336"
  ^DESCRIPTION = "JP2INFO.TXT"
END_OBJECT = COMPRESSED_FILE
END
