PDS_VERSION_ID = PDS3
/* FILE DATA ELEMENTS */
RECORD_TYPE = STREAM
/* POINTERS TO DATA OBJECTS */
^COMPRESSED_FILE = "H9381_0000_ND3.JP2"
/* IDENTIFICATION DATA ELEMENTS */
DATA_SET_ID = "MEX-M-HRSC-5-REFDR-MAPPROJECTED-V3.0"
DATA_SET_NAME = "MARS EXPRESS HRSC MAP PROJECTED REFDR V3.0"
DETECTOR_ID = MEX_HRSC_NADIR
EVENT_TYPE = "MARS-LOCAL-CARTOGRAPHY-Tc-Ot-Ts"
INSTRUMENT_HOST_ID = MEX
INSTRUMENT_HOST_NAME = "MARS EXPRESS"
INSTRUMENT_ID = HRSC
INSTRUMENT_NAME = "HIGH RESOLUTION STEREO CAMERA"
MISSION_NAME = "MARS EXPRESS"
MISSION_PHASE_NAME = ME_Phase_23
PROCESSING_LEVEL_ID = 3
PRODUCT_CREATION_TIME = 2016-07-15T03:41:52.000Z
PRODUCT_ID = "H9381_0000_ND3.JP2"
RELEASE_ID = 0096
REVISION_ID = 0000
/* QUALITY DATA ELEMENTS */
DATA_QUALITY_ID = 1
DATA_QUALITY_DESC = "Data calculated based on original SPICE kernels"
/* TIME DATA ELEMENTS */
SPACECRAFT_CLOCK_START_COUNT = "1/0252905576.08243"
SPACECRAFT_CLOCK_STOP_COUNT = "1/0252905733.42016"
START_TIME = 2011-05-08T03:33:34.304Z
STOP_TIME = 2011-05-08T03:35:02.302Z
/* ORBITAL DATA ELEMENTS */
ASCENDING_NODE_LONGITUDE = 38.14
MAXIMUM_RESOLUTION = 14.4
FOOTPRINT_POINT_LATITUDE = (30.3632,30.3602,30.3568,30.3528, 30.3484,30.3434,30.3404,30.2119,30.0833 ,29.9547,29.8261,29.6975,29.5688, 29.4401,29.3114,29.1826,29.0538,28.862, 28.646,28.43,28.2138,27.9976,27.7813, 27.5649,27.3484,27.1319,26.9153,26.807, 26.6987,26.5903,26.482,26.3736,26.2652, 26.1568,26.0484,25.9399,25.8315,25.723, 25.6146,25.5061,25.3976,25.2891,25.1805 ,25.072,24.9634,24.8549,24.7463,24.6761 ,24.6799,24.6825,24.6845,24.6855,24.687 ,24.7424,24.8512,24.9599,25.0687, 25.1774,25.2861,25.3948,25.5035,25.6122 ,25.7209,25.8296,25.9382,26.0469, 26.1555,26.2641,26.3727,26.4813,26.5899 ,26.6984,26.807,26.9155,27.024,27.1325, 27.241,27.3495,27.4579,27.5664,27.6748, 27.7832,27.8916,27.9999,28.2166,28.4332 ,28.6498,28.8662,29.0549,29.184,29.3131 ,29.4421,29.5711,29.7001,29.829,29.958, 30.0868,30.2157,30.3445,30.3632)
FOOTPRINT_POINT_LONGITUDE = (114.924,114.689,114.45,114.208,113.964 ,113.716,113.546,113.551,113.557, 113.562,113.566,113.571,113.576,113.581 ,113.586,113.59,113.595,113.602,113.61, 113.617,113.624,113.631,113.639,113.645 ,113.652,113.659,113.665,113.668, 113.672,113.675,113.678,113.681,113.684 ,113.687,113.69,113.693,113.695,113.698 ,113.701,113.704,113.707,113.71,113.712 ,113.715,113.717,113.72,113.723,113.899 ,114.202,114.442,114.666,114.791,115.01 ,115.152,115.152,115.151,115.151,115.15 ,115.149,115.149,115.148,115.148, 115.147,115.146,115.146,115.145,115.145 ,115.144,115.144,115.143,115.142, 115.142,115.141,115.14,115.14,115.139, 115.138,115.138,115.137,115.137,115.136 ,115.135,115.134,115.134,115.132, 115.131,115.13,115.128,115.127,115.126, 115.125,115.124,115.123,115.122,115.121 ,115.12,115.119,115.118,115.117, 114.924)
ORBIT_NUMBER = 9381
ORBITAL_ECCENTRICITY = 0.577
ORBITAL_INCLINATION = 86.85
ORBITAL_SEMIMAJOR_AXIS = 8849.29
PERIAPSIS_ALTITUDE = 351.43
PERIAPSIS_ARGUMENT_ANGLE = 158.73
PERIAPSIS_TIME = 2011-05-08T03:35:55.000Z
SPACECRAFT_ORIENTATION = (0.0,-1.0,0.0)
^MEX_ORIENTATION_DESC = "MEX_ORIENTATION_DESC.TXT"
SPACECRAFT_POINTING_MODE = ACROSSTRACK
^MEX_POINTING_DESC = "MEX_POINTING_DESC.TXT"
RIGHT_ASCENSION = -1e+32
DECLINATION = -1e+32
OFFSET_ANGLE = -1.0
SPACECRAFT_SOLAR_DISTANCE = 2.10339e+08
TARGET_NAME = MARS
/* CAMERA DATA ELEMENTS */
DETECTOR_TEMPERATURE = 18.1666
FOCAL_PLANE_TEMPERATURE = 8.5833
INST_CMPRS_NAME = "DISCRETE COSINE TRANSFORMATION (DCT)"
INST_CMPRS_RATIO = 7.88569
INST_CMPRS_QUALITY = 0
INST_CMPRS_QUANTZ_TBL_ID = 0
INSTRUMENT_TEMPERATURE = 11.234
LENS_TEMPERATURE = 8.9911
MACROPIXEL_SIZE = 1
MISSING_FRAMES = 0
PIXEL_SUBSAMPLING_FLAG = N
SIGNAL_CHAIN_ID = 0
/* RADIOMETRIC DATA ELEMENTS */
BANDWIDTH = 177.0
CENTER_FILTER_WAVELENGTH = 677.5
RADIANCE_OFFSET = 2.1471
RADIANCE_SCALING_FACTOR = 0.00587812
REFLECTANCE_SCALING_FACTOR = 0.000138153
MEX:REFLECTANCE_OFFSET = 0.0504634
/* IMAGE OBJECT DEFINITIONS */
OBJECT = IMAGE
  INTERCHANGE_FORMAT = BINARY
  LINES = 26990
  LINE_SAMPLES = 7096
  SAMPLE_TYPE = UNSIGNED_INTEGER
  SAMPLE_BITS = 8
  BANDS = 1
  BAND_STORAGE_TYPE = BAND_SEQUENTIAL
  MAXIMUM = 254
  MEAN = 121.86
  MINIMUM = 1
  STANDARD_DEVIATION = 37.0321
END_OBJECT = IMAGE
/* MAP OBJECT DEFINITIONS */
OBJECT = IMAGE_MAP_PROJECTION
  ^DATA_SET_MAP_PROJECTION_CATALOG= "DSMAP.CAT"
  A_AXIS_RADIUS = 3396.0
  B_AXIS_RADIUS = 3396.0
  C_AXIS_RADIUS = 3396.0
  CENTER_LATITUDE = 0.0
  CENTER_LONGITUDE = 114.0
  COORDINATE_SYSTEM_NAME = PLANETOGRAPHIC
  COORDINATE_SYSTEM_TYPE = "BODY-FIXED ROTATING"
  EASTERNMOST_LONGITUDE = 115.152
  FIRST_STANDARD_PARALLEL = "N/A"
  LINE_FIRST_PIXEL = 1
  LINE_LAST_PIXEL = 26990
  LINE_PROJECTION_OFFSET = 143984.0
  MAP_PROJECTION_ROTATION = 0.0
  MAP_PROJECTION_TYPE = SINUSOIDAL
  MAP_RESOLUTION = 4741.71043093333
  MAP_SCALE = 0.0125
  MAXIMUM_LATITUDE = 30.3632
  MINIMUM_LATITUDE = 24.6761
  POSITIVE_LONGITUDE_DIRECTION = EAST
  REFERENCE_LATITUDE = "N/A"
  REFERENCE_LONGITUDE = "N/A"
  SAMPLE_FIRST_PIXEL = 1
  SAMPLE_LAST_PIXEL = 7096
  SAMPLE_PROJECTION_OFFSET = 2088.0
  SECOND_STANDARD_PARALLEL = "N/A"
  WESTERNMOST_LONGITUDE = 113.546
END_OBJECT = IMAGE_MAP_PROJECTION
/* The JPEG2000 image data file associated with this label. */
OBJECT = COMPRESSED_FILE
  FILE_NAME = "H9381_0000_ND3.JP2"
  RECORD_TYPE = UNDEFINED
  FILE_RECORDS = UNK
  ENCODING_TYPE = "JP2"
  INTERCHANGE_FORMAT = BINARY
  UNCOMPRESSED_FILE_NAME = "H9381_0000_ND3.IMG"
  REQUIRED_STORAGE_BYTES = "191549424"
  ^DESCRIPTION = "JP2INFO.TXT"
END_OBJECT = COMPRESSED_FILE
END
