PDS_VERSION_ID = PDS3
/* FILE DATA ELEMENTS */
RECORD_TYPE = STREAM
/* POINTERS TO DATA OBJECTS */
^COMPRESSED_FILE = "H9348_0000_P13.JP2"
/* IDENTIFICATION DATA ELEMENTS */
DATA_SET_ID = "MEX-M-HRSC-5-REFDR-MAPPROJECTED-V3.0"
DATA_SET_NAME = "MARS EXPRESS HRSC MAP PROJECTED REFDR V3.0"
DETECTOR_ID = MEX_HRSC_P1
EVENT_TYPE = "MARS-LOCAL-STEREO-Vo"
INSTRUMENT_HOST_ID = MEX
INSTRUMENT_HOST_NAME = "MARS EXPRESS"
INSTRUMENT_ID = HRSC
INSTRUMENT_NAME = "HIGH RESOLUTION STEREO CAMERA"
MISSION_NAME = "MARS EXPRESS"
MISSION_PHASE_NAME = ME_Phase_23
PROCESSING_LEVEL_ID = 3
PRODUCT_CREATION_TIME = 2016-07-15T03:41:52.000Z
PRODUCT_ID = "H9348_0000_P13.JP2"
RELEASE_ID = 0096
REVISION_ID = 0000
/* QUALITY DATA ELEMENTS */
DATA_QUALITY_ID = 1
DATA_QUALITY_DESC = "Data calculated based on original SPICE kernels"
/* TIME DATA ELEMENTS */
SPACECRAFT_CLOCK_START_COUNT = "1/0252074994.09070"
SPACECRAFT_CLOCK_STOP_COUNT = "1/0252075205.34285"
START_TIME = 2011-04-28T12:50:07.937Z
STOP_TIME = 2011-04-28T12:52:20.664Z
/* ORBITAL DATA ELEMENTS */
ASCENDING_NODE_LONGITUDE = 38.77
MAXIMUM_RESOLUTION = 29.1
FOOTPRINT_POINT_LATITUDE = (6.12482,6.12712,6.1295,6.13067,6.1315, 6.15493,5.84791,5.54111,5.38764,5.23413 ,5.08059,4.77384,4.46708,4.31363, 4.08349,3.77675,3.54671,3.38988,3.20695 ,3.02395,2.84102,2.6581,2.47519,2.29235 ,2.10961,1.92672,1.74383,1.56117, 1.37856,1.1961,1.01382,0.739741, 0.556882,0.374297,0.191887,0.00952036, -0.264009,-0.537377,-0.719512,-0.901625 ,-1.17462,-1.35658,-1.53845,-1.7203, -1.90208,-2.17475,-2.35628,-2.47147, -2.47336,-2.47484,-2.47678,-2.47988, -2.48215,-2.48432,-2.3026,-2.12075, -1.93893,-1.75696,-1.57497,-1.39287, -1.11971,-0.937483,-0.755168,-0.572654, -0.390523,-0.117088,0.0652481,0.247701, 0.430275,0.61288,0.795521,0.978195, 1.16092,1.34376,1.618,1.8009,1.98387, 2.16685,2.3499,2.533,2.71609,2.89918, 3.08224,3.26549,3.44099,3.59457,3.74822 ,3.90197,4.05551,4.20909,4.43947,4.593, 4.82325,4.97682,5.13047,5.36099,5.66831 ,5.82209,5.97606,6.12482)
FOOTPRINT_POINT_LONGITUDE = (251.41,251.153,250.834,250.639,250.467 ,250.278,250.274,250.271,250.269, 250.267,250.265,250.261,250.257,250.255 ,250.252,250.247,250.244,250.242, 250.239,250.236,250.233,250.231,250.228 ,250.225,250.222,250.219,250.216, 250.213,250.209,250.206,250.203,250.198 ,250.195,250.191,250.188,250.185, 250.179,250.174,250.171,250.167,250.162 ,250.158,250.154,250.15,250.147,250.141 ,250.137,250.241,250.483,250.643, 250.844,251.126,251.3,251.519,251.519, 251.518,251.518,251.518,251.517,251.517 ,251.516,251.516,251.516,251.515, 251.515,251.515,251.515,251.515,251.515 ,251.514,251.514,251.514,251.514, 251.514,251.514,251.514,251.514,251.514 ,251.515,251.515,251.515,251.515, 251.515,251.515,251.516,251.516,251.516 ,251.516,251.516,251.517,251.517, 251.517,251.518,251.518,251.519,251.519 ,251.52,251.52,251.521,251.41)
ORBIT_NUMBER = 9348
ORBITAL_ECCENTRICITY = 0.578
ORBITAL_INCLINATION = 86.84
ORBITAL_SEMIMAJOR_AXIS = 8865.37
PERIAPSIS_ALTITUDE = 347.68
PERIAPSIS_ARGUMENT_ANGLE = 164.46
PERIAPSIS_TIME = 2011-04-28T12:48:04.000Z
SPACECRAFT_ORIENTATION = (0.0,-1.0,0.0)
^MEX_ORIENTATION_DESC = "MEX_ORIENTATION_DESC.TXT"
SPACECRAFT_POINTING_MODE = NADIR
^MEX_POINTING_DESC = "MEX_POINTING_DESC.TXT"
RIGHT_ASCENSION = -1e+32
DECLINATION = -1e+32
OFFSET_ANGLE = -1e+32
SPACECRAFT_SOLAR_DISTANCE = 2.09276e+08
TARGET_NAME = MARS
/* CAMERA DATA ELEMENTS */
DETECTOR_TEMPERATURE = 17.5549
FOCAL_PLANE_TEMPERATURE = 8.7872
INST_CMPRS_NAME = "DISCRETE COSINE TRANSFORMATION (DCT)"
INST_CMPRS_RATIO = 6.31346
INST_CMPRS_QUALITY = 0
INST_CMPRS_QUANTZ_TBL_ID = 0
INSTRUMENT_TEMPERATURE = 11.4379
LENS_TEMPERATURE = 8.9911
MACROPIXEL_SIZE = 2
MISSING_FRAMES = 0
PIXEL_SUBSAMPLING_FLAG = N
SIGNAL_CHAIN_ID = 3
/* RADIOMETRIC DATA ELEMENTS */
BANDWIDTH = 174.0
CENTER_FILTER_WAVELENGTH = 675.0
RADIANCE_OFFSET = 2.71505
RADIANCE_SCALING_FACTOR = 0.0132855
REFLECTANCE_SCALING_FACTOR = 0.000312971
MEX:REFLECTANCE_OFFSET = 0.0639592
/* IMAGE OBJECT DEFINITIONS */
OBJECT = IMAGE
  INTERCHANGE_FORMAT = BINARY
  LINES = 20508
  LINE_SAMPLES = 3634
  SAMPLE_TYPE = UNSIGNED_INTEGER
  SAMPLE_BITS = 8
  BANDS = 1
  BAND_STORAGE_TYPE = BAND_SEQUENTIAL
  MAXIMUM = 255
  MEAN = 135.912
  MINIMUM = 1
  STANDARD_DEVIATION = 35.0476
END_OBJECT = IMAGE
/* MAP OBJECT DEFINITIONS */
OBJECT = IMAGE_MAP_PROJECTION
  ^DATA_SET_MAP_PROJECTION_CATALOG= "DSMAP.CAT"
  A_AXIS_RADIUS = 3396.0
  B_AXIS_RADIUS = 3396.0
  C_AXIS_RADIUS = 3396.0
  CENTER_LATITUDE = 0.0
  CENTER_LONGITUDE = 251.0
  COORDINATE_SYSTEM_NAME = PLANETOGRAPHIC
  COORDINATE_SYSTEM_TYPE = "BODY-FIXED ROTATING"
  EASTERNMOST_LONGITUDE = 251.521
  FIRST_STANDARD_PARALLEL = "N/A"
  LINE_FIRST_PIXEL = 1
  LINE_LAST_PIXEL = 20508
  LINE_PROJECTION_OFFSET = 14541.25
  MAP_PROJECTION_ROTATION = 0.0
  MAP_PROJECTION_TYPE = SINUSOIDAL
  MAP_RESOLUTION = 2370.85521546667
  MAP_SCALE = 0.025
  MAXIMUM_LATITUDE = 6.15493
  MINIMUM_LATITUDE = -2.48432
  POSITIVE_LONGITUDE_DIRECTION = EAST
  REFERENCE_LATITUDE = "N/A"
  REFERENCE_LONGITUDE = "N/A"
  SAMPLE_FIRST_PIXEL = 1
  SAMPLE_LAST_PIXEL = 3634
  SAMPLE_PROJECTION_OFFSET = 2230.75
  SECOND_STANDARD_PARALLEL = "N/A"
  WESTERNMOST_LONGITUDE = 250.137
END_OBJECT = IMAGE_MAP_PROJECTION
/* The JPEG2000 image data file associated with this label. */
OBJECT = COMPRESSED_FILE
  FILE_NAME = "H9348_0000_P13.JP2"
  RECORD_TYPE = UNDEFINED
  FILE_RECORDS = UNK
  ENCODING_TYPE = "JP2"
  INTERCHANGE_FORMAT = BINARY
  UNCOMPRESSED_FILE_NAME = "H9348_0000_P13.IMG"
  REQUIRED_STORAGE_BYTES = "74547876"
  ^DESCRIPTION = "JP2INFO.TXT"
END_OBJECT = COMPRESSED_FILE
END
