PDS_VERSION_ID = PDS3
/* FILE DATA ELEMENTS */
RECORD_TYPE = STREAM
/* POINTERS TO DATA OBJECTS */
^COMPRESSED_FILE = "H9347_0000_GR3.JP2"
/* IDENTIFICATION DATA ELEMENTS */
DATA_SET_ID = "MEX-M-HRSC-5-REFDR-MAPPROJECTED-V3.0"
DATA_SET_NAME = "MARS EXPRESS HRSC MAP PROJECTED REFDR V3.0"
DETECTOR_ID = MEX_HRSC_GREEN
EVENT_TYPE = "MARS-REGIONAL-MAPPING-Te-Im-Fl"
INSTRUMENT_HOST_ID = MEX
INSTRUMENT_HOST_NAME = "MARS EXPRESS"
INSTRUMENT_ID = HRSC
INSTRUMENT_NAME = "HIGH RESOLUTION STEREO CAMERA"
MISSION_NAME = "MARS EXPRESS"
MISSION_PHASE_NAME = ME_Phase_23
PROCESSING_LEVEL_ID = 3
PRODUCT_CREATION_TIME = 2016-07-15T03:41:52.000Z
PRODUCT_ID = "H9347_0000_GR3.JP2"
RELEASE_ID = 0096
REVISION_ID = 0000
/* QUALITY DATA ELEMENTS */
DATA_QUALITY_ID = 1
DATA_QUALITY_DESC = "Data calculated based on original SPICE kernels"
/* TIME DATA ELEMENTS */
SPACECRAFT_CLOCK_START_COUNT = "1/0252049968.08267"
SPACECRAFT_CLOCK_STOP_COUNT = "1/0252050273.07380"
START_TIME = 2011-04-28T05:53:23.052Z
STOP_TIME = 2011-04-28T05:56:40.299Z
/* ORBITAL DATA ELEMENTS */
ASCENDING_NODE_LONGITUDE = 38.8
MAXIMUM_RESOLUTION = 68.6
FOOTPRINT_POINT_LATITUDE = (-4.31875,-4.31848,-4.31815,-4.31781, -4.31742,-4.317,-4.31657,-4.85898, -5.28953,-5.6164,-5.83649,-6.05646, -6.49584,-6.71895,-6.94374,-7.28038, -7.50435,-7.84534,-8.07388,-8.41652, -8.76208,-8.995,-9.22657,-9.45912, -9.69428,-9.93153,-10.1684,-10.405, -10.6448,-10.8861,-11.1269,-11.3681, -11.6135,-11.8586,-12.1034,-12.4759, -12.7251,-12.974,-13.227,-13.4802, -13.7331,-13.9904,-14.2472,-14.5042, -14.7654,-15.1571,-15.4208,-15.6862, -15.951,-16.2202,-16.3327,-16.3377, -16.3413,-16.3435,-16.345,-16.3452, -16.0756,-15.8086,-15.5437,-15.2779, -15.017,-14.7555,-14.4944,-14.237, -13.9794,-13.7226,-13.4692,-13.2153, -12.9625,-12.7133,-12.4637,-12.091, -11.8459,-11.6007,-11.3551,-11.1142, -10.8729,-10.6314,-10.3918,-10.155, -9.79919,-9.56186,-9.32925,-9.09631, -8.86313,-8.62968,-8.40124,-8.17261, -7.94333,-7.6001,-7.2636,-7.03912, -6.81438,-6.47924,-6.03919,-5.81896, -5.59857,-5.16404,-4.73295,-4.31875)
FOOTPRINT_POINT_LONGITUDE = (352.559,352.337,352.113,351.885, 351.655,351.421,351.184,350.989,350.979 ,350.969,350.964,350.957,350.944, 350.938,350.929,350.917,350.91,350.899, 350.892,350.881,350.867,350.859,350.857 ,350.849,350.84,350.831,350.823,350.814 ,350.805,350.796,350.788,350.778, 350.769,350.76,350.751,350.736,350.726, 350.716,350.706,350.695,350.685,350.672 ,350.663,350.652,350.641,350.623,350.61 ,350.597,350.585,350.572,350.846,351.34 ,351.767,352.073,352.32,352.646,352.642 ,352.639,352.636,352.633,352.629, 352.626,352.624,352.621,352.618,352.616 ,352.613,352.611,352.608,352.606, 352.604,352.601,352.599,352.596,352.594 ,352.592,352.59,352.589,352.587,352.585 ,352.583,352.581,352.579,352.578, 352.577,352.575,352.574,352.573,352.572 ,352.57,352.569,352.568,352.567,352.565 ,352.563,352.562,352.561,352.559, 352.557,352.559)
ORBIT_NUMBER = 9347
ORBITAL_ECCENTRICITY = 0.577
ORBITAL_INCLINATION = 86.84
ORBITAL_SEMIMAJOR_AXIS = 8849.63
PERIAPSIS_ALTITUDE = 348.29
PERIAPSIS_ARGUMENT_ANGLE = 164.62
PERIAPSIS_TIME = 2011-04-28T05:48:21.000Z
SPACECRAFT_ORIENTATION = (0.0,-1.0,0.0)
^MEX_ORIENTATION_DESC = "MEX_ORIENTATION_DESC.TXT"
SPACECRAFT_POINTING_MODE = ACROSSTRACK
^MEX_POINTING_DESC = "MEX_POINTING_DESC.TXT"
RIGHT_ASCENSION = -1e+32
DECLINATION = -1e+32
OFFSET_ANGLE = -1.3
SPACECRAFT_SOLAR_DISTANCE = 2.09247e+08
TARGET_NAME = MARS
/* CAMERA DATA ELEMENTS */
DETECTOR_TEMPERATURE = 18.3705
FOCAL_PLANE_TEMPERATURE = 8.5833
INST_CMPRS_NAME = "DISCRETE COSINE TRANSFORMATION (DCT)"
INST_CMPRS_RATIO = 11.1814
INST_CMPRS_QUALITY = 0
INST_CMPRS_QUANTZ_TBL_ID = 0
INSTRUMENT_TEMPERATURE = 11.0301
LENS_TEMPERATURE = 8.9911
MACROPIXEL_SIZE = 4
MISSING_FRAMES = 0
PIXEL_SUBSAMPLING_FLAG = N
SIGNAL_CHAIN_ID = 2
/* RADIOMETRIC DATA ELEMENTS */
BANDWIDTH = 88.0
CENTER_FILTER_WAVELENGTH = 538.0
RADIANCE_OFFSET = 1.24698
RADIANCE_SCALING_FACTOR = 0.00339154
REFLECTANCE_SCALING_FACTOR = 0.000127851
MEX:REFLECTANCE_OFFSET = 0.0470075
/* IMAGE OBJECT DEFINITIONS */
OBJECT = IMAGE
  INTERCHANGE_FORMAT = BINARY
  LINES = 14285
  LINE_SAMPLES = 2498
  SAMPLE_TYPE = UNSIGNED_INTEGER
  SAMPLE_BITS = 8
  BANDS = 1
  BAND_STORAGE_TYPE = BAND_SEQUENTIAL
  MAXIMUM = 255
  MEAN = 118.633
  MINIMUM = 1
  STANDARD_DEVIATION = 31.9871
END_OBJECT = IMAGE
/* MAP OBJECT DEFINITIONS */
OBJECT = IMAGE_MAP_PROJECTION
  ^DATA_SET_MAP_PROJECTION_CATALOG= "DSMAP.CAT"
  A_AXIS_RADIUS = 3396.0
  B_AXIS_RADIUS = 3396.0
  C_AXIS_RADIUS = 3396.0
  CENTER_LATITUDE = 0.0
  CENTER_LONGITUDE = 352.0
  COORDINATE_SYSTEM_NAME = PLANETOGRAPHIC
  COORDINATE_SYSTEM_TYPE = "BODY-FIXED ROTATING"
  EASTERNMOST_LONGITUDE = 352.646
  FIRST_STANDARD_PARALLEL = "N/A"
  LINE_FIRST_PIXEL = 1
  LINE_LAST_PIXEL = 14285
  LINE_PROJECTION_OFFSET = -5105.875
  MAP_PROJECTION_ROTATION = 0.0
  MAP_PROJECTION_TYPE = SINUSOIDAL
  MAP_RESOLUTION = 1185.42760773333
  MAP_SCALE = 0.05
  MAXIMUM_LATITUDE = -4.31657
  MINIMUM_LATITUDE = -16.3452
  POSITIVE_LONGITUDE_DIRECTION = EAST
  REFERENCE_LATITUDE = "N/A"
  REFERENCE_LONGITUDE = "N/A"
  SAMPLE_FIRST_PIXEL = 1
  SAMPLE_LAST_PIXEL = 2498
  SAMPLE_PROJECTION_OFFSET = 1743.875
  SECOND_STANDARD_PARALLEL = "N/A"
  WESTERNMOST_LONGITUDE = 350.572
END_OBJECT = IMAGE_MAP_PROJECTION
/* The JPEG2000 image data file associated with this label. */
OBJECT = COMPRESSED_FILE
  FILE_NAME = "H9347_0000_GR3.JP2"
  RECORD_TYPE = UNDEFINED
  FILE_RECORDS = UNK
  ENCODING_TYPE = "JP2"
  INTERCHANGE_FORMAT = BINARY
  UNCOMPRESSED_FILE_NAME = "H9347_0000_GR3.IMG"
  REQUIRED_STORAGE_BYTES = "35703914"
  ^DESCRIPTION = "JP2INFO.TXT"
END_OBJECT = COMPRESSED_FILE
END
