PDS_VERSION_ID = PDS3
/* FILE DATA ELEMENTS */
RECORD_TYPE = STREAM
/* POINTERS TO DATA OBJECTS */
^COMPRESSED_FILE = "H9339_0000_S13.JP2"
/* IDENTIFICATION DATA ELEMENTS */
DATA_SET_ID = "MEX-M-HRSC-5-REFDR-MAPPROJECTED-V3.0"
DATA_SET_NAME = "MARS EXPRESS HRSC MAP PROJECTED REFDR V3.0"
DETECTOR_ID = MEX_HRSC_S1
EVENT_TYPE = "MARS-REGIONAL-MAPPING-Fl"
INSTRUMENT_HOST_ID = MEX
INSTRUMENT_HOST_NAME = "MARS EXPRESS"
INSTRUMENT_ID = HRSC
INSTRUMENT_NAME = "HIGH RESOLUTION STEREO CAMERA"
MISSION_NAME = "MARS EXPRESS"
MISSION_PHASE_NAME = ME_Phase_23
PROCESSING_LEVEL_ID = 3
PRODUCT_CREATION_TIME = 2016-07-15T03:41:52.000Z
PRODUCT_ID = "H9339_0000_S13.JP2"
RELEASE_ID = 0096
REVISION_ID = 0000
/* QUALITY DATA ELEMENTS */
DATA_QUALITY_ID = 1
DATA_QUALITY_DESC = "Data calculated based on original SPICE kernels"
/* TIME DATA ELEMENTS */
SPACECRAFT_CLOCK_START_COUNT = "1/0251848408.08254"
SPACECRAFT_CLOCK_STOP_COUNT = "1/0251848644.64683"
START_TIME = 2011-04-25T21:53:31.056Z
STOP_TIME = 2011-04-25T21:56:01.551Z
/* ORBITAL DATA ELEMENTS */
ASCENDING_NODE_LONGITUDE = 38.95
MAXIMUM_RESOLUTION = 31.1
FOOTPRINT_POINT_LATITUDE = (2.37376,2.37579,2.37803,2.37944, 2.38056,2.2921,2.12278,1.95172,1.77958, 1.52961,1.27506,0.936979,0.654288, 0.353132,0.0500675,-0.25352,-0.455892, -0.657475,-0.861901,-1.06118,-1.26266, -1.46573,-1.76944,-1.97152,-2.17286, -2.37117,-2.58212,-2.89113,-3.0934, -3.29453,-3.48794,-3.78857,-3.99058, -4.19412,-4.39384,-4.5963,-4.89848, -5.10038,-5.30298,-5.60593,-5.80729, -6.00786,-6.31735,-6.52401,-6.72925, -6.93375,-7.1385,-7.34346,-7.48282, -7.48464,-7.48691,-7.49071,-7.49686, -7.5013,-7.39886,-7.19263,-6.98546, -6.67383,-6.36412,-6.05473,-5.85345, -5.65116,-5.34816,-5.14596,-4.94037, -4.74074,-4.53926,-4.33792,-4.13769, -3.936,-3.73488,-3.53468,-3.33273, -3.12995,-2.92901,-2.72727,-2.52475, -2.22123,-1.91636,-1.71286,-1.51155, -1.30594,-1.10209,-0.897259,-0.701548, -0.502463,-0.300318,-0.0977906,0.10502, 0.308131,0.513709,0.715437,0.904869, 1.07578,1.40918,1.57741,1.74653,2.08432 ,2.2548,2.37376)
FOOTPRINT_POINT_LONGITUDE = (91.8908,91.6927,91.4327,91.2349, 91.0367,90.8567,90.8543,90.8513,90.848, 90.8454,90.8414,90.8363,90.832,90.8277, 90.8228,90.8175,90.8139,90.8106,90.8063 ,90.8035,90.8001,90.796,90.7902,90.7863 ,90.7827,90.7799,90.7731,90.7651,90.761 ,90.7571,90.7556,90.7499,90.7455, 90.7406,90.7369,90.7322,90.7256,90.721, 90.7161,90.7089,90.7042,90.6997,90.6919 ,90.6869,90.6824,90.678,90.6734,90.6687 ,90.8088,90.9955,91.1677,91.3972, 91.6276,91.8869,92.1508,92.1498,92.1486 ,92.1466,92.1453,92.1438,92.1431, 92.1421,92.1408,92.14,92.1381,92.1382, 92.1377,92.1373,92.1372,92.1368,92.1366 ,92.1368,92.1364,92.1358,92.1359, 92.1357,92.1353,92.135,92.1343,92.1338, 92.134,92.1329,92.1324,92.1317,92.1337, 92.1347,92.1349,92.135,92.135,92.135, 92.1342,92.1347,92.1345,92.1343,92.1366 ,92.1373,92.1377,92.1388,92.1389, 91.8908)
ORBIT_NUMBER = 9339
ORBITAL_ECCENTRICITY = 0.578
ORBITAL_INCLINATION = 86.85
ORBITAL_SEMIMAJOR_AXIS = 8858.18
PERIAPSIS_ALTITUDE = 346.45
PERIAPSIS_ARGUMENT_ANGLE = 166.01
PERIAPSIS_TIME = 2011-04-25T21:51:04.000Z
SPACECRAFT_ORIENTATION = (0.0,-1.0,0.0)
^MEX_ORIENTATION_DESC = "MEX_ORIENTATION_DESC.TXT"
SPACECRAFT_POINTING_MODE = NADIR
^MEX_POINTING_DESC = "MEX_POINTING_DESC.TXT"
RIGHT_ASCENSION = -1e+32
DECLINATION = -1e+32
OFFSET_ANGLE = -1e+32
SPACECRAFT_SOLAR_DISTANCE = 2.09015e+08
TARGET_NAME = MARS
/* CAMERA DATA ELEMENTS */
DETECTOR_TEMPERATURE = 17.351
FOCAL_PLANE_TEMPERATURE = 8.5833
INST_CMPRS_NAME = "DISCRETE COSINE TRANSFORMATION (DCT)"
INST_CMPRS_RATIO = 7.97645
INST_CMPRS_QUALITY = 0
INST_CMPRS_QUANTZ_TBL_ID = 0
INSTRUMENT_TEMPERATURE = 11.234
LENS_TEMPERATURE = 9.195
MACROPIXEL_SIZE = 2
MISSING_FRAMES = 0
PIXEL_SUBSAMPLING_FLAG = N
SIGNAL_CHAIN_ID = 1
/* RADIOMETRIC DATA ELEMENTS */
BANDWIDTH = 180.0
CENTER_FILTER_WAVELENGTH = 677.0
RADIANCE_OFFSET = 2.63877
RADIANCE_SCALING_FACTOR = 0.0110017
REFLECTANCE_SCALING_FACTOR = 0.000250759
MEX:REFLECTANCE_OFFSET = 0.0601449
/* IMAGE OBJECT DEFINITIONS */
OBJECT = IMAGE
  INTERCHANGE_FORMAT = BINARY
  LINES = 23445
  LINE_SAMPLES = 3844
  SAMPLE_TYPE = UNSIGNED_INTEGER
  SAMPLE_BITS = 8
  BANDS = 1
  BAND_STORAGE_TYPE = BAND_SEQUENTIAL
  MAXIMUM = 255
  MEAN = 107.835
  MINIMUM = 1
  STANDARD_DEVIATION = 30.5234
END_OBJECT = IMAGE
/* MAP OBJECT DEFINITIONS */
OBJECT = IMAGE_MAP_PROJECTION
  ^DATA_SET_MAP_PROJECTION_CATALOG= "DSMAP.CAT"
  A_AXIS_RADIUS = 3396.0
  B_AXIS_RADIUS = 3396.0
  C_AXIS_RADIUS = 3396.0
  CENTER_LATITUDE = 0.0
  CENTER_LONGITUDE = 91.0
  COORDINATE_SYSTEM_NAME = PLANETOGRAPHIC
  COORDINATE_SYSTEM_TYPE = "BODY-FIXED ROTATING"
  EASTERNMOST_LONGITUDE = 92.1508
  FIRST_STANDARD_PARALLEL = "N/A"
  LINE_FIRST_PIXEL = 1
  LINE_LAST_PIXEL = 23445
  LINE_PROJECTION_OFFSET = 5655.25
  MAP_PROJECTION_ROTATION = 0.0
  MAP_PROJECTION_TYPE = SINUSOIDAL
  MAP_RESOLUTION = 2370.85521546667
  MAP_SCALE = 0.025
  MAXIMUM_LATITUDE = 2.38056
  MINIMUM_LATITUDE = -7.5013
  POSITIVE_LONGITUDE_DIRECTION = EAST
  REFERENCE_LATITUDE = "N/A"
  REFERENCE_LONGITUDE = "N/A"
  SAMPLE_FIRST_PIXEL = 1
  SAMPLE_LAST_PIXEL = 3844
  SAMPLE_PROJECTION_OFFSET = 954.25
  SECOND_STANDARD_PARALLEL = "N/A"
  WESTERNMOST_LONGITUDE = 90.6687
END_OBJECT = IMAGE_MAP_PROJECTION
/* The JPEG2000 image data file associated with this label. */
OBJECT = COMPRESSED_FILE
  FILE_NAME = "H9339_0000_S13.JP2"
  RECORD_TYPE = UNDEFINED
  FILE_RECORDS = UNK
  ENCODING_TYPE = "JP2"
  INTERCHANGE_FORMAT = BINARY
  UNCOMPRESSED_FILE_NAME = "H9339_0000_S13.IMG"
  REQUIRED_STORAGE_BYTES = "90145644"
  ^DESCRIPTION = "JP2INFO.TXT"
END_OBJECT = COMPRESSED_FILE
END
