PDS_VERSION_ID = PDS3
/* FILE DATA ELEMENTS */
RECORD_TYPE = STREAM
/* POINTERS TO DATA OBJECTS */
^COMPRESSED_FILE = "H9338_0000_P13.JP2"
/* IDENTIFICATION DATA ELEMENTS */
DATA_SET_ID = "MEX-M-HRSC-5-REFDR-MAPPROJECTED-V3.0"
DATA_SET_NAME = "MARS EXPRESS HRSC MAP PROJECTED REFDR V3.0"
DETECTOR_ID = MEX_HRSC_P1
EVENT_TYPE = "MARS-REGIONAL-MAPPING-Vo-Fl-Eo"
INSTRUMENT_HOST_ID = MEX
INSTRUMENT_HOST_NAME = "MARS EXPRESS"
INSTRUMENT_ID = HRSC
INSTRUMENT_NAME = "HIGH RESOLUTION STEREO CAMERA"
MISSION_NAME = "MARS EXPRESS"
MISSION_PHASE_NAME = ME_Phase_23
PROCESSING_LEVEL_ID = 3
PRODUCT_CREATION_TIME = 2016-07-15T03:41:52.000Z
PRODUCT_ID = "H9338_0000_P13.JP2"
RELEASE_ID = 0096
REVISION_ID = 0000
/* QUALITY DATA ELEMENTS */
DATA_QUALITY_ID = 1
DATA_QUALITY_DESC = "Data calculated based on original SPICE kernels"
/* TIME DATA ELEMENTS */
SPACECRAFT_CLOCK_START_COUNT = "1/0251823305.07311"
SPACECRAFT_CLOCK_STOP_COUNT = "1/0251823816.51904"
START_TIME = 2011-04-25T14:55:20.085Z
STOP_TIME = 2011-04-25T15:01:25.743Z
/* ORBITAL DATA ELEMENTS */
ASCENDING_NODE_LONGITUDE = 38.96
MAXIMUM_RESOLUTION = 65.5
FOOTPRINT_POINT_LATITUDE = (-2.87307,-2.85671,-2.8412,-3.2311, -3.8004,-4.18072,-4.55938,-5.12914, -5.51774,-5.90495,-6.29199,-6.6859, -7.08402,-7.47992,-7.881,-8.28736, -8.69438,-9.10614,-9.52348,-9.93756, -10.3623,-10.7843,-11.4296,-11.8614, -12.5213,-12.9605,-13.4104,-13.8591, -14.5529,-15.0127,-15.7059,-16.4181, -17.144,-17.6342,-18.1276,-18.6247, -19.1303,-19.6374,-20.1517,-20.6739, -21.1995,-22.0046,-22.5473,-23.0989, -23.656,-24.2195,-24.7896,-25.3675, -25.6768,-25.683,-25.695,-25.7062, -25.7118,-25.4246,-24.8469,-24.2766, -23.7113,-23.1559,-22.6074,-22.0665, -21.5281,-20.9974,-20.474,-19.9564, -19.4438,-18.9422,-18.1889,-17.6953, -16.9628,-16.4804,-16.0061,-15.5338, -15.0684,-14.6057,-14.1485,-13.6959, -13.2467,-12.5804,-11.9224,-11.4908, -11.0555,-10.6321,-10.2095,-9.58317, -9.16743,-8.55332,-8.15441,-7.74658, -7.1457,-6.74757,-6.35367,-5.77174, -5.3832,-4.99913,-4.61995,-4.05023, -3.66964,-3.29,-2.90972,-2.87307)
FOOTPRINT_POINT_LONGITUDE = (194.876,194.456,194.043,193.855, 193.843,193.835,193.827,193.814,193.806 ,193.797,193.788,193.779,193.77,193.76, 193.751,193.741,193.731,193.72,193.71, 193.699,193.688,193.677,193.66,193.648, 193.63,193.617,193.605,193.592,193.571, 193.557,193.536,193.514,193.491,193.475 ,193.459,193.443,193.426,193.409, 193.391,193.373,193.354,193.325,193.305 ,193.285,193.264,193.242,193.22,193.197 ,193.554,193.881,194.374,194.99,195.372 ,195.704,195.68,195.658,195.635,195.615 ,195.597,195.58,195.562,195.544,195.529 ,195.515,195.501,195.492,195.47,195.457 ,195.438,195.427,195.417,195.407, 195.398,195.389,195.381,195.374,195.367 ,195.356,195.347,195.341,195.333, 195.328,195.324,195.317,195.312,195.307 ,195.311,195.306,195.297,195.293, 195.291,195.288,195.286,195.286,195.284 ,195.281,195.279,195.279,195.278, 194.876)
ORBIT_NUMBER = 9338
ORBITAL_ECCENTRICITY = 0.577
ORBITAL_INCLINATION = 86.85
ORBITAL_SEMIMAJOR_AXIS = 8848.56
PERIAPSIS_ALTITUDE = 347.08
PERIAPSIS_ARGUMENT_ANGLE = 166.18
PERIAPSIS_TIME = 2011-04-25T14:51:25.000Z
SPACECRAFT_ORIENTATION = (0.0,-1.0,0.0)
^MEX_ORIENTATION_DESC = "MEX_ORIENTATION_DESC.TXT"
SPACECRAFT_POINTING_MODE = ACROSSTRACK
^MEX_POINTING_DESC = "MEX_POINTING_DESC.TXT"
RIGHT_ASCENSION = -1e+32
DECLINATION = -1e+32
OFFSET_ANGLE = 0.8
SPACECRAFT_SOLAR_DISTANCE = 2.08987e+08
TARGET_NAME = MARS
/* CAMERA DATA ELEMENTS */
DETECTOR_TEMPERATURE = 17.5549
FOCAL_PLANE_TEMPERATURE = 8.3794
INST_CMPRS_NAME = "DISCRETE COSINE TRANSFORMATION (DCT)"
INST_CMPRS_RATIO = 8.52889
INST_CMPRS_QUALITY = 0
INST_CMPRS_QUANTZ_TBL_ID = 0
INSTRUMENT_TEMPERATURE = 12.4574
LENS_TEMPERATURE = 8.5833
MACROPIXEL_SIZE = 4
MISSING_FRAMES = 0
PIXEL_SUBSAMPLING_FLAG = N
SIGNAL_CHAIN_ID = 3
/* RADIOMETRIC DATA ELEMENTS */
BANDWIDTH = 174.0
CENTER_FILTER_WAVELENGTH = 675.0
RADIANCE_OFFSET = 2.58203
RADIANCE_SCALING_FACTOR = 0.017862
REFLECTANCE_SCALING_FACTOR = 0.000419617
MEX:REFLECTANCE_OFFSET = 0.0606574
/* IMAGE OBJECT DEFINITIONS */
OBJECT = IMAGE
  INTERCHANGE_FORMAT = BINARY
  LINES = 27086
  LINE_SAMPLES = 2967
  SAMPLE_TYPE = UNSIGNED_INTEGER
  SAMPLE_BITS = 8
  BANDS = 1
  BAND_STORAGE_TYPE = BAND_SEQUENTIAL
  MAXIMUM = 255
  MEAN = 109.988
  MINIMUM = 1
  STANDARD_DEVIATION = 27.5044
END_OBJECT = IMAGE
/* MAP OBJECT DEFINITIONS */
OBJECT = IMAGE_MAP_PROJECTION
  ^DATA_SET_MAP_PROJECTION_CATALOG= "DSMAP.CAT"
  A_AXIS_RADIUS = 3396.0
  B_AXIS_RADIUS = 3396.0
  C_AXIS_RADIUS = 3396.0
  CENTER_LATITUDE = 0.0
  CENTER_LONGITUDE = 194.0
  COORDINATE_SYSTEM_NAME = PLANETOGRAPHIC
  COORDINATE_SYSTEM_TYPE = "BODY-FIXED ROTATING"
  EASTERNMOST_LONGITUDE = 195.704
  FIRST_STANDARD_PARALLEL = "N/A"
  LINE_FIRST_PIXEL = 1
  LINE_LAST_PIXEL = 27086
  LINE_PROJECTION_OFFSET = -3371.625
  MAP_PROJECTION_ROTATION = 0.0
  MAP_PROJECTION_TYPE = SINUSOIDAL
  MAP_RESOLUTION = 1185.42760773333
  MAP_SCALE = 0.05
  MAXIMUM_LATITUDE = -2.8412
  MINIMUM_LATITUDE = -25.7118
  POSITIVE_LONGITUDE_DIRECTION = EAST
  REFERENCE_LATITUDE = "N/A"
  REFERENCE_LONGITUDE = "N/A"
  SAMPLE_FIRST_PIXEL = 1
  SAMPLE_LAST_PIXEL = 2967
  SAMPLE_PROJECTION_OFFSET = 979.625
  SECOND_STANDARD_PARALLEL = "N/A"
  WESTERNMOST_LONGITUDE = 193.197
END_OBJECT = IMAGE_MAP_PROJECTION
/* The JPEG2000 image data file associated with this label. */
OBJECT = COMPRESSED_FILE
  FILE_NAME = "H9338_0000_P13.JP2"
  RECORD_TYPE = UNDEFINED
  FILE_RECORDS = UNK
  ENCODING_TYPE = "JP2"
  INTERCHANGE_FORMAT = BINARY
  UNCOMPRESSED_FILE_NAME = "H9338_0000_P13.IMG"
  REQUIRED_STORAGE_BYTES = "80387898"
  ^DESCRIPTION = "JP2INFO.TXT"
END_OBJECT = COMPRESSED_FILE
END
