PDS_VERSION_ID = PDS3
/* FILE DATA ELEMENTS */
RECORD_TYPE = STREAM
/* POINTERS TO DATA OBJECTS */
^COMPRESSED_FILE = "H9324_0000_S13.JP2"
/* IDENTIFICATION DATA ELEMENTS */
DATA_SET_ID = "MEX-M-HRSC-5-REFDR-MAPPROJECTED-V3.0"
DATA_SET_NAME = "MARS EXPRESS HRSC MAP PROJECTED REFDR V3.0"
DETECTOR_ID = MEX_HRSC_S1
EVENT_TYPE = "MARS-REGIONAL-MAPPING-Vo-Fl-Eo"
INSTRUMENT_HOST_ID = MEX
INSTRUMENT_HOST_NAME = "MARS EXPRESS"
INSTRUMENT_ID = HRSC
INSTRUMENT_NAME = "HIGH RESOLUTION STEREO CAMERA"
MISSION_NAME = "MARS EXPRESS"
MISSION_PHASE_NAME = ME_Phase_23
PROCESSING_LEVEL_ID = 3
PRODUCT_CREATION_TIME = 2016-07-15T03:41:52.000Z
PRODUCT_ID = "H9324_0000_S13.JP2"
RELEASE_ID = 0096
REVISION_ID = 0000
/* QUALITY DATA ELEMENTS */
DATA_QUALITY_ID = 1
DATA_QUALITY_DESC = "Data calculated based on original SPICE kernels"
/* TIME DATA ELEMENTS */
SPACECRAFT_CLOCK_START_COUNT = "1/0251470846.09060"
SPACECRAFT_CLOCK_STOP_COUNT = "1/0251471296.25636"
START_TIME = 2011-04-21T13:00:49.031Z
STOP_TIME = 2011-04-21T13:05:48.027Z
/* ORBITAL DATA ELEMENTS */
ASCENDING_NODE_LONGITUDE = 39.23
MAXIMUM_RESOLUTION = 35
FOOTPRINT_POINT_LATITUDE = (-8.28139,-8.28227,-8.28394,-8.30096, -8.61388,-8.93296,-9.25423,-9.57719, -9.9013,-10.2346,-10.5664,-10.8988, -11.2276,-11.56,-11.8929,-12.2272, -12.5662,-12.9105,-13.2567,-13.6036, -13.9558,-14.3144,-14.8454,-15.2066, -15.5663,-16.1172,-16.4839,-16.8575, -17.2293,-17.8037,-18.1873,-18.7707, -19.1604,-19.5583,-19.9548,-20.3603, -20.7626,-21.1748,-21.7988,-22.2169, -22.6425,-23.2848,-23.7171,-24.1566, -24.5976,-25.044,-25.4946,-25.949, -26.4092,-26.874,-27.3441,-27.4142, -27.4168,-27.4239,-27.4122,-27.4097, -26.9389,-26.4773,-26.0141,-25.5604, -25.1087,-24.6623,-23.9989,-23.3434, -22.7032,-22.2784,-21.8592,-21.443, -21.0316,-20.4198,-19.8127,-19.4281, -19.0273,-18.4366,-17.8612,-17.4782, -17.1009,-16.7271,-16.1703,-15.8044, -15.258,-14.8997,-14.5348,-14.1823, -13.6589,-13.134,-12.7945,-12.4487, -12.1156,-11.7767,-11.4447,-10.9452, -10.6125,-10.2817,-9.95416,-9.63262, -9.31019,-8.8264,-8.50726,-8.28139)
FOOTPRINT_POINT_LONGITUDE = (185.88,185.474,185.024,184.758,184.751 ,184.744,184.736,184.728,184.719, 184.708,184.698,184.688,184.68,184.673, 184.665,184.657,184.648,184.639,184.628 ,184.618,184.608,184.595,184.58,184.568 ,184.557,184.54,184.528,184.516,184.504 ,184.483,184.469,184.448,184.434, 184.419,184.404,184.388,184.373,184.357 ,184.331,184.314,184.296,184.269, 184.251,184.232,184.213,184.193,184.173 ,184.153,184.131,184.11,184.088,184.681 ,185.132,185.772,186.221,186.536, 186.521,186.507,186.492,186.479,186.466 ,186.453,186.435,186.418,186.403, 186.393,186.384,186.375,186.366,186.353 ,186.341,186.337,186.328,186.317, 186.308,186.302,186.296,186.291,186.284 ,186.279,186.272,186.268,186.263,186.26 ,186.255,186.249,186.248,186.244, 186.243,186.24,186.238,186.234,186.232, 186.229,186.228,186.226,186.224,186.221 ,186.219,185.88)
ORBIT_NUMBER = 9324
ORBITAL_ECCENTRICITY = 0.577
ORBITAL_INCLINATION = 86.86
ORBITAL_SEMIMAJOR_AXIS = 8849.0
PERIAPSIS_ALTITUDE = 345.51
PERIAPSIS_ARGUMENT_ANGLE = 168.61
PERIAPSIS_TIME = 2011-04-21T12:56:19.000Z
SPACECRAFT_ORIENTATION = (0.0,-1.0,0.0)
^MEX_ORIENTATION_DESC = "MEX_ORIENTATION_DESC.TXT"
SPACECRAFT_POINTING_MODE = ACROSSTRACK
^MEX_POINTING_DESC = "MEX_POINTING_DESC.TXT"
RIGHT_ASCENSION = -1e+32
DECLINATION = -1e+32
OFFSET_ANGLE = -0.229
SPACECRAFT_SOLAR_DISTANCE = 2.08607e+08
TARGET_NAME = MARS
/* CAMERA DATA ELEMENTS */
DETECTOR_TEMPERATURE = 17.5549
FOCAL_PLANE_TEMPERATURE = 8.3794
INST_CMPRS_NAME = "DISCRETE COSINE TRANSFORMATION (DCT)"
INST_CMPRS_RATIO = 7.17498
INST_CMPRS_QUALITY = 0
INST_CMPRS_QUANTZ_TBL_ID = 0
INSTRUMENT_TEMPERATURE = 11.234
LENS_TEMPERATURE = 8.9911
MACROPIXEL_SIZE = 2
MISSING_FRAMES = 0
PIXEL_SUBSAMPLING_FLAG = N
SIGNAL_CHAIN_ID = 1
/* RADIOMETRIC DATA ELEMENTS */
BANDWIDTH = 180.0
CENTER_FILTER_WAVELENGTH = 677.0
RADIANCE_OFFSET = 2.92178
RADIANCE_SCALING_FACTOR = 0.0153641
REFLECTANCE_SCALING_FACTOR = 0.000348826
MEX:REFLECTANCE_OFFSET = 0.0663361
/* IMAGE OBJECT DEFINITIONS */
OBJECT = IMAGE
  INTERCHANGE_FORMAT = BINARY
  LINES = 45412
  LINE_SAMPLES = 5744
  SAMPLE_TYPE = UNSIGNED_INTEGER
  SAMPLE_BITS = 8
  BANDS = 1
  BAND_STORAGE_TYPE = BAND_SEQUENTIAL
  MAXIMUM = 255
  MEAN = 104.372
  MINIMUM = 1
  STANDARD_DEVIATION = 32.3882
END_OBJECT = IMAGE
/* MAP OBJECT DEFINITIONS */
OBJECT = IMAGE_MAP_PROJECTION
  ^DATA_SET_MAP_PROJECTION_CATALOG= "DSMAP.CAT"
  A_AXIS_RADIUS = 3396.0
  B_AXIS_RADIUS = 3396.0
  C_AXIS_RADIUS = 3396.0
  CENTER_LATITUDE = 0.0
  CENTER_LONGITUDE = 185.0
  COORDINATE_SYSTEM_NAME = PLANETOGRAPHIC
  COORDINATE_SYSTEM_TYPE = "BODY-FIXED ROTATING"
  EASTERNMOST_LONGITUDE = 186.536
  FIRST_STANDARD_PARALLEL = "N/A"
  LINE_FIRST_PIXEL = 1
  LINE_LAST_PIXEL = 45412
  LINE_PROJECTION_OFFSET = -19630.75
  MAP_PROJECTION_ROTATION = 0.0
  MAP_PROJECTION_TYPE = SINUSOIDAL
  MAP_RESOLUTION = 2370.85521546667
  MAP_SCALE = 0.025
  MAXIMUM_LATITUDE = -8.28139
  MINIMUM_LATITUDE = -27.4239
  POSITIVE_LONGITUDE_DIRECTION = EAST
  REFERENCE_LATITUDE = "N/A"
  REFERENCE_LONGITUDE = "N/A"
  SAMPLE_FIRST_PIXEL = 1
  SAMPLE_LAST_PIXEL = 5744
  SAMPLE_PROJECTION_OFFSET = 2217.75
  SECOND_STANDARD_PARALLEL = "N/A"
  WESTERNMOST_LONGITUDE = 184.088
END_OBJECT = IMAGE_MAP_PROJECTION
/* The JPEG2000 image data file associated with this label. */
OBJECT = COMPRESSED_FILE
  FILE_NAME = "H9324_0000_S13.JP2"
  RECORD_TYPE = UNDEFINED
  FILE_RECORDS = UNK
  ENCODING_TYPE = "JP2"
  INTERCHANGE_FORMAT = BINARY
  UNCOMPRESSED_FILE_NAME = "H9324_0000_S13.IMG"
  REQUIRED_STORAGE_BYTES = "260875248"
  ^DESCRIPTION = "JP2INFO.TXT"
END_OBJECT = COMPRESSED_FILE
END
