PDS_VERSION_ID = PDS3
/* FILE DATA ELEMENTS */
RECORD_TYPE = STREAM
/* POINTERS TO DATA OBJECTS */
^COMPRESSED_FILE = "H9285_0000_RE3.JP2"
/* IDENTIFICATION DATA ELEMENTS */
DATA_SET_ID = "MEX-M-HRSC-5-REFDR-MAPPROJECTED-V3.0"
DATA_SET_NAME = "MARS EXPRESS HRSC MAP PROJECTED REFDR V3.0"
DETECTOR_ID = MEX_HRSC_RED
EVENT_TYPE = "MARS-REGIONAL-MAPPING-Vo-Te-Fl"
INSTRUMENT_HOST_ID = MEX
INSTRUMENT_HOST_NAME = "MARS EXPRESS"
INSTRUMENT_ID = HRSC
INSTRUMENT_NAME = "HIGH RESOLUTION STEREO CAMERA"
MISSION_NAME = "MARS EXPRESS"
MISSION_PHASE_NAME = ME_Phase_23
PROCESSING_LEVEL_ID = 3
PRODUCT_CREATION_TIME = 2016-07-15T00:46:22.000Z
PRODUCT_ID = "H9285_0000_RE3.JP2"
RELEASE_ID = 0095
REVISION_ID = 0000
/* QUALITY DATA ELEMENTS */
DATA_QUALITY_ID = 1
DATA_QUALITY_DESC = "Data calculated based on original SPICE kernels"
/* TIME DATA ELEMENTS */
SPACECRAFT_CLOCK_START_COUNT = "1/0250488844.08229"
SPACECRAFT_CLOCK_STOP_COUNT = "1/0250489173.61654"
START_TIME = 2011-04-10T04:15:11.471Z
STOP_TIME = 2011-04-10T04:19:24.552Z
/* ORBITAL DATA ELEMENTS */
ASCENDING_NODE_LONGITUDE = 39.99
MAXIMUM_RESOLUTION = 133.2
FOOTPRINT_POINT_LATITUDE = (-9.62885,-9.63176,-9.6331,-9.89482, -10.1563,-10.4173,-10.6777,-10.9377, -11.1981,-11.5902,-11.8584,-12.124, -12.3887,-12.789,-13.0592,-13.3288, -13.5979,-13.8705,-14.1456,-14.42, -14.6939,-15.1125,-15.3916,-15.6701, -15.9538,-16.238,-16.5214,-16.808, -17.0969,-17.3852,-17.8236,-18.1168, -18.4112,-18.7087,-19.1545,-19.6082, -19.9095,-20.2162,-20.6753,-20.9864, -21.2969,-21.7683,-22.0829,-22.4037, -22.7197,-23.0471,-23.3688,-23.6975, -24.0246,-24.2357,-24.2355,-24.2345, -24.2197,-24.043,-23.7166,-23.3985, -23.071,-22.7468,-22.2695,-21.9493, -21.6347,-21.3205,-21.0105,-20.5463, -20.2405,-19.7819,-19.4805,-19.0294, -18.7326,-18.2874,-17.9942,-17.7006, -17.2652,-16.9774,-16.5454,-16.2619, -15.9784,-15.6939,-15.4153,-15.1364, -14.8568,-14.4433,-14.1696,-13.895, -13.6218,-13.3528,-13.0831,-12.813, -12.543,-12.2791,-12.0141,-11.7491, -11.3519,-11.0925,-10.8326,-10.5724, -10.3114,-10.0503,-9.78894,-9.62885)
FOOTPRINT_POINT_LONGITUDE = (215.249,214.827,214.421,214.29,214.285 ,214.279,214.273,214.268,214.262, 214.253,214.247,214.241,214.235,214.225 ,214.219,214.212,214.205,214.198, 214.191,214.184,214.177,214.166,214.159 ,214.151,214.143,214.136,214.128,214.12 ,214.111,214.103,214.09,214.082,214.073 ,214.064,214.05,214.036,214.026,214.016 ,214.001,213.991,213.981,213.964, 213.954,213.943,213.93,213.92,213.908, 213.896,213.883,214.173,214.653,215.273 ,215.778,216.009,215.997,215.98,215.971 ,215.96,215.943,215.934,215.924,215.915 ,215.905,215.892,215.883,215.871, 215.863,215.851,215.844,215.833,215.827 ,215.82,215.811,215.805,215.796,215.791 ,215.785,215.78,215.775,215.77,215.765, 215.758,215.754,215.749,215.745,215.741 ,215.738,215.734,215.731,215.727, 215.724,215.721,215.717,215.714,215.711 ,215.709,215.706,215.704,215.701, 215.249)
ORBIT_NUMBER = 9285
ORBITAL_ECCENTRICITY = 0.578
ORBITAL_INCLINATION = 86.85
ORBITAL_SEMIMAJOR_AXIS = 8860.2
PERIAPSIS_ALTITUDE = 341.56
PERIAPSIS_ARGUMENT_ANGLE = 175.39
PERIAPSIS_TIME = 2011-04-10T04:11:00.000Z
SPACECRAFT_ORIENTATION = (0.0,-1.0,0.0)
^MEX_ORIENTATION_DESC = "MEX_ORIENTATION_DESC.TXT"
SPACECRAFT_POINTING_MODE = ACROSSTRACK
^MEX_POINTING_DESC = "MEX_POINTING_DESC.TXT"
RIGHT_ASCENSION = -1e+32
DECLINATION = -1e+32
OFFSET_ANGLE = 0.25
SPACECRAFT_SOLAR_DISTANCE = 2.0772e+08
TARGET_NAME = MARS
/* CAMERA DATA ELEMENTS */
DETECTOR_TEMPERATURE = 18.5744
FOCAL_PLANE_TEMPERATURE = 8.3794
INST_CMPRS_NAME = "DISCRETE COSINE TRANSFORMATION (DCT)"
INST_CMPRS_RATIO = 21.8111
INST_CMPRS_QUALITY = 0
INST_CMPRS_QUANTZ_TBL_ID = 0
INSTRUMENT_TEMPERATURE = 11.234
LENS_TEMPERATURE = 8.5833
MACROPIXEL_SIZE = 8
MISSING_FRAMES = 0
PIXEL_SUBSAMPLING_FLAG = N
SIGNAL_CHAIN_ID = 2
/* RADIOMETRIC DATA ELEMENTS */
BANDWIDTH = 48.0
CENTER_FILTER_WAVELENGTH = 748.0
RADIANCE_OFFSET = 0.504025
RADIANCE_SCALING_FACTOR = 0.00250872
REFLECTANCE_SCALING_FACTOR = 0.000247021
MEX:REFLECTANCE_OFFSET = 0.0496289
/* IMAGE OBJECT DEFINITIONS */
OBJECT = IMAGE
  INTERCHANGE_FORMAT = BINARY
  LINES = 8652
  LINE_SAMPLES = 1124
  SAMPLE_TYPE = UNSIGNED_INTEGER
  SAMPLE_BITS = 8
  BANDS = 1
  BAND_STORAGE_TYPE = BAND_SEQUENTIAL
  MAXIMUM = 255
  MEAN = 105.603
  MINIMUM = 1
  STANDARD_DEVIATION = 33.2825
END_OBJECT = IMAGE
/* MAP OBJECT DEFINITIONS */
OBJECT = IMAGE_MAP_PROJECTION
  ^DATA_SET_MAP_PROJECTION_CATALOG= "DSMAP.CAT"
  A_AXIS_RADIUS = 3396.0
  B_AXIS_RADIUS = 3396.0
  C_AXIS_RADIUS = 3396.0
  CENTER_LATITUDE = 0.0
  CENTER_LONGITUDE = 215.0
  COORDINATE_SYSTEM_NAME = PLANETOGRAPHIC
  COORDINATE_SYSTEM_TYPE = "BODY-FIXED ROTATING"
  EASTERNMOST_LONGITUDE = 216.009
  FIRST_STANDARD_PARALLEL = "N/A"
  LINE_FIRST_PIXEL = 1
  LINE_LAST_PIXEL = 8652
  LINE_PROJECTION_OFFSET = -5700.6875
  MAP_PROJECTION_ROTATION = 0.0
  MAP_PROJECTION_TYPE = SINUSOIDAL
  MAP_RESOLUTION = 592.713803866667
  MAP_SCALE = 0.1
  MAXIMUM_LATITUDE = -9.62885
  MINIMUM_LATITUDE = -24.2357
  POSITIVE_LONGITUDE_DIRECTION = EAST
  REFERENCE_LATITUDE = "N/A"
  REFERENCE_LONGITUDE = "N/A"
  SAMPLE_FIRST_PIXEL = 1
  SAMPLE_LAST_PIXEL = 1124
  SAMPLE_PROJECTION_OFFSET = 587.5625
  SECOND_STANDARD_PARALLEL = "N/A"
  WESTERNMOST_LONGITUDE = 213.883
END_OBJECT = IMAGE_MAP_PROJECTION
/* The JPEG2000 image data file associated with this label. */
OBJECT = COMPRESSED_FILE
  FILE_NAME = "H9285_0000_RE3.JP2"
  RECORD_TYPE = UNDEFINED
  FILE_RECORDS = UNK
  ENCODING_TYPE = "JP2"
  INTERCHANGE_FORMAT = BINARY
  UNCOMPRESSED_FILE_NAME = "H9285_0000_RE3.IMG"
  REQUIRED_STORAGE_BYTES = "9743956"
  ^DESCRIPTION = "JP2INFO.TXT"
END_OBJECT = COMPRESSED_FILE
END
