PDS_VERSION_ID = PDS3
/* FILE DATA ELEMENTS */
RECORD_TYPE = STREAM
/* POINTERS TO DATA OBJECTS */
^COMPRESSED_FILE = "H9282_0000_GR3.JP2"
/* IDENTIFICATION DATA ELEMENTS */
DATA_SET_ID = "MEX-M-HRSC-5-REFDR-MAPPROJECTED-V3.0"
DATA_SET_NAME = "MARS EXPRESS HRSC MAP PROJECTED REFDR V3.0"
DETECTOR_ID = MEX_HRSC_GREEN
EVENT_TYPE = "MARS-REGIONAL-MAPPING-Im-Fl"
INSTRUMENT_HOST_ID = MEX
INSTRUMENT_HOST_NAME = "MARS EXPRESS"
INSTRUMENT_ID = HRSC
INSTRUMENT_NAME = "HIGH RESOLUTION STEREO CAMERA"
MISSION_NAME = "MARS EXPRESS"
MISSION_PHASE_NAME = ME_Phase_23
PROCESSING_LEVEL_ID = 3
PRODUCT_CREATION_TIME = 2016-07-15T00:46:22.000Z
PRODUCT_ID = "H9282_0000_GR3.JP2"
RELEASE_ID = 0095
REVISION_ID = 0000
/* QUALITY DATA ELEMENTS */
DATA_QUALITY_ID = 1
DATA_QUALITY_DESC = "Data calculated based on original SPICE kernels"
/* TIME DATA ELEMENTS */
SPACECRAFT_CLOCK_START_COUNT = "1/0250413546.09065"
SPACECRAFT_CLOCK_STOP_COUNT = "1/0250413925.39293"
START_TIME = 2011-04-09T07:19:48.201Z
STOP_TIME = 2011-04-09T07:23:37.583Z
/* ORBITAL DATA ELEMENTS */
ASCENDING_NODE_LONGITUDE = 40.04
MAXIMUM_RESOLUTION = 164.7
FOOTPRINT_POINT_LATITUDE = (-24.6116,-24.6124,-24.6119,-24.611, -24.6088,-24.6113,-24.9538,-25.4154, -25.8814,-26.1156,-26.3509,-26.5888, -26.9455,-27.1864,-27.4279,-27.6692, -27.9144,-28.2819,-28.6539,-28.9022, -29.2792,-29.5312,-29.9135,-30.169, -30.4274,-30.8156,-31.0782,-31.3406, -31.739,-32.0051,-32.2747,-32.5425, -32.8152,-33.0876,-33.3636,-33.6394, -33.9186,-34.3393,-34.6215,-34.9059, -35.1914,-35.4806,-35.9171,-36.3576, -36.6529,-36.9512,-37.2505,-37.5521, -37.8047,-37.8055,-37.8048,-37.8025, -37.799,-37.7955,-37.7881,-37.6277, -37.327,-37.0273,-36.7297,-36.4348, -36.1407,-35.8496,-35.4158,-35.1282, -34.8433,-34.4191,-33.998,-33.7201, -33.4442,-33.0309,-32.7588,-32.4875, -32.2188,-31.9501,-31.6859,-31.4203, -31.0274,-30.765,-30.5066,-30.2476, -29.865,-29.6096,-29.3582,-29.1063, -28.8566,-28.6084,-28.3598,-28.1155, -27.8705,-27.6262,-27.3854,-27.144, -26.9041,-26.6666,-26.4289,-26.0761, -25.8419,-25.4918,-25.031,-24.6116)
FOOTPRINT_POINT_LONGITUDE = (162.42,161.89,161.489,161.197,160.796, 160.471,160.459,160.443,160.427,160.419 ,160.41,160.402,160.39,160.381,160.372, 160.364,160.355,160.341,160.328,160.318 ,160.304,160.294,160.279,160.269, 160.259,160.244,160.233,160.222,160.205 ,160.193,160.182,160.173,160.161,160.15 ,160.137,160.125,160.113,160.094, 160.082,160.07,160.057,160.043,160.02, 159.998,159.984,159.969,159.955,159.939 ,160.249,160.724,161.05,161.553,161.968 ,162.264,162.798,163.074,163.051, 163.029,163.008,162.987,162.967,162.948 ,162.92,162.901,162.883,162.857,162.831 ,162.817,162.801,162.776,162.76,162.746 ,162.731,162.717,162.706,162.693, 162.674,162.659,162.647,162.635,162.618 ,162.607,162.596,162.586,162.575, 162.565,162.555,162.546,162.536,162.527 ,162.518,162.509,162.5,162.492,162.484, 162.472,162.464,162.452,162.437,162.42)
ORBIT_NUMBER = 9282
ORBITAL_ECCENTRICITY = 0.578
ORBITAL_INCLINATION = 86.85
ORBITAL_SEMIMAJOR_AXIS = 8853.62
PERIAPSIS_ALTITUDE = 341.7
PERIAPSIS_ARGUMENT_ANGLE = 175.94
PERIAPSIS_TIME = 2011-04-09T07:12:21.000Z
SPACECRAFT_ORIENTATION = (0.0,-1.0,0.0)
^MEX_ORIENTATION_DESC = "MEX_ORIENTATION_DESC.TXT"
SPACECRAFT_POINTING_MODE = NADIR
^MEX_POINTING_DESC = "MEX_POINTING_DESC.TXT"
RIGHT_ASCENSION = -1e+32
DECLINATION = -1e+32
OFFSET_ANGLE = -1e+32
SPACECRAFT_SOLAR_DISTANCE = 2.07662e+08
TARGET_NAME = MARS
/* CAMERA DATA ELEMENTS */
DETECTOR_TEMPERATURE = 18.3705
FOCAL_PLANE_TEMPERATURE = 8.7872
INST_CMPRS_NAME = "DISCRETE COSINE TRANSFORMATION (DCT)"
INST_CMPRS_RATIO = 14.5139
INST_CMPRS_QUALITY = 0
INST_CMPRS_QUANTZ_TBL_ID = 0
INSTRUMENT_TEMPERATURE = 11.234
LENS_TEMPERATURE = 8.9911
MACROPIXEL_SIZE = 8
MISSING_FRAMES = 0
PIXEL_SUBSAMPLING_FLAG = N
SIGNAL_CHAIN_ID = 2
/* RADIOMETRIC DATA ELEMENTS */
BANDWIDTH = 88.0
CENTER_FILTER_WAVELENGTH = 538.0
RADIANCE_OFFSET = 0.891888
RADIANCE_SCALING_FACTOR = 0.0025316
REFLECTANCE_SCALING_FACTOR = 9.39938e-05
MEX:REFLECTANCE_OFFSET = 0.0331143
/* IMAGE OBJECT DEFINITIONS */
OBJECT = IMAGE
  INTERCHANGE_FORMAT = BINARY
  LINES = 3910
  LINE_SAMPLES = 777
  SAMPLE_TYPE = UNSIGNED_INTEGER
  SAMPLE_BITS = 8
  BANDS = 1
  BAND_STORAGE_TYPE = BAND_SEQUENTIAL
  MAXIMUM = 255
  MEAN = 106.611
  MINIMUM = 1
  STANDARD_DEVIATION = 37.0057
END_OBJECT = IMAGE
/* MAP OBJECT DEFINITIONS */
OBJECT = IMAGE_MAP_PROJECTION
  ^DATA_SET_MAP_PROJECTION_CATALOG= "DSMAP.CAT"
  A_AXIS_RADIUS = 3396.0
  B_AXIS_RADIUS = 3396.0
  C_AXIS_RADIUS = 3396.0
  CENTER_LATITUDE = 0.0
  CENTER_LONGITUDE = 161.0
  COORDINATE_SYSTEM_NAME = PLANETOGRAPHIC
  COORDINATE_SYSTEM_TYPE = "BODY-FIXED ROTATING"
  EASTERNMOST_LONGITUDE = 163.074
  FIRST_STANDARD_PARALLEL = "N/A"
  LINE_FIRST_PIXEL = 1
  LINE_LAST_PIXEL = 3910
  LINE_PROJECTION_OFFSET = -7293.9375
  MAP_PROJECTION_ROTATION = 0.0
  MAP_PROJECTION_TYPE = SINUSOIDAL
  MAP_RESOLUTION = 296.356901933333
  MAP_SCALE = 0.2
  MAXIMUM_LATITUDE = -24.6088
  MINIMUM_LATITUDE = -37.8055
  POSITIVE_LONGITUDE_DIRECTION = EAST
  REFERENCE_LATITUDE = "N/A"
  REFERENCE_LONGITUDE = "N/A"
  SAMPLE_FIRST_PIXEL = 1
  SAMPLE_LAST_PIXEL = 777
  SAMPLE_PROJECTION_OFFSET = 273.0625
  SECOND_STANDARD_PARALLEL = "N/A"
  WESTERNMOST_LONGITUDE = 159.939
END_OBJECT = IMAGE_MAP_PROJECTION
/* The JPEG2000 image data file associated with this label. */
OBJECT = COMPRESSED_FILE
  FILE_NAME = "H9282_0000_GR3.JP2"
  RECORD_TYPE = UNDEFINED
  FILE_RECORDS = UNK
  ENCODING_TYPE = "JP2"
  INTERCHANGE_FORMAT = BINARY
  UNCOMPRESSED_FILE_NAME = "H9282_0000_GR3.IMG"
  REQUIRED_STORAGE_BYTES = "3056718"
  ^DESCRIPTION = "JP2INFO.TXT"
END_OBJECT = COMPRESSED_FILE
END
