PDS_VERSION_ID = PDS3
/* FILE DATA ELEMENTS */
RECORD_TYPE = STREAM
/* POINTERS TO DATA OBJECTS */
^COMPRESSED_FILE = "H9280_0000_P23.JP2"
/* IDENTIFICATION DATA ELEMENTS */
DATA_SET_ID = "MEX-M-HRSC-5-REFDR-MAPPROJECTED-V3.0"
DATA_SET_NAME = "MARS EXPRESS HRSC MAP PROJECTED REFDR V3.0"
DETECTOR_ID = MEX_HRSC_P2
EVENT_TYPE = "MARS-REGIONAL-MAPPING-Te-Im-Fl"
INSTRUMENT_HOST_ID = MEX
INSTRUMENT_HOST_NAME = "MARS EXPRESS"
INSTRUMENT_ID = HRSC
INSTRUMENT_NAME = "HIGH RESOLUTION STEREO CAMERA"
MISSION_NAME = "MARS EXPRESS"
MISSION_PHASE_NAME = ME_Phase_23
PROCESSING_LEVEL_ID = 3
PRODUCT_CREATION_TIME = 2016-07-15T00:46:22.000Z
PRODUCT_ID = "H9280_0000_P23.JP2"
RELEASE_ID = 0095
REVISION_ID = 0000
/* QUALITY DATA ELEMENTS */
DATA_QUALITY_ID = 1
DATA_QUALITY_DESC = "Data calculated based on original SPICE kernels"
/* TIME DATA ELEMENTS */
SPACECRAFT_CLOCK_START_COUNT = "1/0250362998.09073"
SPACECRAFT_CLOCK_STOP_COUNT = "1/0250363236.37463"
START_TIME = 2011-04-08T17:17:41.412Z
STOP_TIME = 2011-04-08T17:20:19.012Z
/* ORBITAL DATA ELEMENTS */
ASCENDING_NODE_LONGITUDE = 40.09
MAXIMUM_RESOLUTION = 67.7
FOOTPRINT_POINT_LATITUDE = (-12.5992,-12.5966,-12.5935,-12.5901, -12.5862,-12.5819,-12.5716,-12.9183, -13.3513,-13.6956,-13.8699,-14.0478, -14.2245,-14.489,-14.6653,-14.8414, -15.1101,-15.2902,-15.4681,-15.6475, -15.8301,-16.0089,-16.1913,-16.465, -16.7375,-16.9192,-17.1046,-17.2908, -17.4769,-17.6623,-17.8481,-18.0366, -18.3196,-18.5089,-18.6971,-18.888, -19.0803,-19.2729,-19.4634,-19.657, -19.8527,-20.0479,-20.2428,-20.4375, -20.636,-20.8337,-21.0317,-21.2299, -21.4318,-21.6328,-21.8338,-21.8644, -21.8707,-21.8751,-21.8781,-21.8801, -21.8783,-21.6734,-21.3778,-21.1771, -20.9793,-20.6822,-20.484,-20.2847, -20.0943,-19.899,-19.6065,-19.415, -19.2232,-19.031,-18.7436,-18.4608, -18.272,-18.083,-17.8942,-17.7091, -17.5239,-17.338,-17.1526,-16.9662, -16.693,-16.5111,-16.3287,-16.146, -15.9638,-15.7849,-15.6059,-15.4264, -15.2465,-15.0664,-14.8873,-14.7118, -14.5358,-14.3596,-14.1831,-13.9185, -13.7424,-13.3977,-12.9632,-12.5992)
FOOTPRINT_POINT_LONGITUDE = (6.42149,6.20374,5.98544,5.76641, 5.54694,5.32671,5.07073,5.06246,5.05174 ,5.04231,5.03782,5.03392,5.0294,5.02246 ,5.01791,5.01329,5.00637,5.00163, 4.99565,4.9907,4.98774,4.98198,4.97628, 4.96798,4.95923,4.95358,4.94784,4.9423, 4.93682,4.93105,4.92562,4.91978,4.91049 ,4.9048,4.89862,4.89238,4.88613,4.88025 ,4.87315,4.86762,4.86121,4.85463, 4.84803,4.84146,4.83457,4.82735,4.8205, 4.81366,4.80669,4.79935,4.79219,5.07769 ,5.47171,5.8464,6.14899,6.36195,6.70536 ,6.70158,6.692,6.68716,6.68245,6.67545, 6.67076,6.66769,6.66196,6.65772,6.65148 ,6.64745,6.64349,6.63962,6.63384,6.6284 ,6.62482,6.62126,6.61779,6.61442, 6.61108,6.60793,6.60458,6.60155,6.59711 ,6.59407,6.59116,6.58829,6.58549, 6.58285,6.58025,6.57775,6.57537,6.57305 ,6.57084,6.5685,6.56629,6.56411,6.562, 6.55877,6.55717,6.55316,6.54913, 6.42149)
ORBIT_NUMBER = 9280
ORBITAL_ECCENTRICITY = 0.578
ORBITAL_INCLINATION = 86.84
ORBITAL_SEMIMAJOR_AXIS = 8858.12
PERIAPSIS_ALTITUDE = 341.45
PERIAPSIS_ARGUMENT_ANGLE = 176.26
PERIAPSIS_TIME = 2011-04-08T17:13:02.000Z
SPACECRAFT_ORIENTATION = (0.0,-1.0,0.0)
^MEX_ORIENTATION_DESC = "MEX_ORIENTATION_DESC.TXT"
SPACECRAFT_POINTING_MODE = ACROSSTRACK
^MEX_POINTING_DESC = "MEX_POINTING_DESC.TXT"
RIGHT_ASCENSION = -1e+32
DECLINATION = -1e+32
OFFSET_ANGLE = -0.269
SPACECRAFT_SOLAR_DISTANCE = 2.07624e+08
TARGET_NAME = MARS
/* CAMERA DATA ELEMENTS */
DETECTOR_TEMPERATURE = 18.5744
FOCAL_PLANE_TEMPERATURE = 8.1755
INST_CMPRS_NAME = "DISCRETE COSINE TRANSFORMATION (DCT)"
INST_CMPRS_RATIO = 21.5528
INST_CMPRS_QUALITY = 0
INST_CMPRS_QUANTZ_TBL_ID = 0
INSTRUMENT_TEMPERATURE = 11.4379
LENS_TEMPERATURE = 8.7872
MACROPIXEL_SIZE = 4
MISSING_FRAMES = 0
PIXEL_SUBSAMPLING_FLAG = N
SIGNAL_CHAIN_ID = 3
/* RADIOMETRIC DATA ELEMENTS */
BANDWIDTH = 177.0
CENTER_FILTER_WAVELENGTH = 676.5
RADIANCE_OFFSET = 1.59387
RADIANCE_SCALING_FACTOR = 0.00602725
REFLECTANCE_SCALING_FACTOR = 0.000137763
MEX:REFLECTANCE_OFFSET = 0.0364307
/* IMAGE OBJECT DEFINITIONS */
OBJECT = IMAGE
  INTERCHANGE_FORMAT = BINARY
  LINES = 11002
  LINE_SAMPLES = 2081
  SAMPLE_TYPE = UNSIGNED_INTEGER
  SAMPLE_BITS = 8
  BANDS = 1
  BAND_STORAGE_TYPE = BAND_SEQUENTIAL
  MAXIMUM = 255
  MEAN = 112.04
  MINIMUM = 1
  STANDARD_DEVIATION = 34.9263
END_OBJECT = IMAGE
/* MAP OBJECT DEFINITIONS */
OBJECT = IMAGE_MAP_PROJECTION
  ^DATA_SET_MAP_PROJECTION_CATALOG= "DSMAP.CAT"
  A_AXIS_RADIUS = 3396.0
  B_AXIS_RADIUS = 3396.0
  C_AXIS_RADIUS = 3396.0
  CENTER_LATITUDE = 0.0
  CENTER_LONGITUDE = 6.0
  COORDINATE_SYSTEM_NAME = PLANETOGRAPHIC
  COORDINATE_SYSTEM_TYPE = "BODY-FIXED ROTATING"
  EASTERNMOST_LONGITUDE = 6.70536
  FIRST_STANDARD_PARALLEL = "N/A"
  LINE_FIRST_PIXEL = 1
  LINE_LAST_PIXEL = 11002
  LINE_PROJECTION_OFFSET = -14916.625
  MAP_PROJECTION_ROTATION = 0.0
  MAP_PROJECTION_TYPE = SINUSOIDAL
  MAP_RESOLUTION = 1185.42760773333
  MAP_SCALE = 0.05
  MAXIMUM_LATITUDE = -12.5716
  MINIMUM_LATITUDE = -21.8801
  POSITIVE_LONGITUDE_DIRECTION = EAST
  REFERENCE_LATITUDE = "N/A"
  REFERENCE_LONGITUDE = "N/A"
  SAMPLE_FIRST_PIXEL = 1
  SAMPLE_LAST_PIXEL = 2081
  SAMPLE_PROJECTION_OFFSET = 1329.125
  SECOND_STANDARD_PARALLEL = "N/A"
  WESTERNMOST_LONGITUDE = 4.79219
END_OBJECT = IMAGE_MAP_PROJECTION
/* The JPEG2000 image data file associated with this label. */
OBJECT = COMPRESSED_FILE
  FILE_NAME = "H9280_0000_P23.JP2"
  RECORD_TYPE = UNDEFINED
  FILE_RECORDS = UNK
  ENCODING_TYPE = "JP2"
  INTERCHANGE_FORMAT = BINARY
  UNCOMPRESSED_FILE_NAME = "H9280_0000_P23.IMG"
  REQUIRED_STORAGE_BYTES = "22915972"
  ^DESCRIPTION = "JP2INFO.TXT"
END_OBJECT = COMPRESSED_FILE
END
