PDS_VERSION_ID = PDS3
/* FILE DATA ELEMENTS */
RECORD_TYPE = STREAM
/* POINTERS TO DATA OBJECTS */
^COMPRESSED_FILE = "H9264_0000_GR3.JP2"
/* IDENTIFICATION DATA ELEMENTS */
DATA_SET_ID = "MEX-M-HRSC-5-REFDR-MAPPROJECTED-V3.0"
DATA_SET_NAME = "MARS EXPRESS HRSC MAP PROJECTED REFDR V3.0"
DETECTOR_ID = MEX_HRSC_GREEN
EVENT_TYPE = "MARS-REGIONAL-MAPPING-Im-Fl"
INSTRUMENT_HOST_ID = MEX
INSTRUMENT_HOST_NAME = "MARS EXPRESS"
INSTRUMENT_ID = HRSC
INSTRUMENT_NAME = "HIGH RESOLUTION STEREO CAMERA"
MISSION_NAME = "MARS EXPRESS"
MISSION_PHASE_NAME = ME_Phase_22
PROCESSING_LEVEL_ID = 3
PRODUCT_CREATION_TIME = 2016-07-15T00:46:22.000Z
PRODUCT_ID = "H9264_0000_GR3.JP2"
RELEASE_ID = 0095
REVISION_ID = 0000
/* QUALITY DATA ELEMENTS */
DATA_QUALITY_ID = 1
DATA_QUALITY_DESC = "Data calculated based on original SPICE kernels"
/* TIME DATA ELEMENTS */
SPACECRAFT_CLOCK_START_COUNT = "1/0249960574.09073"
SPACECRAFT_CLOCK_STOP_COUNT = "1/0249961111.22331"
START_TIME = 2011-04-04T01:30:39.235Z
STOP_TIME = 2011-04-04T01:34:58.156Z
/* ORBITAL DATA ELEMENTS */
ASCENDING_NODE_LONGITUDE = 40.39
MAXIMUM_RESOLUTION = 121.1
FOOTPRINT_POINT_LATITUDE = (-42.7195,-42.7296,-42.7395,-42.7475, -42.7497,-42.7588,-43.3281,-43.673, -44.1374,-44.6065,-45.0808,-45.6811, -46.0448,-46.2884,-46.5344,-46.78, -47.153,-47.4029,-47.6547,-47.9075, -48.1605,-48.4167,-48.6737,-49.0626, -49.3234,-49.5839,-49.8476,-50.1127, -50.3793,-50.6475,-50.9167,-51.1877, -51.4605,-51.7347,-52.0107,-52.2887, -52.5677,-52.848,-53.1303,-53.4138, -53.6993,-53.9865,-54.2755,-54.5662, -54.8585,-55.1527,-55.4488,-55.7469, -55.8141,-55.8094,-55.8032,-55.7925, -55.7735,-55.7488,-55.732,-55.7009, -55.6792,-55.6429,-55.3498,-55.0577, -54.7668,-54.4784,-54.1918,-53.9062, -53.6223,-53.3401,-53.0596,-52.7816, -52.3645,-52.0895,-51.8159,-51.5439, -51.2732,-51.0039,-50.7361,-50.4694, -50.2046,-49.9409,-49.6788,-49.4178, -49.1582,-48.902,-48.5175,-48.2626, -48.0089,-47.757,-47.507,-47.2577, -47.0097,-46.7645,-46.3976,-46.0335, -45.4325,-44.9566,-44.4864,-44.0205, -43.6743,-43.2165,-42.7631,-42.7195)
FOOTPRINT_POINT_LONGITUDE = (204.015,203.52,202.892,202.066,201.536 ,201.011,200.984,200.966,200.942, 200.917,200.89,200.855,200.834,200.821, 200.806,200.793,200.77,200.755,200.739, 200.723,200.71,200.693,200.677,200.65, 200.632,200.619,200.601,200.583,200.565 ,200.546,200.527,200.509,200.49,200.471 ,200.449,200.427,200.407,200.387, 200.365,200.344,200.323,200.301,200.278 ,200.255,200.232,200.208,200.184, 200.158,200.581,201.324,201.88,202.557, 203.419,204.279,204.771,205.57,206.06, 206.755,206.683,206.61,206.537,206.468, 206.402,206.336,206.273,206.211,206.151 ,206.097,206.007,205.953,205.899, 205.847,205.796,205.746,205.698,205.649 ,205.603,205.557,205.513,205.469, 205.426,205.389,205.329,205.288,205.248 ,205.211,205.175,205.14,205.106,205.075 ,205.026,204.98,204.904,204.845,204.79, 204.737,204.698,204.649,204.601, 204.015)
ORBIT_NUMBER = 9264
ORBITAL_ECCENTRICITY = 0.578
ORBITAL_INCLINATION = 86.84
ORBITAL_SEMIMAJOR_AXIS = 8856.95
PERIAPSIS_ALTITUDE = 339.73
PERIAPSIS_ARGUMENT_ANGLE = 179.03
PERIAPSIS_TIME = 2011-04-04T01:18:49.000Z
SPACECRAFT_ORIENTATION = (0.0,-1.0,0.0)
^MEX_ORIENTATION_DESC = "MEX_ORIENTATION_DESC.TXT"
SPACECRAFT_POINTING_MODE = NADIR
^MEX_POINTING_DESC = "MEX_POINTING_DESC.TXT"
RIGHT_ASCENSION = -1e+32
DECLINATION = -1e+32
OFFSET_ANGLE = -1e+32
SPACECRAFT_SOLAR_DISTANCE = 2.07349e+08
TARGET_NAME = MARS
/* CAMERA DATA ELEMENTS */
DETECTOR_TEMPERATURE = 18.3705
FOCAL_PLANE_TEMPERATURE = 8.5833
INST_CMPRS_NAME = "DISCRETE COSINE TRANSFORMATION (DCT)"
INST_CMPRS_RATIO = 11.4191
INST_CMPRS_QUALITY = 0
INST_CMPRS_QUANTZ_TBL_ID = 0
INSTRUMENT_TEMPERATURE = 11.234
LENS_TEMPERATURE = 7.7677
MACROPIXEL_SIZE = 4
MISSING_FRAMES = 0
PIXEL_SUBSAMPLING_FLAG = N
SIGNAL_CHAIN_ID = 2
/* RADIOMETRIC DATA ELEMENTS */
BANDWIDTH = 88.0
CENTER_FILTER_WAVELENGTH = 538.0
RADIANCE_OFFSET = 0.903229
RADIANCE_SCALING_FACTOR = 0.00306769
REFLECTANCE_SCALING_FACTOR = 0.000113555
MEX:REFLECTANCE_OFFSET = 0.0334342
/* IMAGE OBJECT DEFINITIONS */
OBJECT = IMAGE
  INTERCHANGE_FORMAT = BINARY
  LINES = 7773
  LINE_SAMPLES = 2296
  SAMPLE_TYPE = UNSIGNED_INTEGER
  SAMPLE_BITS = 8
  BANDS = 1
  BAND_STORAGE_TYPE = BAND_SEQUENTIAL
  MAXIMUM = 255
  MEAN = 125.995
  MINIMUM = 1
  STANDARD_DEVIATION = 29.3813
END_OBJECT = IMAGE
/* MAP OBJECT DEFINITIONS */
OBJECT = IMAGE_MAP_PROJECTION
  ^DATA_SET_MAP_PROJECTION_CATALOG= "DSMAP.CAT"
  A_AXIS_RADIUS = 3396.0
  B_AXIS_RADIUS = 3396.0
  C_AXIS_RADIUS = 3396.0
  CENTER_LATITUDE = 0.0
  CENTER_LONGITUDE = 203.0
  COORDINATE_SYSTEM_NAME = PLANETOGRAPHIC
  COORDINATE_SYSTEM_TYPE = "BODY-FIXED ROTATING"
  EASTERNMOST_LONGITUDE = 206.755
  FIRST_STANDARD_PARALLEL = "N/A"
  LINE_FIRST_PIXEL = 1
  LINE_LAST_PIXEL = 7773
  LINE_PROJECTION_OFFSET = -25305.875
  MAP_PROJECTION_ROTATION = 0.0
  MAP_PROJECTION_TYPE = SINUSOIDAL
  MAP_RESOLUTION = 592.713803866667
  MAP_SCALE = 0.1
  MAXIMUM_LATITUDE = -42.7195
  MINIMUM_LATITUDE = -55.8141
  POSITIVE_LONGITUDE_DIRECTION = EAST
  REFERENCE_LATITUDE = "N/A"
  REFERENCE_LONGITUDE = "N/A"
  SAMPLE_FIRST_PIXEL = 1
  SAMPLE_LAST_PIXEL = 2296
  SAMPLE_PROJECTION_OFFSET = 1001.125
  SECOND_STANDARD_PARALLEL = "N/A"
  WESTERNMOST_LONGITUDE = 200.158
END_OBJECT = IMAGE_MAP_PROJECTION
/* The JPEG2000 image data file associated with this label. */
OBJECT = COMPRESSED_FILE
  FILE_NAME = "H9264_0000_GR3.JP2"
  RECORD_TYPE = UNDEFINED
  FILE_RECORDS = UNK
  ENCODING_TYPE = "JP2"
  INTERCHANGE_FORMAT = BINARY
  UNCOMPRESSED_FILE_NAME = "H9264_0000_GR3.IMG"
  REQUIRED_STORAGE_BYTES = "17869768"
  ^DESCRIPTION = "JP2INFO.TXT"
END_OBJECT = COMPRESSED_FILE
END
