PDS_VERSION_ID = PDS3
/* FILE DATA ELEMENTS */
RECORD_TYPE = STREAM
/* POINTERS TO DATA OBJECTS */
^COMPRESSED_FILE = "H9254_0000_S23.JP2"
/* IDENTIFICATION DATA ELEMENTS */
DATA_SET_ID = "MEX-M-HRSC-5-REFDR-MAPPROJECTED-V3.0"
DATA_SET_NAME = "MARS EXPRESS HRSC MAP PROJECTED REFDR V3.0"
DETECTOR_ID = MEX_HRSC_S2
EVENT_TYPE = "MARS-REGIONAL-MAPPING-Im-Fl-Pf"
INSTRUMENT_HOST_ID = MEX
INSTRUMENT_HOST_NAME = "MARS EXPRESS"
INSTRUMENT_ID = HRSC
INSTRUMENT_NAME = "HIGH RESOLUTION STEREO CAMERA"
MISSION_NAME = "MARS EXPRESS"
MISSION_PHASE_NAME = ME_Phase_22
PROCESSING_LEVEL_ID = 3
PRODUCT_CREATION_TIME = 2016-07-15T00:46:22.000Z
PRODUCT_ID = "H9254_0000_S23.JP2"
RELEASE_ID = 0095
REVISION_ID = 0000
/* QUALITY DATA ELEMENTS */
DATA_QUALITY_ID = 1
DATA_QUALITY_DESC = "Data calculated based on original SPICE kernels"
/* TIME DATA ELEMENTS */
SPACECRAFT_CLOCK_START_COUNT = "1/0249708564.08252"
SPACECRAFT_CLOCK_STOP_COUNT = "1/0249708968.02530"
START_TIME = 2011-04-01T03:31:16.256Z
STOP_TIME = 2011-04-01T03:36:08.859Z
/* ORBITAL DATA ELEMENTS */
ASCENDING_NODE_LONGITUDE = 40.57
MAXIMUM_RESOLUTION = 50.5
FOOTPRINT_POINT_LATITUDE = (-31.0261,-31.0333,-31.037,-31.0388, -31.0387,-31.1283,-31.7344,-32.2208, -32.5898,-33.0863,-33.4627,-33.7141, -33.9687,-34.2251,-34.4737,-34.727, -34.9899,-35.2457,-35.5077,-35.7782, -36.0436,-36.3102,-36.7132,-36.9822, -37.2532,-37.525,-37.9289,-38.2047, -38.4896,-38.7674,-39.0482,-39.3307, -39.6149,-39.9013,-40.1897,-40.4758, -40.7686,-41.2086,-41.5034,-41.8012, -42.1009,-42.4013,-42.704,-43.0085, -43.3149,-43.7735,-44.0837,-44.402, -44.7954,-44.7912,-44.7857,-44.7739, -44.7506,-44.7147,-44.6823,-44.3712, -44.0621,-43.7415,-43.4464,-43.1406, -42.8372,-42.5368,-42.2376,-41.94, -41.6434,-41.3502,-41.0591,-40.77, -40.4813,-40.1951,-39.9102,-39.6268, -39.3461,-39.064,-38.7777,-38.4995, -38.0964,-37.8214,-37.5488,-37.2763, -37.006,-36.6047,-36.3375,-36.0711, -35.8074,-35.4101,-35.1443,-34.8936, -34.6358,-34.381,-34.1262,-33.8734, -33.4964,-33.2459,-32.8731,-32.6213, -32.0151,-31.5308,-31.1695,-31.0261)
FOOTPRINT_POINT_LONGITUDE = (146.387,145.92,145.546,145.173,144.799 ,144.309,144.284,144.262,144.245, 144.223,144.205,144.193,144.182,144.17, 144.155,144.141,144.129,144.114,144.101 ,144.09,144.076,144.062,144.041,144.026 ,144.011,143.995,143.969,143.952, 143.939,143.921,143.904,143.886,143.869 ,143.851,143.832,143.812,143.793, 143.764,143.743,143.723,143.702,143.68, 143.658,143.635,143.612,143.574,143.549 ,143.526,143.972,144.625,145.015, 145.623,146.405,147.318,147.986,147.943 ,147.9,147.863,147.819,147.781,147.743, 147.706,147.67,147.635,147.601,147.568, 147.535,147.503,147.473,147.442,147.413 ,147.384,147.356,147.329,147.305, 147.279,147.238,147.215,147.191,147.168 ,147.146,147.114,147.093,147.073, 147.053,147.025,147.008,146.987,146.969 ,146.951,146.934,146.917,146.893, 146.877,146.854,146.84,146.802,146.775, 146.755,146.387)
ORBIT_NUMBER = 9254
ORBITAL_ECCENTRICITY = 0.578
ORBITAL_INCLINATION = 86.83
ORBITAL_SEMIMAJOR_AXIS = 8858.16
PERIAPSIS_ALTITUDE = 338.87
PERIAPSIS_ARGUMENT_ANGLE = 180.8
PERIAPSIS_TIME = 2011-04-01T03:22:15.000Z
SPACECRAFT_ORIENTATION = (0.0,-1.0,0.0)
^MEX_ORIENTATION_DESC = "MEX_ORIENTATION_DESC.TXT"
SPACECRAFT_POINTING_MODE = NADIR
^MEX_POINTING_DESC = "MEX_POINTING_DESC.TXT"
RIGHT_ASCENSION = -1e+32
DECLINATION = -1e+32
OFFSET_ANGLE = -1e+32
SPACECRAFT_SOLAR_DISTANCE = 2.07199e+08
TARGET_NAME = MARS
/* CAMERA DATA ELEMENTS */
DETECTOR_TEMPERATURE = 18.7783
FOCAL_PLANE_TEMPERATURE = 8.5833
INST_CMPRS_NAME = "DISCRETE COSINE TRANSFORMATION (DCT)"
INST_CMPRS_RATIO = 14.2585
INST_CMPRS_QUALITY = 0
INST_CMPRS_QUANTZ_TBL_ID = 0
INSTRUMENT_TEMPERATURE = 13.0691
LENS_TEMPERATURE = 8.9911
MACROPIXEL_SIZE = 2
MISSING_FRAMES = 0
PIXEL_SUBSAMPLING_FLAG = N
SIGNAL_CHAIN_ID = 1
/* RADIOMETRIC DATA ELEMENTS */
BANDWIDTH = 178.0
CENTER_FILTER_WAVELENGTH = 679.0
RADIANCE_OFFSET = 1.66092
RADIANCE_SCALING_FACTOR = 0.0106583
REFLECTANCE_SCALING_FACTOR = 0.000242323
MEX:REFLECTANCE_OFFSET = 0.037762
/* IMAGE OBJECT DEFINITIONS */
OBJECT = IMAGE
  INTERCHANGE_FORMAT = BINARY
  LINES = 16351
  LINE_SAMPLES = 3271
  SAMPLE_TYPE = UNSIGNED_INTEGER
  SAMPLE_BITS = 8
  BANDS = 1
  BAND_STORAGE_TYPE = BAND_SEQUENTIAL
  MAXIMUM = 249
  MEAN = 105.701
  MINIMUM = 1
  STANDARD_DEVIATION = 41.6185
END_OBJECT = IMAGE
/* MAP OBJECT DEFINITIONS */
OBJECT = IMAGE_MAP_PROJECTION
  ^DATA_SET_MAP_PROJECTION_CATALOG= "DSMAP.CAT"
  A_AXIS_RADIUS = 3396.0
  B_AXIS_RADIUS = 3396.0
  C_AXIS_RADIUS = 3396.0
  CENTER_LATITUDE = 0.0
  CENTER_LONGITUDE = 146.0
  COORDINATE_SYSTEM_NAME = PLANETOGRAPHIC
  COORDINATE_SYSTEM_TYPE = "BODY-FIXED ROTATING"
  EASTERNMOST_LONGITUDE = 147.986
  FIRST_STANDARD_PARALLEL = "N/A"
  LINE_FIRST_PIXEL = 1
  LINE_LAST_PIXEL = 16351
  LINE_PROJECTION_OFFSET = -36748.25
  MAP_PROJECTION_ROTATION = 0.0
  MAP_PROJECTION_TYPE = SINUSOIDAL
  MAP_RESOLUTION = 1185.42760773333
  MAP_SCALE = 0.05
  MAXIMUM_LATITUDE = -31.0261
  MINIMUM_LATITUDE = -44.7954
  POSITIVE_LONGITUDE_DIRECTION = EAST
  REFERENCE_LATITUDE = "N/A"
  REFERENCE_LONGITUDE = "N/A"
  SAMPLE_FIRST_PIXEL = 1
  SAMPLE_LAST_PIXEL = 3271
  SAMPLE_PROJECTION_OFFSET = 1830.25
  SECOND_STANDARD_PARALLEL = "N/A"
  WESTERNMOST_LONGITUDE = 143.526
END_OBJECT = IMAGE_MAP_PROJECTION
/* The JPEG2000 image data file associated with this label. */
OBJECT = COMPRESSED_FILE
  FILE_NAME = "H9254_0000_S23.JP2"
  RECORD_TYPE = UNDEFINED
  FILE_RECORDS = UNK
  ENCODING_TYPE = "JP2"
  INTERCHANGE_FORMAT = BINARY
  UNCOMPRESSED_FILE_NAME = "H9254_0000_S23.IMG"
  REQUIRED_STORAGE_BYTES = "53507018"
  ^DESCRIPTION = "JP2INFO.TXT"
END_OBJECT = COMPRESSED_FILE
END
