PDS_VERSION_ID = PDS3
/* FILE DATA ELEMENTS */
RECORD_TYPE = STREAM
/* POINTERS TO DATA OBJECTS */
^COMPRESSED_FILE = "H9253_0009_P23.JP2"
/* IDENTIFICATION DATA ELEMENTS */
DATA_SET_ID = "MEX-M-HRSC-5-REFDR-MAPPROJECTED-V3.0"
DATA_SET_NAME = "MARS EXPRESS HRSC MAP PROJECTED REFDR V3.0"
DETECTOR_ID = MEX_HRSC_P2
EVENT_TYPE = "MARS-REGIONAL-MAPPING-Vo-Te"
INSTRUMENT_HOST_ID = MEX
INSTRUMENT_HOST_NAME = "MARS EXPRESS"
INSTRUMENT_ID = HRSC
INSTRUMENT_NAME = "HIGH RESOLUTION STEREO CAMERA"
MISSION_NAME = "MARS EXPRESS"
MISSION_PHASE_NAME = ME_Phase_22
PROCESSING_LEVEL_ID = 3
PRODUCT_CREATION_TIME = 2016-07-15T00:46:22.000Z
PRODUCT_ID = "H9253_0009_P23.JP2"
RELEASE_ID = 0095
REVISION_ID = 0000
/* QUALITY DATA ELEMENTS */
DATA_QUALITY_ID = 1
DATA_QUALITY_DESC = "Data calculated based on original SPICE kernels"
/* TIME DATA ELEMENTS */
SPACECRAFT_CLOCK_START_COUNT = "1/0249683478.09147"
SPACECRAFT_CLOCK_STOP_COUNT = "1/0249683940.61819"
START_TIME = 2011-03-31T20:33:08.430Z
STOP_TIME = 2011-03-31T20:38:05.994Z
/* ORBITAL DATA ELEMENTS */
ASCENDING_NODE_LONGITUDE = 40.6
MAXIMUM_RESOLUTION = 111.7
FOOTPRINT_POINT_LATITUDE = (-37.4208,-37.4302,-37.4342,-37.4353, -37.4342,-37.4162,-37.7147,-38.0136, -38.3116,-38.6084,-38.9043,-39.1992, -39.493,-39.7873,-40.2213,-40.511, -40.7996,-41.0897,-41.5177,-41.8035, -42.0871,-42.3704,-42.7925,-43.0728, -43.35,-43.628,-43.9044,-44.3163, -44.727,-44.999,-45.2701,-45.5403, -45.8095,-46.0777,-46.3446,-46.6108, -46.8755,-47.2705,-47.5332,-47.7938, -48.0543,-48.3144,-48.5742,-48.831, -49.3387,-49.9722,-50.4664,-51.1696, -51.1708,-51.1683,-51.1674,-51.1687, -51.156,-51.1421,-51.119,-51.091, -51.0661,-50.6806,-50.1949,-49.6991, -49.1925,-48.6962,-48.1856,-47.9294, -47.6709,-47.4116,-47.1507,-46.8898, -46.6271,-46.3622,-46.098,-45.6984, -45.4323,-45.1635,-44.8939,-44.6234, -44.3516,-44.0786,-43.8048,-43.5296, -43.2534,-42.9761,-42.5579,-42.2788, -42.0017,-41.5733,-41.2876,-41.0061, -40.5742,-40.2858,-39.9963,-39.7058, -39.4144,-39.1219,-38.8287,-38.534, -38.2382,-37.9406,-37.6429,-37.4208)
FOOTPRINT_POINT_LONGITUDE = (248.786,248.151,247.653,247.21,246.766 ,246.108,246.091,246.074,246.057, 246.041,246.024,246.007,245.99,245.974, 245.946,245.929,245.911,245.894,245.866 ,245.849,245.83,245.812,245.784,245.765 ,245.744,245.725,245.705,245.675, 245.645,245.624,245.604,245.583,245.562 ,245.542,245.52,245.499,245.478,245.445 ,245.423,245.4,245.378,245.357,245.335, 245.312,245.263,245.205,245.151,245.085 ,245.51,246.153,246.798,247.228,247.76, 248.347,249.146,249.89,250.474,250.74, 250.644,250.554,250.469,250.38,250.298, 250.257,250.218,250.178,250.14,250.102, 250.064,250.028,249.991,249.938,249.902 ,249.867,249.833,249.799,249.766, 249.733,249.701,249.669,249.638,249.607 ,249.561,249.531,249.5,249.459,249.431, 249.402,249.362,249.336,249.31,249.284, 249.259,249.234,249.209,249.185,249.161 ,249.138,249.115,248.786)
ORBIT_NUMBER = 9253
ORBITAL_ECCENTRICITY = 0.579
ORBITAL_INCLINATION = 86.83
ORBITAL_SEMIMAJOR_AXIS = 8874.37
PERIAPSIS_ALTITUDE = 338.2
PERIAPSIS_ARGUMENT_ANGLE = 180.95
PERIAPSIS_TIME = 2011-03-31T20:22:31.000Z
SPACECRAFT_ORIENTATION = (0.0,-1.0,0.0)
^MEX_ORIENTATION_DESC = "MEX_ORIENTATION_DESC.TXT"
SPACECRAFT_POINTING_MODE = ACROSSTRACK
^MEX_POINTING_DESC = "MEX_POINTING_DESC.TXT"
RIGHT_ASCENSION = -1e+32
DECLINATION = -1e+32
OFFSET_ANGLE = -0.25
SPACECRAFT_SOLAR_DISTANCE = 2.07185e+08
TARGET_NAME = MARS
/* CAMERA DATA ELEMENTS */
DETECTOR_TEMPERATURE = 18.9822
FOCAL_PLANE_TEMPERATURE = 8.7872
INST_CMPRS_NAME = "DISCRETE COSINE TRANSFORMATION (DCT)"
INST_CMPRS_RATIO = 9.95901
INST_CMPRS_QUALITY = 0
INST_CMPRS_QUANTZ_TBL_ID = 0
INSTRUMENT_TEMPERATURE = 11.234
LENS_TEMPERATURE = 9.8067
MACROPIXEL_SIZE = 4
MISSING_FRAMES = 0
PIXEL_SUBSAMPLING_FLAG = N
SIGNAL_CHAIN_ID = 3
/* RADIOMETRIC DATA ELEMENTS */
BANDWIDTH = 177.0
CENTER_FILTER_WAVELENGTH = 676.5
RADIANCE_OFFSET = 1.98995
RADIANCE_SCALING_FACTOR = 0.00843645
REFLECTANCE_SCALING_FACTOR = 0.000192015
MEX:REFLECTANCE_OFFSET = 0.0452916
/* IMAGE OBJECT DEFINITIONS */
OBJECT = IMAGE
  INTERCHANGE_FORMAT = BINARY
  LINES = 8167
  LINE_SAMPLES = 1933
  SAMPLE_TYPE = UNSIGNED_INTEGER
  SAMPLE_BITS = 8
  BANDS = 1
  BAND_STORAGE_TYPE = BAND_SEQUENTIAL
  MAXIMUM = 255
  MEAN = 89.6929
  MINIMUM = 1
  STANDARD_DEVIATION = 27.0339
END_OBJECT = IMAGE
/* MAP OBJECT DEFINITIONS */
OBJECT = IMAGE_MAP_PROJECTION
  ^DATA_SET_MAP_PROJECTION_CATALOG= "DSMAP.CAT"
  A_AXIS_RADIUS = 3396.0
  B_AXIS_RADIUS = 3396.0
  C_AXIS_RADIUS = 3396.0
  CENTER_LATITUDE = 0.0
  CENTER_LONGITUDE = 248.0
  COORDINATE_SYSTEM_NAME = PLANETOGRAPHIC
  COORDINATE_SYSTEM_TYPE = "BODY-FIXED ROTATING"
  EASTERNMOST_LONGITUDE = 250.74
  FIRST_STANDARD_PARALLEL = "N/A"
  LINE_FIRST_PIXEL = 1
  LINE_LAST_PIXEL = 8167
  LINE_PROJECTION_OFFSET = -22155.625
  MAP_PROJECTION_ROTATION = 0.0
  MAP_PROJECTION_TYPE = SINUSOIDAL
  MAP_RESOLUTION = 592.713803866667
  MAP_SCALE = 0.1
  MAXIMUM_LATITUDE = -37.4162
  MINIMUM_LATITUDE = -51.1708
  POSITIVE_LONGITUDE_DIRECTION = EAST
  REFERENCE_LATITUDE = "N/A"
  REFERENCE_LONGITUDE = "N/A"
  SAMPLE_FIRST_PIXEL = 1
  SAMPLE_LAST_PIXEL = 1933
  SAMPLE_PROJECTION_OFFSET = 979.375
  SECOND_STANDARD_PARALLEL = "N/A"
  WESTERNMOST_LONGITUDE = 245.085
END_OBJECT = IMAGE_MAP_PROJECTION
/* The JPEG2000 image data file associated with this label. */
OBJECT = COMPRESSED_FILE
  FILE_NAME = "H9253_0009_P23.JP2"
  RECORD_TYPE = UNDEFINED
  FILE_RECORDS = UNK
  ENCODING_TYPE = "JP2"
  INTERCHANGE_FORMAT = BINARY
  UNCOMPRESSED_FILE_NAME = "H9253_0009_P23.IMG"
  REQUIRED_STORAGE_BYTES = "15806141"
  ^DESCRIPTION = "JP2INFO.TXT"
END_OBJECT = COMPRESSED_FILE
END
