PDS_VERSION_ID = PDS3
/* FILE DATA ELEMENTS */
RECORD_TYPE = STREAM
/* POINTERS TO DATA OBJECTS */
^COMPRESSED_FILE = "H8888_0000_S13.JP2"
/* IDENTIFICATION DATA ELEMENTS */
DATA_SET_ID = "MEX-M-HRSC-5-REFDR-MAPPROJECTED-V3.0"
DATA_SET_NAME = "MARS EXPRESS HRSC MAP PROJECTED REFDR V3.0"
DETECTOR_ID = MEX_HRSC_S1
EVENT_TYPE = "MARS-GLOBAL-VARIABLE-Gl-At"
INSTRUMENT_HOST_ID = MEX
INSTRUMENT_HOST_NAME = "MARS EXPRESS"
INSTRUMENT_ID = HRSC
INSTRUMENT_NAME = "HIGH RESOLUTION STEREO CAMERA"
MISSION_NAME = "MARS EXPRESS"
MISSION_PHASE_NAME = ME_Phase_22
PROCESSING_LEVEL_ID = 3
PRODUCT_CREATION_TIME = 2016-07-14T20:31:06.000Z
PRODUCT_ID = "H8888_0000_S13.JP2"
RELEASE_ID = 0093
REVISION_ID = 0000
/* QUALITY DATA ELEMENTS */
DATA_QUALITY_ID = 1
DATA_QUALITY_DESC = "Data calculated based on original SPICE kernels"
/* TIME DATA ELEMENTS */
SPACECRAFT_CLOCK_START_COUNT = "1/0240492884.08254"
SPACECRAFT_CLOCK_STOP_COUNT = "1/0240493303.46726"
START_TIME = 2010-12-15T11:34:46.935Z
STOP_TIME = 2010-12-15T11:37:26.318Z
/* ORBITAL DATA ELEMENTS */
ASCENDING_NODE_LONGITUDE = 47.59
MAXIMUM_RESOLUTION = 114.9
FOOTPRINT_POINT_LATITUDE = (-71.9852,-72.0297,-72.1078,-72.1742, -72.2371,-72.2888,-72.3149,-72.3532, -72.2682,-72.0767,-71.8857,-71.5995, -71.4094,-71.2198,-71.0298,-70.7447, -70.5551,-70.3656,-70.1764,-69.9874, -69.7055,-69.425,-69.2367,-68.954, -68.6726,-68.4847,-68.2972,-68.1093, -67.9222,-67.7273,-67.4431,-67.254, -67.0675,-66.8814,-66.6957,-66.5102, -66.2319,-66.0475,-65.7703,-65.5865, -65.4032,-65.0467,-64.7733,-64.5879, -64.221,-63.857,-63.6701,-63.2105, -62.8561,-62.8502,-62.8323,-62.8091, -62.7698,-62.7492,-62.7228,-62.6803, -62.6553,-62.6243,-62.5968,-62.7466, -63.0187,-63.2015,-63.5596,-63.9217, -64.1049,-64.2877,-64.5605,-64.9247, -65.2834,-65.4698,-65.7474,-65.9303, -66.1137,-66.3856,-66.5733,-66.7573, -66.9419,-67.1259,-67.3108,-67.5876, -67.8647,-68.0502,-68.2358,-68.4208, -68.6062,-68.8855,-69.1648,-69.4449, -69.6314,-69.8181,-70.0047,-70.1931, -70.3806,-70.5683,-70.7557,-71.0356, -71.2232,-71.5045,-71.7858,-71.9852)
FOOTPRINT_POINT_LONGITUDE = (304.178,304.789,305.951,307.053, 308.232,309.349,309.98,311.038,311.765, 311.842,311.917,312.027,312.097,312.165 ,312.232,312.33,312.394,312.456,312.517 ,312.576,312.661,312.742,312.796, 312.876,312.953,313.003,313.052,313.101 ,313.148,313.202,313.273,313.32,313.363 ,313.405,313.445,313.486,313.545, 313.582,313.638,313.674,313.709,313.768 ,313.817,313.852,313.916,313.977,314.01 ,314.086,314.138,313.526,312.793, 312.062,311.213,310.727,310.181,309.395 ,308.972,308.489,308.068,307.589, 307.531,307.491,307.407,307.32,307.276, 307.231,307.16,307.063,306.959,306.908, 306.828,306.772,306.716,306.627,306.569 ,306.508,306.445,306.381,306.316, 306.215,306.111,306.04,305.967,305.893, 305.816,305.699,305.577,305.451,305.365 ,305.276,305.186,305.093,304.998, 304.901,304.802,304.647,304.542,304.378 ,304.208,304.178)
ORBIT_NUMBER = 8888
ORBITAL_ECCENTRICITY = 0.578
ORBITAL_INCLINATION = 86.84
ORBITAL_SEMIMAJOR_AXIS = 8780.0
PERIAPSIS_ALTITUDE = 322.32
PERIAPSIS_ARGUMENT_ANGLE = 243.66
PERIAPSIS_TIME = 2010-12-15T11:24:02.000Z
SPACECRAFT_ORIENTATION = (0.0,-1.0,0.0)
^MEX_ORIENTATION_DESC = "MEX_ORIENTATION_DESC.TXT"
SPACECRAFT_POINTING_MODE = NADIR
^MEX_POINTING_DESC = "MEX_POINTING_DESC.TXT"
RIGHT_ASCENSION = -1e+32
DECLINATION = -1e+32
OFFSET_ANGLE = -1e+32
SPACECRAFT_SOLAR_DISTANCE = 2.13708e+08
TARGET_NAME = MARS
/* CAMERA DATA ELEMENTS */
DETECTOR_TEMPERATURE = 17.5549
FOCAL_PLANE_TEMPERATURE = 8.5833
INST_CMPRS_NAME = "DISCRETE COSINE TRANSFORMATION (DCT)"
INST_CMPRS_RATIO = 33.3548
INST_CMPRS_QUALITY = 0
INST_CMPRS_QUANTZ_TBL_ID = 0
INSTRUMENT_TEMPERATURE = 11.0301
LENS_TEMPERATURE = 8.9911
MACROPIXEL_SIZE = 4
MISSING_FRAMES = 0
PIXEL_SUBSAMPLING_FLAG = N
SIGNAL_CHAIN_ID = 1
/* RADIOMETRIC DATA ELEMENTS */
BANDWIDTH = 180.0
CENTER_FILTER_WAVELENGTH = 677.0
RADIANCE_OFFSET = 8.04722
RADIANCE_SCALING_FACTOR = 0.0118748
REFLECTANCE_SCALING_FACTOR = 0.000282948
MEX:REFLECTANCE_OFFSET = 0.191746
/* IMAGE OBJECT DEFINITIONS */
OBJECT = IMAGE
  INTERCHANGE_FORMAT = BINARY
  LINES = 5749
  LINE_SAMPLES = 2372
  SAMPLE_TYPE = UNSIGNED_INTEGER
  SAMPLE_BITS = 8
  BANDS = 1
  BAND_STORAGE_TYPE = BAND_SEQUENTIAL
  MAXIMUM = 255
  MEAN = 246.207
  MINIMUM = 1
  STANDARD_DEVIATION = 27.5105
END_OBJECT = IMAGE
/* MAP OBJECT DEFINITIONS */
OBJECT = IMAGE_MAP_PROJECTION
  ^DATA_SET_MAP_PROJECTION_CATALOG= "DSMAP.CAT"
  A_AXIS_RADIUS = 3396.0
  B_AXIS_RADIUS = 3396.0
  C_AXIS_RADIUS = 3396.0
  CENTER_LATITUDE = 0.0
  CENTER_LONGITUDE = 310.0
  COORDINATE_SYSTEM_NAME = PLANETOGRAPHIC
  COORDINATE_SYSTEM_TYPE = "BODY-FIXED ROTATING"
  EASTERNMOST_LONGITUDE = 314.138
  FIRST_STANDARD_PARALLEL = "N/A"
  LINE_FIRST_PIXEL = 1
  LINE_LAST_PIXEL = 5749
  LINE_PROJECTION_OFFSET = -37065.25
  MAP_PROJECTION_ROTATION = 0.0
  MAP_PROJECTION_TYPE = SINUSOIDAL
  MAP_RESOLUTION = 592.713803866667
  MAP_SCALE = 0.1
  MAXIMUM_LATITUDE = -62.5968
  MINIMUM_LATITUDE = -72.3532
  POSITIVE_LONGITUDE_DIRECTION = EAST
  REFERENCE_LATITUDE = "N/A"
  REFERENCE_LONGITUDE = "N/A"
  SAMPLE_FIRST_PIXEL = 1
  SAMPLE_LAST_PIXEL = 2372
  SAMPLE_PROJECTION_OFFSET = 1153.25
  SECOND_STANDARD_PARALLEL = "N/A"
  WESTERNMOST_LONGITUDE = 304.178
END_OBJECT = IMAGE_MAP_PROJECTION
/* The JPEG2000 image data file associated with this label. */
OBJECT = COMPRESSED_FILE
  FILE_NAME = "H8888_0000_S13.JP2"
  RECORD_TYPE = UNDEFINED
  FILE_RECORDS = UNK
  ENCODING_TYPE = "JP2"
  INTERCHANGE_FORMAT = BINARY
  UNCOMPRESSED_FILE_NAME = "H8888_0000_S13.IMG"
  REQUIRED_STORAGE_BYTES = "13657976"
  ^DESCRIPTION = "JP2INFO.TXT"
END_OBJECT = COMPRESSED_FILE
END
