PDS_VERSION_ID = PDS3
/* FILE DATA ELEMENTS */
RECORD_TYPE = STREAM
/* POINTERS TO DATA OBJECTS */
^COMPRESSED_FILE = "H8771_0000_BL3.JP2"
/* IDENTIFICATION DATA ELEMENTS */
DATA_SET_ID = "MEX-M-HRSC-5-REFDR-MAPPROJECTED-V3.0"
DATA_SET_NAME = "MARS EXPRESS HRSC MAP PROJECTED REFDR V3.0"
DETECTOR_ID = MEX_HRSC_BLUE
EVENT_TYPE = "MARS-REGIONAL-MAPPING-Im-Fl-Gl"
INSTRUMENT_HOST_ID = MEX
INSTRUMENT_HOST_NAME = "MARS EXPRESS"
INSTRUMENT_ID = HRSC
INSTRUMENT_NAME = "HIGH RESOLUTION STEREO CAMERA"
MISSION_NAME = "MARS EXPRESS"
MISSION_PHASE_NAME = ME_Phase_22
PROCESSING_LEVEL_ID = 3
PRODUCT_CREATION_TIME = 2016-07-14T20:31:06.000Z
PRODUCT_ID = "H8771_0000_BL3.JP2"
RELEASE_ID = 0093
REVISION_ID = 0000
/* QUALITY DATA ELEMENTS */
DATA_QUALITY_ID = 1
DATA_QUALITY_DESC = "Data calculated based on original SPICE kernels"
/* TIME DATA ELEMENTS */
SPACECRAFT_CLOCK_START_COUNT = "1/0237547054.09141"
SPACECRAFT_CLOCK_STOP_COUNT = "1/0237547558.22992"
START_TIME = 2010-11-11T09:18:33.736Z
STOP_TIME = 2010-11-11T09:22:48.405Z
/* ORBITAL DATA ELEMENTS */
ASCENDING_NODE_LONGITUDE = 49.8
MAXIMUM_RESOLUTION = 112.6
FOOTPRINT_POINT_LATITUDE = (-53.545,-53.5342,-53.5215,-53.5029, -53.4821,-53.4467,-53.158,-52.8994, -52.6388,-52.3766,-52.1134,-51.8484, -51.5821,-51.3138,-50.9084,-50.4996, -50.2255,-49.9525,-49.6798,-49.4081, -49.137,-48.7299,-48.4622,-48.1935, -47.9255,-47.6584,-47.2577,-46.9931, -46.5961,-46.3323,-46.0693,-45.8071, -45.5457,-45.2851,-45.0249,-44.7656, -44.5069,-44.2493,-43.9924,-43.7361, -43.3522,-43.0974,-42.5901,-42.0853, -41.5837,-41.0833,-40.5888,-40.2955, -40.3065,-40.3134,-40.3233,-40.3286, -40.3308,-40.3298,-40.3244,-40.3203, -40.819,-41.4463,-41.951,-42.5858, -42.8413,-43.0975,-43.3539,-43.6113, -43.8696,-44.1286,-44.3876,-44.6475, -45.0367,-45.4314,-45.6961,-45.9599, -46.2243,-46.4892,-46.7555,-47.0215, -47.2881,-47.5553,-47.8234,-48.0924, -48.3624,-48.6332,-48.9047,-49.1761, -49.4499,-49.7234,-49.9973,-50.272, -50.5475,-50.9587,-51.2312,-51.5015, -51.9046,-52.1725,-52.4375,-52.7008, -52.9636,-53.2235,-53.4831,-53.545)
FOOTPRINT_POINT_LONGITUDE = (40.9062,40.3404,39.8128,39.1727, 38.5714,37.7062,37.3798,37.3976,37.4153 ,37.4297,37.4481,37.4637,37.4795, 37.4942,37.5153,37.5353,37.5476,37.5603 ,37.5715,37.5826,37.5929,37.6035,37.616 ,37.624,37.6316,37.6389,37.6463,37.654, 37.6614,37.666,37.67,37.6739,37.6774, 37.6805,37.6827,37.6849,37.6864,37.6881 ,37.6895,37.6903,37.6891,37.6884, 37.6862,37.6817,37.6765,37.6667,37.6618 ,37.9085,38.3781,38.7194,39.3578, 39.9957,40.4214,41.0607,41.7858,42.2273 ,42.2102,42.1874,42.169,42.1445,42.1336 ,42.1225,42.112,42.1009,42.089,42.0769, 42.0661,42.0544,42.0413,42.0184,42.001, 41.9873,41.9735,41.9596,41.9439,41.9303 ,41.9167,41.903,41.8884,41.8731,41.8567 ,41.8395,41.822,41.8063,41.7857,41.7674 ,41.7495,41.7308,41.7114,41.683,41.6643 ,41.6448,41.6136,41.59,41.5701,41.548, 41.5261,41.5039,41.4811,40.9062)
ORBIT_NUMBER = 8771
ORBITAL_ECCENTRICITY = 0.578
ORBITAL_INCLINATION = 86.83
ORBITAL_SEMIMAJOR_AXIS = 8761.1
PERIAPSIS_ALTITUDE = 321.15
PERIAPSIS_ARGUMENT_ANGLE = 263.47
PERIAPSIS_TIME = 2010-11-11T09:07:12.000Z
SPACECRAFT_ORIENTATION = (0.0,1.0,0.0)
^MEX_ORIENTATION_DESC = "MEX_ORIENTATION_DESC.TXT"
SPACECRAFT_POINTING_MODE = NADIR
^MEX_POINTING_DESC = "MEX_POINTING_DESC.TXT"
RIGHT_ASCENSION = -1e+32
DECLINATION = -1e+32
OFFSET_ANGLE = -1e+32
SPACECRAFT_SOLAR_DISTANCE = 2.19569e+08
TARGET_NAME = MARS
/* CAMERA DATA ELEMENTS */
DETECTOR_TEMPERATURE = 17.9627
FOCAL_PLANE_TEMPERATURE = 7.3599
INST_CMPRS_NAME = "DISCRETE COSINE TRANSFORMATION (DCT)"
INST_CMPRS_RATIO = 16.9004
INST_CMPRS_QUALITY = 0
INST_CMPRS_QUANTZ_TBL_ID = 0
INSTRUMENT_TEMPERATURE = 10.8262
LENS_TEMPERATURE = 7.7677
MACROPIXEL_SIZE = 4
MISSING_FRAMES = 0
PIXEL_SUBSAMPLING_FLAG = N
SIGNAL_CHAIN_ID = 2
/* RADIOMETRIC DATA ELEMENTS */
BANDWIDTH = 76.0
CENTER_FILTER_WAVELENGTH = 444.0
RADIANCE_OFFSET = 0.645506
RADIANCE_SCALING_FACTOR = 0.00548977
REFLECTANCE_SCALING_FACTOR = 0.000271925
MEX:REFLECTANCE_OFFSET = 0.0319738
/* IMAGE OBJECT DEFINITIONS */
OBJECT = IMAGE
  INTERCHANGE_FORMAT = BINARY
  LINES = 7852
  LINE_SAMPLES = 2159
  SAMPLE_TYPE = UNSIGNED_INTEGER
  SAMPLE_BITS = 8
  BANDS = 1
  BAND_STORAGE_TYPE = BAND_SEQUENTIAL
  MAXIMUM = 255
  MEAN = 41.9226
  MINIMUM = 1
  STANDARD_DEVIATION = 14.537
END_OBJECT = IMAGE
/* MAP OBJECT DEFINITIONS */
OBJECT = IMAGE_MAP_PROJECTION
  ^DATA_SET_MAP_PROJECTION_CATALOG= "DSMAP.CAT"
  A_AXIS_RADIUS = 3396.0
  B_AXIS_RADIUS = 3396.0
  C_AXIS_RADIUS = 3396.0
  CENTER_LATITUDE = 0.0
  CENTER_LONGITUDE = 40.0
  COORDINATE_SYSTEM_NAME = PLANETOGRAPHIC
  COORDINATE_SYSTEM_TYPE = "BODY-FIXED ROTATING"
  EASTERNMOST_LONGITUDE = 42.2273
  FIRST_STANDARD_PARALLEL = "N/A"
  LINE_FIRST_PIXEL = 1
  LINE_LAST_PIXEL = 7852
  LINE_PROJECTION_OFFSET = -23879.125
  MAP_PROJECTION_ROTATION = 0.0
  MAP_PROJECTION_TYPE = SINUSOIDAL
  MAP_RESOLUTION = 592.713803866667
  MAP_SCALE = 0.1
  MAXIMUM_LATITUDE = -40.2955
  MINIMUM_LATITUDE = -53.545
  POSITIVE_LONGITUDE_DIRECTION = EAST
  REFERENCE_LATITUDE = "N/A"
  REFERENCE_LONGITUDE = "N/A"
  SAMPLE_FIRST_PIXEL = 1
  SAMPLE_LAST_PIXEL = 2159
  SAMPLE_PROJECTION_OFFSET = 1113.625
  SECOND_STANDARD_PARALLEL = "N/A"
  WESTERNMOST_LONGITUDE = 37.3798
END_OBJECT = IMAGE_MAP_PROJECTION
/* The JPEG2000 image data file associated with this label. */
OBJECT = COMPRESSED_FILE
  FILE_NAME = "H8771_0000_BL3.JP2"
  RECORD_TYPE = UNDEFINED
  FILE_RECORDS = UNK
  ENCODING_TYPE = "JP2"
  INTERCHANGE_FORMAT = BINARY
  UNCOMPRESSED_FILE_NAME = "H8771_0000_BL3.IMG"
  REQUIRED_STORAGE_BYTES = "16974058"
  ^DESCRIPTION = "JP2INFO.TXT"
END_OBJECT = COMPRESSED_FILE
END
