PDS_VERSION_ID = PDS3
/* FILE DATA ELEMENTS */
RECORD_TYPE = STREAM
/* POINTERS TO DATA OBJECTS */
^COMPRESSED_FILE = "H8761_0000_IR3.JP2"
/* IDENTIFICATION DATA ELEMENTS */
DATA_SET_ID = "MEX-M-HRSC-5-REFDR-MAPPROJECTED-V3.0"
DATA_SET_NAME = "MARS EXPRESS HRSC MAP PROJECTED REFDR V3.0"
DETECTOR_ID = MEX_HRSC_IR
EVENT_TYPE = "MARS-REGIONAL-MAPPING-Im-Fl-Gl"
INSTRUMENT_HOST_ID = MEX
INSTRUMENT_HOST_NAME = "MARS EXPRESS"
INSTRUMENT_ID = HRSC
INSTRUMENT_NAME = "HIGH RESOLUTION STEREO CAMERA"
MISSION_NAME = "MARS EXPRESS"
MISSION_PHASE_NAME = ME_Phase_22
PROCESSING_LEVEL_ID = 3
PRODUCT_CREATION_TIME = 2016-07-14T20:31:06.000Z
PRODUCT_ID = "H8761_0000_IR3.JP2"
RELEASE_ID = 0093
REVISION_ID = 0000
/* QUALITY DATA ELEMENTS */
DATA_QUALITY_ID = 1
DATA_QUALITY_DESC = "Data calculated based on original SPICE kernels"
/* TIME DATA ELEMENTS */
SPACECRAFT_CLOCK_START_COUNT = "1/0237295246.19136"
SPACECRAFT_CLOCK_STOP_COUNT = "1/0237295721.43798"
START_TIME = 2010-11-08T11:23:01.192Z
STOP_TIME = 2010-11-08T11:28:09.908Z
/* ORBITAL DATA ELEMENTS */
ASCENDING_NODE_LONGITUDE = 49.99
MAXIMUM_RESOLUTION = 125.2
FOOTPRINT_POINT_LATITUDE = (-53.9843,-53.9739,-53.9552,-53.9351, -53.9152,-53.8911,-53.6579,-53.3691, -53.0817,-52.794,-52.5093,-52.2261, -51.9432,-51.6618,-51.3814,-51.1022, -50.8243,-50.5477,-50.2716,-49.8582, -49.4487,-49.0487,-48.7819,-48.5144, -48.114,-47.8457,-47.5809,-47.1914, -46.931,-46.673,-46.2871,-46.0267, -45.7731,-45.5222,-45.2709,-45.0194, -44.7684,-44.5197,-44.273,-43.782, -43.2946,-42.8134,-42.337,-41.7454, -41.2788,-40.83,-40.8345,-40.8361, -40.8357,-40.8334,-40.8329,-40.8299, -40.8268,-40.8215,-40.817,-40.8116, -40.8039,-41.0317,-41.3857,-41.8592, -42.3374,-42.7,-43.1884,-43.5595, -44.0542,-44.4284,-44.679,-45.0592, -45.3123,-45.5675,-45.8236,-46.0806, -46.3396,-46.5993,-46.8607,-47.1245, -47.3882,-47.6529,-47.9181,-48.1852, -48.4535,-48.7226,-48.9934,-49.2653, -49.5383,-49.8125,-50.0881,-50.3646, -50.6422,-51.0613,-51.3422,-51.6245, -51.9077,-52.1937,-52.4787,-52.7657, -53.055,-53.4892,-53.7791,-53.9843)
FOOTPRINT_POINT_LONGITUDE = (343.906,343.253,342.355,341.581, 340.929,340.236,340.033,340.053,340.071 ,340.089,340.106,340.121,340.136,340.15 ,340.163,340.176,340.188,340.199,340.21 ,340.226,340.24,340.247,340.253,340.259 ,340.268,340.276,340.281,340.284, 340.287,340.289,340.292,340.296,340.296 ,340.294,340.293,340.293,340.293, 340.291,340.289,340.283,340.277,340.269 ,340.259,340.246,340.233,340.219, 340.903,341.54,341.981,342.518,342.861, 343.203,343.643,343.985,344.328,344.67, 345.11,345.456,345.435,345.406,345.377, 345.355,345.326,345.304,345.273,345.249 ,345.232,345.208,345.191,345.174, 345.156,345.138,345.12,345.102,345.084, 345.066,345.047,345.028,345.008,344.988 ,344.968,344.948,344.927,344.905, 344.884,344.862,344.839,344.816,344.793 ,344.757,344.733,344.708,344.683, 344.658,344.631,344.604,344.577,344.535 ,344.505,343.906)
ORBIT_NUMBER = 8761
ORBITAL_ECCENTRICITY = 0.578
ORBITAL_INCLINATION = 86.85
ORBITAL_SEMIMAJOR_AXIS = 8759.7
PERIAPSIS_ALTITUDE = 320.94
PERIAPSIS_ARGUMENT_ANGLE = 265.16
PERIAPSIS_TIME = 2010-11-08T11:11:00.000Z
SPACECRAFT_ORIENTATION = (0.0,1.0,0.0)
^MEX_ORIENTATION_DESC = "MEX_ORIENTATION_DESC.TXT"
SPACECRAFT_POINTING_MODE = NADIR
^MEX_POINTING_DESC = "MEX_POINTING_DESC.TXT"
RIGHT_ASCENSION = -1e+32
DECLINATION = -1e+32
OFFSET_ANGLE = -1e+32
SPACECRAFT_SOLAR_DISTANCE = 2.20113e+08
TARGET_NAME = MARS
/* CAMERA DATA ELEMENTS */
DETECTOR_TEMPERATURE = 17.351
FOCAL_PLANE_TEMPERATURE = 7.9716
INST_CMPRS_NAME = "DISCRETE COSINE TRANSFORMATION (DCT)"
INST_CMPRS_RATIO = 15.2175
INST_CMPRS_QUALITY = 0
INST_CMPRS_QUANTZ_TBL_ID = 0
INSTRUMENT_TEMPERATURE = 11.234
LENS_TEMPERATURE = 8.3794
MACROPIXEL_SIZE = 4
MISSING_FRAMES = 0
PIXEL_SUBSAMPLING_FLAG = N
SIGNAL_CHAIN_ID = 2
/* RADIOMETRIC DATA ELEMENTS */
BANDWIDTH = 81.0
CENTER_FILTER_WAVELENGTH = 955.5
RADIANCE_OFFSET = 1.14627
RADIANCE_SCALING_FACTOR = 0.0035715
REFLECTANCE_SCALING_FACTOR = 0.000373306
MEX:REFLECTANCE_OFFSET = 0.119812
/* IMAGE OBJECT DEFINITIONS */
OBJECT = IMAGE
  INTERCHANGE_FORMAT = BINARY
  LINES = 7865
  LINE_SAMPLES = 2036
  SAMPLE_TYPE = UNSIGNED_INTEGER
  SAMPLE_BITS = 8
  BANDS = 1
  BAND_STORAGE_TYPE = BAND_SEQUENTIAL
  MAXIMUM = 255
  MEAN = 99.9451
  MINIMUM = 1
  STANDARD_DEVIATION = 32.2177
END_OBJECT = IMAGE
/* MAP OBJECT DEFINITIONS */
OBJECT = IMAGE_MAP_PROJECTION
  ^DATA_SET_MAP_PROJECTION_CATALOG= "DSMAP.CAT"
  A_AXIS_RADIUS = 3396.0
  B_AXIS_RADIUS = 3396.0
  C_AXIS_RADIUS = 3396.0
  CENTER_LATITUDE = 0.0
  CENTER_LONGITUDE = 343.0
  COORDINATE_SYSTEM_NAME = PLANETOGRAPHIC
  COORDINATE_SYSTEM_TYPE = "BODY-FIXED ROTATING"
  EASTERNMOST_LONGITUDE = 345.456
  FIRST_STANDARD_PARALLEL = "N/A"
  LINE_FIRST_PIXEL = 1
  LINE_LAST_PIXEL = 7865
  LINE_PROJECTION_OFFSET = -24188.875
  MAP_PROJECTION_ROTATION = 0.0
  MAP_PROJECTION_TYPE = SINUSOIDAL
  MAP_RESOLUTION = 592.713803866667
  MAP_SCALE = 0.1
  MAXIMUM_LATITUDE = -40.8039
  MINIMUM_LATITUDE = -53.9843
  POSITIVE_LONGITUDE_DIRECTION = EAST
  REFERENCE_LATITUDE = "N/A"
  REFERENCE_LONGITUDE = "N/A"
  SAMPLE_FIRST_PIXEL = 1
  SAMPLE_LAST_PIXEL = 2036
  SAMPLE_PROJECTION_OFFSET = 1114.625
  SECOND_STANDARD_PARALLEL = "N/A"
  WESTERNMOST_LONGITUDE = 340.033
END_OBJECT = IMAGE_MAP_PROJECTION
/* The JPEG2000 image data file associated with this label. */
OBJECT = COMPRESSED_FILE
  FILE_NAME = "H8761_0000_IR3.JP2"
  RECORD_TYPE = UNDEFINED
  FILE_RECORDS = UNK
  ENCODING_TYPE = "JP2"
  INTERCHANGE_FORMAT = BINARY
  UNCOMPRESSED_FILE_NAME = "H8761_0000_IR3.IMG"
  REQUIRED_STORAGE_BYTES = "16033500"
  ^DESCRIPTION = "JP2INFO.TXT"
END_OBJECT = COMPRESSED_FILE
END
